Workbook
Name _ftn1: '4'!$B$38
Name _ftn2: '8'!$A$47
Name _ftnref1: '4'!$C$17
Name _ftnref2: '8'!$B$43

Sheet нүүр
AJ1: Сангийн сайдын 2012 оны 77 дугаар тушаалын 3 дугаар хавсралт
B4: Регистрийн дугаар : | R4: 2 | W4: 0 | X4: 5 | Z4: 9 | AD4: 8 | AF4: 4 | AH4: 3
B6: Хаяг :
B8: Шуудангийн хаяг :
B10: Утас : | AE10: Факс :
A12: Өмчийн хэлбэр : | L12: Төрийн 0 хувь | AG12: Хувийн 100 хувь
C14: А
C18: "ЭМ ЭН ДИ" ХК-ийн
I19: 2025 оны 04-р улирлын
I20: санхүүгийн тайлан
C33: Хянаж хүлээн авсан байгууллагын нэр | AC33: Сар, өдөр | AR33: Гарын үсэг

Sheet нүүр№
R1: "ЭМ ЭН ДИ " ХК | AV1: -ний
R3: 2025 | V3: оны санхүүгийн тайлангийн
R5: бодит байдлын тухай мэдэгдэл
R7: 2025 | W7: оны | AB7: 12 | AE7: сарын | AJ7: 31 | AR7: өдөр
A9: Захирал | G9: Намсрай | R9: овогтой | AA9: Отгон-Од | AT9: , ерөнхий нягтлан бодогч
N11: овогтой | AD11: бид манай аж ахуйн нэгжийн | BA11: 2025 | BD11: оны
A13: 12 | F13: сарын | I13: 31 | M13: -ны өдрөөр тасалбар болгон гаргасан санхүүгийн тайланд тайлант хугацааны
A15: үйл ажиллагааны үр дүн, санхүүгийн байдлыг "Нягтлан бодох бүртгэлийн тухай" хуулийн 17.1
A17: дэх заалтын дагуу үнэн зөв, бүрэн тусгасан болохыг баталж байна. Үүнд :
A19: 1. Бүх ажил гүйлгээ бодитоор гаргсан бөгөөд холбогдох анхан шатны баримтыг үндэслэн
A21: нягтлан бодох бүртгэл, санхүүгийн тайланд зөв тусгасан;
A23: 2. Санхүүгийн тайланд тусгагдсан бүх тооцоолол үнэн зөв хийгдсэн;
A25: 3. Аж ахуйн нэгжийн үйл ажиллагааны эдийн засаг, санхүүгийн бүхий л үйл явцыг иж бүрэн
A27: хамарсан;
A29: 4. Тайлант үеийн үр дүнд өмнөх оны ажил гүйлгээнээс шилжин тусгагдаагүй, мөн тайлант
A31: оны ажил гүйлгээнээс орхигдсон зүйл байхгүй;
A33: 5. Бүх хөрөнгө, авлага, өр төлбөр, орлого, зардлыг Санхүүгийн тайлагналыг олон улсын
A35: стандартын дагуу үнэн зөв тусгасан;
A37: 6. Энэ тайланд тусгагдсан бүхий л зүйл манай байгууллагын албан ёсны өмчлөлд байдаг
L41: Захирал .......................... | AQ41: / | AT41: Н.Отгон-Од | BC41: /
L43: Ерөнхий нягтлан бодогч .............................. | AQ43: / | BC43: /

Sheet CT-1
H1: Сангийн сайдын 2012 оны 77 дугаар тушаалын 3 дугаар хавсралт
A2: САНХҮҮГИЙН БАЙДЛЫН ТАЙЛАН
A3: =+нүүр№!R1 -> "ЭМ ЭН ДИ " ХК
A4: ( Аж ахуйн нэгж, байгууллагын нэр )
I5: (төгрөгөөр)
A6: Мөрийн дугаар | D6: Үзүүлэлт | G6: 2024 оны 12-р сарын 31 | I6: 2025 оны 12-р сарын 31
A7: 1 | D7: ХӨРӨНГӨ
A8: 1.1 | D8: Эргэлтийн хөрөнгө
A9: 1.1.1 | D9: Мөнгө, түүнтэй адилтгах хөрөнгө | G9: 19063.75 | I9: 21280.79
A10: 1.1.2 | D10: Дансны авлага | G10: 13630000 | I10: 34680000
A11: 1.1.3 | D11: Татвар, НДШ-ийн авлага | G11: 2606300 | I11: 2546300
A12: 1.1.4 | D12: Бусад авлага
A13: 1.1.5 | D13: Бусад санхүүгийн хөрөнгө
A14: 1.1.6 | D14: Бараа материал
A15: 1.1.7 | D15: Урьдчилж төлсөн зардал/тооцоо | I15: 39667500
A16: 1.1.8 | D16: Бусад эргэлтийн хөрөнгө
A17: 1.1.9 | D17: Борлуулах зорилгоор эзэмшиж буй эргэлтийн бус хөрөнгө (борлуулах бүлэг хөрөнгө)
A18: 1.1.10
A19: 1.1.11 | D19: Эргэлтийн хөрөнгийн дүн | G19: =SUM(G9:G18) -> 16255364 | I19: =SUM(I9:I18) -> 76915081
A20: 1.2 | D20: Эргэлтийн бус хөрөнгө
A21: 1.2.1 | D21: Үндсэн хөрөнгө | G21: 1.4879324e+08 | I21: 1.3391392e+08
A22: 1.2.2 | D22: Биет бус хөрөнгө
A23: 1.2.3 | D23: Биологийн хөрөнгө
A24: 1.2.4 | D24: Урт хугацаат хөрөнгө оруулалт
A25: 1.2.5 | D25: Хайгуул ба үнэлгээний хөрөнгө
A26: 1.2.6 | D26: Хойшлогдсон татварын хөрөнгө
A27: 1.2.7 | D27: Хөрөнгө оруулалтын зориулалттай үл хөдлөх хөрөнгө
A28: 1.2.8 | D28: Бусад эргэлтийн бус хөрөнгө
A29: 1.2.9
A30: 1.2.10 | D30: Эргэлтийн бус хөрөнгийн дүн | G30: =SUM(G20:G29) -> 1.4879324e+08 | I30: =SUM(I20:I29) -> 1.3391392e+08
A31: 1.3 | D31: НИЙТ ХӨРӨНГИЙН ДҮН | G31: =G30+G19 -> 1.6504861e+08 | I31: =I30+I19 -> 2.10829e+08
A32: 2 | D32: ӨР ТӨЛБӨР БА ЭЗДИЙН ӨМЧ
A33: 2.1 | D33: ӨР ТӨЛБӨР
A34: 2.1.1 | D34: Богино хугацаат өр төлбөр
A35: 2.1.1.1 | D35: Дансны өглөг | G35: 3.9524018e+08 | I35: 8.4430578e+08
A36: 2.1.1.2 | D36: Цалингийн өглөг | G36: 3398605.1 | I36: 12752182
A37: 2.1.1.3 | D37: Татварын өглөг | G37: 77033473 | I37: 81356505
A38: 2.1.1.4 | D38: НДШ-ийн өглөг | G38: 12982896 | I38: 22523080
A39: 2.1.1.5 | D39: Богино хугацаат зээл
A40: 2.1.1.6 | D40: Хүүний өглөг
A41: 2.1.1.7 | D41: Ногдол ашгийн өглөг
A42: 2.1.1.8 | D42: Урьдчилж орсон орлого | I42: 50985000
A43: 2.1.1.9 | D43: Нөөц /өр төлбөр/
A44: 2.1.1.10 | D44: Бусад богино хугацаат өр төлбөр
A45: 2.1.1.11 | D45: Борлуулах зорилгоор эзэмшиж буй эргэлтийн бус хөрөнгө (борлуулах бүлэг хөрөнгө)-нд хамаарах өр төлбөр
A46: 2.1.1.13 | D46: Богино хугацаат өр төлбөрийн дүн | G46: =SUM(G35:G45) -> 4.8865516e+08 | I46: =SUM(I35:I45) -> 1.0119226e+09
A47: 2.1.2 | D47: Урт хугацаат өр төлбөр
A48: 2.1.2.1 | D48: Урт хугацаат зээл
A49: 2.1.2.2 | D49: Нөөц /өр төлбөр/
A50: 2.1.2.3 | D50: Хойшлогдсон татварын өр
A51: 2.1.2.4 | D51: Бусад урт хугацаат өр төлбөр
A52: 2.1.2.5
A53: 2.1.2.6 | D53: Урт хугацаат өр төлбөрийн дүн | G53: =SUM(G48:G52) -> 0 | I53: =SUM(I48:I52) -> 0
A54: 2.2 | D54: ӨР ТӨЛБӨРИЙН НИЙТ ДҮН | G54: =G46+G53 -> 4.8865516e+08 | I54: =I46+I53 -> 1.0119226e+09
A55: 2.3 | D55: ЭЗДИЙН ӨМЧ
A56: 2.3.1 | D56: Өмч: а) төрийн
A57: 2.3.2 | D57: б) хувийн | G57: 9736000 | I57: 9736000
A58: 2.3.3 | D58: в) хувьцаат
A59: 2.3.4 | D59: Халаасны хувьцаа
A60: 2.3.5 | D60: Нэмж төлөгдсөн капитал
A61: 2.3.6 | D61: Хөрөнгийн дахин үнэлгээний нэмэгдэл
A62: 2.3.7 | D62: Гадаад валютын хөрвүүлэлтийн нөөц
A63: 2.3.8 | D63: Эздийн өмчийн бусад хэсэг
A64: 2.3.9 | D64: Хуримтлагдсан ашиг | G64: -3.3334255e+08 | I64: -8.1082955e+08
A65: 2.3.10
A66: 2.3.11 | D66: ЭЗДИЙН ӨМЧИЙН ДҮН | G66: =SUM(G56:G65) -> -3.2360655e+08 | I66: =SUM(I56:I65) -> -8.0109355e+08
A67: 2.4 | D67: ӨР ТӨЛБӨР БА ЭЗДИЙН ӨМЧИЙН ДҮН | G67: =G54+G66 -> 1.6504861e+08 | I67: =I54+I66 -> 2.10829e+08
G68: =G67-G31 -> 0 | I68: =I67-I31 -> 0.050000101
B73: Захирал : | F73: ............................................................... | H73: =+нүүр№!AT41 -> Н.Отгон-Од
B75: Ерөнхий нягтлан бодогч : | F75: ...............................................................

Sheet CT-2
A1: ОРЛОГЫН ДЭЛГЭРЭНГҮЙ ТАЙЛАН
A3: =+'CT-1'!A3:D3 -> "ЭМ ЭН ДИ " ХК
A4: ( Аж ахуйн нэгж, байгууллагын нэр )
A6: Мөрийн дугаар | B6: ҮЗҮҮЛЭЛТ | E6: 2025 оны 12-р сарын 31
A7: 1 | B7: Борлуулалтын орлого (цэвэр) | E7: 45454545
A8: 2 | B8: Борлуулалтын өртөг
A9: 3 | B9: Нийт ашиг ( алдагдал ) | E9: =E7-E8 -> 45454545
A10: 4 | B10: Түрээсийн орлого
A11: 5 | B11: Хүүний орлого
A12: 6 | B12: Ногдол ашгийн орлого
A13: 7 | B13: Эрхийн шимтгэлийн орлого
A14: 8 | B14: Бусад орлого
A15: 9 | B15: Борлуулалт, маркетингийн зардал
A16: 10 | B16: Ерөнхий ба удирдлагын зардал | E16: 5.2294155e+08
A17: 11 | B17: Санхүүгийн зардал
A18: 12 | B18: Бусад зардал
A19: 13 | B19: Гадаад валютын ханшийн зөрүүний олз (гарз)
A20: 14 | B20: Үндсэн хөрөнгө данснаас хассаны олз (гарз)
A21: 15 | B21: Биет бус хөрөнгө данснаас хассаны олз (гарз)
A22: 16 | B22: Хөрөнгө оруулалт борлуулснаас үүссэн олз (гарз)
A23: 17 | B23: Бусад ашиг ( алдагдал )
A24: 18 | B24: Татвар төлөхийн өмнөх ашиг ( алдагдал ) | E24: =E9-E16 -> -4.77487e+08
A25: 19 | B25: Орлогын татварын зардал
A26: 20 | B26: Татварын дараах ашиг ( алдагдал ) | E26: =E24-E25 -> -4.77487e+08
A27: 21 | B27: Зогсоосон үйл ажиллагааны татварын дараах ашиг ( алдагдал )
A28: 22 | B28: Тайлант үеийн цэвэр ашиг ( алдагдал ) | E28: =+E26 -> -4.77487e+08
A29: 23 | B29: Бусад дэлгэрэнгүй орлого
B30: Хөрөнгийн дахин үнэлгээний нэмэгдлийн зөрүү
B31: Гадаад валютын хөрвүүлэлтийн зөрүү
B32: Бусад олз (гарз)
A33: 24 | B33: Орлогын нийт дүн
A34: 25 | B34: Нэгж хувьцаанд ногдох суурь ашиг ( алдагдал ) | E34: =+E28 -> -4.77487e+08
B36: Захирал : | C36: ...............................................................
B38: Ерөнхий нягтлан бодогч : | C38: ...............................................................

Sheet CT-3
M1: Сангийн сайдын 2012 оны 77 дугаар тушаалын 3 дугаар хавсралт
A2: ӨМЧИЙН ӨӨРЧЛӨЛТИЙН ТАЙЛАН
A3: =+'CT-1'!A3:D3 -> "ЭМ ЭН ДИ " ХК | N3: 2025 | O3: оны | Q3: 12 | S3: сарын | T3: 31 | U3: өдөр
A4: ( Аж ахуйн нэгж, байгууллагын нэр )
P5: (төгрөгөөр)
A6: № | B6: ҮЗҮҮЛЭЛТ | E6: Өмч | F6: Халаасны хувьцаа | G6: Нэмж төлөгдсөн капитал | I6: Хөрөнгийн дахин үнэлгээний нэмэгдэл | J6: Гадаад валютын хөрвүүлэлтийн нөөц | L6: Эздийн өмчийн бусад хэсэг | M6: Хуримтлагдсан ашиг | R6: Нийт дүн
A7: 1 | B7: 2024 оны 01-р сарын 01-ний үлдэгдэл | E7: 9736000 | M7: -3.3334255e+08 | R7: =E7+M7 -> -3.2360655e+08
A8: 2 | B8: Нягтлан бодох бүртгэлийн бодлогын өөрчлөлтийн нөлөө, алдааны залруулга
A9: 3 | B9: Залруулсан үлдэгдэл | R9: =+E9 -> 0
A10: 4 | B10: Тайлант үеийн цэвэр ашиг (алдагдал) | M10: -4.77487e+08 | R10: =+M10 -> -4.77487e+08
A11: 5 | B11: Бусад дэлгэрэнгүй орлого
A12: 6 | B12: Өмчид гарсан өөрчлөлт
A13: 7 | B13: Зарласан ногдол ашиг
A14: 8 | B14: Дахин үнэлгээний нэмэгдлийн хэрэгжсэн дүн
A15: 9 | B15: 2024 оны 12-р сарын 31-ний үлдэгдэл | E15: =+E7+E9 -> 9736000 | M15: =M7+M10 -> -8.1082955e+08 | R15: =R7+R10+R9 -> -8.0109355e+08
C17: Захирал : | H17: ............................................................... | J17: Н.Отгон-Од | K17: /
C19: Ерөнхий нягтлан бодогч : | H19: ............................................................... | K19: /

Sheet CT-4
A2: МӨНГӨН ГҮЙЛГЭЭНИЙ ТАЙЛАН
A3: =+'CT-1'!A3:D3 -> "ЭМ ЭН ДИ " ХК
A4: ( Аж ахуйн нэгж, байгууллагын нэр )
A8: Мөрийн дугаар | B8: ҮЗҮҮЛЭЛТ | E8: 2025 оны 12-р сарын 31
A9: 1 | B9: Үндсэн үйл ажиллагааны мөнгөн гүйлгээ | E9: =+E10-E17 -> -89334385
A10: 1.1 | B10: Мөнгөн орлогын дүн (+) | E10: =+E11+E16 -> 100985000
B11: Бараа борлуулсан, үйлчилгээ үзүүлсний орлого | E11: 50000000
B12: Эрхийн шимтгэл, хураамж, төлбөрийн орлого
B13: Даатгалын нөхвөрөөс хүлээн авсан мөнгө
B14: Буцаан авсан албан татвар
B15: Татаас, санхүүжилтийн орлого
B16: Бусад мөнгөн орлого | E16: 50985000
A17: 1.2 | B17: Мөнгөн зарлагын дүн (-) | E17: =SUM(E18:E26) -> 1.9031939e+08
B18: Ажиллагчдад төлсөн | E18: 45133605
B19: Нийгмийн даатгалын байгууллагад төлсөн | E19: 7000000
B20: Бараа материал худалдан авахад төлсөн
B21: Ашиглалтын зардалд төлсөн
B22: Түлш шатахуун, тээврийн хөлс, сэлбэг хэрэгсэлд төлсөн | E22: 622728
B23: Хүүний төлбөрт төлсөн
B24: Татварын байгууллагад төлсөн | E24: 5293255.6
B25: Даатгалын төлбөрт төлсөн
B26: Бусад мөнгөн зарлага | E26: 1.322698e+08
A27: 1.3 | B27: Үндсэн үйл ажиллагааны цэвэр мөнгөн гүйлгээний дүн
A28: 2 | B28: Хөрөнгө оруулалтын үйл ажиллагааны мөнгөн гүйлгээ | E28: =E30-E39 -> -64829000
A30: 2.1 | B30: Мөнгөн орлогын дүн (+) | E30: =+E35 -> 7612848
B31: Үндсэн хөрөнгө борлуулсны орлого
B32: Биет бус хөрөнгө борлуулсны орлого
B33: Хөрөнгө оруулалт борлуулсны орлого
B34: Бусад урт хугацаат хөрөнгө борлуулсны орлого
B35: Бусдад олгосон зээл, мөнгөн урьдчилгааны буцаан төлөлт | E35: 7612848
B36: Хүлээн авсан хүүгийн орлого
B37: Хүлээн авсан ноогдол ашиг
A39: 2.2 | B39: Мөнгөн зарлагын дүн (-) | E39: =+E40+E44 -> 72441848
B40: Үндсэн хөрөнгө олж эзэмшихэд төлсөн
B41: Биет бус хөрөнгө олж эзэмшихэд төлсөн
B42: Хөрөнгө оруулалт олж эзэмшихэд төлсөн
B43: Бусад урт хугацаат хөрөнгө олж эзэмшихэд төлсөн
B44: Бусдад олгосон зээл болон урьдчилгаа | E44: 72441848
A46: 2.3 | B46: Хөрөнгө оруулалтын үйл ажиллагааны цэвэр мөнгөн гүйлгээний дүн
A47: 3 | B47: Санхүүгийн үйл ажиллагааны мөнгөн гүйлгээ | E47: =E49-E54 -> 1.541656e+08
A49: 3.1 | B49: Мөнгөн орлогын дүн (+) | E49: =+E50 -> 1.656011e+08
B50: Зээл авсан, өрийн үнэт цаас гаргаснаас хүлээн авсан | E50: 1.656011e+08
B51: Хувьцаа болон өмчийн бусад үнэт цаас гаргаснаас хүлээн авсан
B52: Төрөл бүрийн хандив
A54: 3.2 | B54: Мөнгөн зарлагын дүн (-) | E54: =+E55 -> 11435500
B55: Зээл, өрийн үнэт цаасны төлбөрт төлсөн мөнгө | E55: 11435500
B56: Санхүүгийн түрээсний өглөгт төлсөн
B57: Хувьцаа буцаан худалдаж авахад төлсөн
B58: Төлсөн ногдол ашиг
A60: 3.3 | B60: Санхүүгийн үйл ажиллагааны цэвэр мөнгөн гүйлгээний дүн | E60: =+E9+E47+E28 -> 2217.04
A62: 4 | B62: Бүх цэвэр мөнгөн гүйлгээ | E62: =+E66-E64 -> 2217.04
F63: =+E60-E62 -> -8.3455234e-09
A64: 5 | B64: Мөнгө, түүнтэй адилтгах хөрөнгийн эхний үлдэгдэл | E64: 19063.75
A66: 6 | B66: Мөнгө, түүнтэй адилтгах хөрөнгийн эцсийн үлдэгдэл | E66: =+'CT-1'!I9 -> 21280.79
B70: Захирал | D70: ............................................................... | E70: Н.Отгон-Од
B72: Ерөнхий нягтлан бодогч | D72: ...............................................................

Sheet 1
A1: САНХҮҮГИЙН ТАЙЛАНГИЙН
A2: ТОДРУУЛГА
A4: Эм Эн Ди ХК | H4: 2025 оны 12 сарын 31 өдөр
A5: ( Аж ахуйн нэгжийн нэр )
A7: Үндсэн үйл ажиллагааны чиглэл /төрөл/ :
A9: (а) | B9: Гадаад худалдаа
A10: (б)
A11: (в)
A13: Туслах үйл ажиллагааны чиглэл /төрөл/ :
A15: (а) | B15: Фермерийн аж ахуй | F15: (б) | G15: Түргэн хоолны үйлчилгээ
A16: (в) | B16: Түрээсийн үйлчилгээ
A17: Салбар, төлөөлөгчийн газрын нэр, байршил :
A19: (а)
A20: (б)
A21: (в)
A23: 1. ТАЙЛАН БЭЛТГЭХ ҮНДЭСЛЭЛ
A39: 2. НЯГТЛАН БОДОХ БҮРТГЭЛИЙН БОДЛОГЫН ӨӨРЧЛӨЛТ
A41: НББ-ийн мөнгөн сууриар, МУ-н мөнгөн тэмдэгт төгрөг-мөнгөөр, хөрөнгө өр төлбөрийг
A42: НББОУС-ийн дагуу. Гадаад валютаар хийгдсэн орлого, зарлага, өр төлбөр, авлагын
A43: үлдэгдэлийг тухайн үеийг Монгол банкны ханшаар тусгана.

Sheet 2
A1: 3. МӨНГӨ, ТҮҮНТЭЙ АДИЛТГАХ ХӨРӨНГӨ
A3: № | B3: Мөнгөн хөрөнгийн зүйлс | C3: Эхний үлдэгдэл | E3: Эцсийн үлдэгдэл
A4: 1 | B4: Касс дахь мөнгө | C4: =+#REF! -> #REF! | E4: =+#REF! -> #REF!
A5: 2 | B5: Банкин дахь мөнгө | C5: =+#REF! -> #REF! | E5: =+#REF! -> #REF!
A6: 3 | B6: Мөнгөтэй адилтгах хөрөнгө
A7: 4 | B7: Нийт дүн | C7: =SUM(C4:D6) -> #REF! | E7: =SUM(E4:F6) -> #REF!
A9: Тэмдэглэл. (Мөнгө, түүнтэй адилтгах хөрөнгөтэй холбоотой тайлбар, тэмдэглэлийг хийнэ).
A13: 4. ДАНСНЫ БОЛОН БУСАД АВЛАГА
A15: 4.1 Дансны авлага
A17: № | B17: Үзүүлэлт | C17: Дансны авлага | E17: Найдваргүй авлагын хасагдуулга | F17: Дансны авлага (цэвэр дүнгээр)
A18: 1 | B18: Эхний үлдэгдэл | C18: =+#REF!+#REF!+#REF!+#REF!+#REF!+#REF! -> #REF! | F18: =+C18 -> #REF!
A19: 2 | B19: Нэмэгдсэн | C19: =+#REF!+#REF!+#REF!+#REF! -> #REF! | F19: =+C19 -> #REF!
A20: 3 | B20: Хасагдсан (-):
B21: -Төлөгдсөн | C21: =+#REF!+#REF!+#REF!+#REF!+#REF!+#REF! -> #REF! | F21: =+C21 -> #REF!
B22: - Найдваргүй болсон
A23: 4 | B23: Эцсийн үлдэгдэл | C23: =+C18+C19-C21 -> #REF! | F23: =+F18+F19-F21 -> #REF!
A25: 4.2 Татвар, нийгмийн даатгалын шимтгэл (НДШ) - ийн авлага
A27: № | B27: Төрөл | C27: Эхний үлдэгдэл | E27: Эцсийн үлдэгдэл
A28: 1 | B28: ААНОАТ-ын авлага | C28: =+#REF! -> #REF!
A29: 2 | B29: НӨАТ-ын авлага
A30: 3 | B30: НДШ – ийн авлага
A31: 4 | B31: АТӨЯХАТатвар авлага | C31: =+#REF! -> #REF! | E31: 2546300
A32: 5 | B32: Нийт дүн | C32: =+C28+C31 -> #REF! | E32: =+E28+E31 -> 2546300
A34: 4.3 Бусад богино хугацаат авлага (төрлөөр нь ангилна)
A36: № | B36: Төрөл | C36: Эхний үлдэгдэл | E36: Эцсийн үлдэгдэл
A37: 1 | B37: Холбоотой талаас авах авлага (эргэлтийн хөрөнгөнд хамаарах дүн)
A38: 2 | B38: Ажиллагчдаас авах авлага
A39: 3 | B39: Ногдол ашгийн авлага
A40: 4 | B40: Хүүний авлага
A41: 5 | B41: Богино хугацаат авлагын бичиг
A42: 6 | B42: Бусад талуудаас авах авлага
A43: 7
A44: 8 | B44: Нийт дүн
A46: Тэмдэглэл. (Дансны авлагыг төлөгдөх хугацаандаа байгаа, хугацаа хэтэрсэн, төлөгдөх найдваргүй гэж ангилна. Найдваргүй авлагын хасагдуулга байгуулсан арга, гадаад валютаар илэрхийлэгдсэн авлагын талаар болон бусад тайлбар, тэмдэглэлийг хийнэ).

Sheet 3
A1: 5. БУСАД САНХҮҮГИЙН ХӨРӨНГӨ
A3: № | B3: Төрөл | G3: Эхний үлдэгдэл | I3: Эцсийн үлдэгдэл
A4: 1
A5: 2
A6: 3 | B6: Нийт дүн
A8: 6. БАРАА МАТЕРИАЛ
A10: № | B10: Үзүүлэлт | D10: Бараа материалын төрөл | J10: Нийт дүн
D12: Түүхий эд материал | E12: Дуусаагүй үйлдвэрлэл | F12: Бэлэн бүтээгдэхүүн | G12: Бараа | H12: Хангамжийн материал
A13: 1 | B13: Эхний үлдэгдэл (өртгөөр) | G13: =+#REF! -> #REF! | J13: =+G13 -> #REF!
A14: 2 | B14: Нэмэгдсэн дүн | G14: =+#REF! -> #REF! | J14: =+G14 -> #REF!
A15: 3 | B15: Хасагдсан дүн (-) | G15: =+#REF! -> #REF! | J15: =+G15 -> #REF!
A16: 4 | B16: Эцсийн үлдэгдэл (өртгөөр) | G16: =G13+G14-G15 -> #REF! | J16: =+G16 -> #REF!
A17: 5 | B17: Үнийн бууралтын гарз (-) | J17: =+G17 -> 0
A18: 6 | B18: Үнийн бууралтын буцаалт | J18: =+G18 -> 0
A19: 7 | B19: Дансны цэвэр дүн*: | G19: =G13+G14 -> #REF! | J19: =+G19 -> #REF!
A20: 7.1 | B20: Эхний үлдэгдэл | G20: =+G13 -> #REF! | J20: =+G20 -> #REF!
A21: 7.2 | B21: Эцсийн үлдэгдэл | G21: =G19 -> #REF! | J21: =+G21 -> #REF!
A23: *Дансны цэвэр дүнгийн эхний, эцсийн үлдэгдлийн нийт дүн нь санхүүгийн байдлын тайлан дахь бараа материалын дансны эхний, эцсийн үлдэгдлийн дүнтэй тэнцүү байна.
A25: Тэмдэглэл. (Бараа материалын өртгийг тодорхойлоход ашигласан арга, бараа материалын бүртгэлийн систем, өртөг болон цэвэр боломжит үнийн аль багыг сонгох аргын талаар тайлбар, тэмдэглэл хийнэ).
A31: 7. БОРЛУУЛАХ ЗОРИЛГООР ЭЗЭМШИЖ БУЙ ЭРГЭЛТИЙН БУС ХӨРӨНГӨ (ЭСВЭЛ БОРЛУУЛАХ БҮЛЭГ ХӨРӨНГӨ) БОЛОН ӨР ТӨЛБӨР
A33: Тэмдэглэл. (Борлуулах зорилгоор эзэмшиж буй эргэлтийн бус хөрөнгө (эсвэл борлуулах бүлэг хөрөнгө) болон өр төлбөрийн тодорхойлолт, хэмжилтийн суурь, борлуулалт хийгдсэн аль эсвэл хийгдэхэд хүргэсэн нөхцөл байдал, борлуулах арга, хугацаа, хүлээн зөвшөөрсөн олз ба гарз болон бусад тайлбар, тэмдэглэлийг хийнэ).
A40: 8. УРЬДЧИЛЖ ТӨЛСӨН ЗАРДАЛ/ТООЦОО
A42: № | B42: Төрөл | G42: Эхний үлдэгдэл | I42: Эцсийн үлдэгдэл
A43: 1 | B43: Урьдчилж төлсөн зардал | I43: =+#REF! -> #REF!
A44: 2 | B44: Урьдчилж төлсөн түрээс, даатгал
A45: 3 | B45: Бэлтгэн нийлүүлэгчдэд төлсөн урьдчилгаа төлбөр
A46: 4
A47: 5 | B47: Нийт дүн | G47: =SUM(G43:G46) -> 0 | I47: =SUM(I43:I46) -> #REF!

Sheet 4
B1: 9. ҮНДСЭН ХӨРӨНГӨ
B3: № | C3: Үзүүлэлт | D3: Газрын сайжруулалт | E3: Барилга, байгууламж | F3: Машин, тоног төхөөрөмж | G3: Тээврийн хэрэгсэл | H3: Тавилга эд хогшил | I3: Компьютер, бусад хэрэгсэл | J3: Бусад үндсэн хөрөнгө | K3: Нийт дүн
B4: 1 | C4: ҮНДСЭН ХӨРӨНГӨ /ӨРТӨГ/ | E4: =+E5 -> 0 | K4: =+K5 -> 1.8190191e+08
B5: 1.1 | C5: Эхний үлдэгдэл | I5: 3747363.6 | J5: 1.7815455e+08 | K5: =SUM(D5:J5) -> 1.8190191e+08
B6: 1.2 | C6: Нэмэгдсэн дүн | K6: =SUM(D6:J6) -> 0
C7: Өөрөө үйлдвэрлэсэн | K7: =SUM(D7:J7) -> 0
C8: Худалдаж авсан | K8: =SUM(D8:J8) -> 0
C9: Үнэ төлбөргүй авсан | K9: =SUM(D9:J9) -> 0
C10: Дахин үнэлгээний нэмэгдэл | K10: =SUM(D10:J10) -> 0
B11: 1.3 | C11: Хасагдсан дүн (-) | K11: =SUM(D11:J11) -> 0
C12: Худалдсан | K12: =SUM(D12:J12) -> 0
C13: Үнэгүй шилжүүлсэн | K13: =SUM(D13:J13) -> 0
C14: Акталсан | K14: =SUM(D14:J14) -> 0
K15: =SUM(D15:J15) -> 0
B16: 1.4 | C16: Үндсэн хөрөнгө дахин ангилсан | K16: =SUM(D16:J16) -> 0
B17: 1.5 | C17: Үндсэн хөрөнгө, ХОЗҮХХ[1] хооронд дахин ангилсан | K17: =SUM(D17:J17) -> 0
B18: 1.6 | C18: Эцсийн үлдэгдэл | D18: =SUM(D5:D17) -> 0 | E18: =SUM(E5:E17) -> 0 | F18: =SUM(F5:F17) -> 0 | G18: =SUM(G5:G17) -> 0 | H18: =SUM(H5:H17) -> 0 | I18: =SUM(I5:I17) -> 3747363.6 | J18: =SUM(J5:J17) -> 1.7815455e+08 | K18: =SUM(D18:J18) -> 1.8190191e+08
B19: 2 | C19: ХУРИМТЛАГДСАН ЭЛЭГДЭЛ | D19: =+D20+D21 -> 0 | E19: =+E20+E21 -> 0 | I19: =+I20+I21 -> 1296596 | J19: =+J20+J21 -> 46691395 | K19: =SUM(D19:J19) -> 47987991
B20: 2.1 | C20: Эхний үлдэгдэл | I20: =972447 -> 972447 | J20: =32136219.7 -> 32136220 | K20: =SUM(D20:J20) -> 33108667
B21: 2.2 | C21: Нэмэгдсэн дүн | D21: =+D22 -> 0 | E21: =+E22 -> 0 | F21: =+F22 -> 0 | G21: =+G22 -> 0 | H21: =+H22 -> 0 | I21: =+I22 -> 324149 | J21: =+J22 -> 14555175 | K21: =SUM(D21:J21) -> 14879324
C22: Байгуулсан элэгдэл | I22: 324149 | J22: =14555175.24-3954493.4+3951493.36+3000 -> 14555175 | K22: =SUM(D22:J22) -> 14879324
C23: Дахин үнэлгээгээр нэмэгдсэн | K23: =SUM(D23:J23) -> 0
C24: Үнэ цэнийн бууралтын буцаалт | K24: =SUM(D24:J24) -> 0
B25: 2.3 | C25: Хасагдсан дүн | K25: =SUM(D25:J25) -> 0
C26: Данснаас хассан хөрөнгийн элэгдэл | K26: =SUM(D26:J26) -> 0
C27: Дахин үнэлгээгээр хасагдсан | K27: =SUM(D27:J27) -> 0
C28: Үнэ цэнийн бууралт | K28: =SUM(D28:J28) -> 0
B29: 2.4 | C29: Эцсийн үлдэгдэл | D29: =+D20+D21 -> 0 | E29: =+E20+E21 -> 0 | F29: =F18-F19 -> 0 | G29: =G18-G19 -> 0 | H29: =H18-H19 -> 0 | I29: =I18-I19 -> 2450767.6 | J29: =J18-J19 -> 1.3146315e+08 | K29: =SUM(D29:J29) -> 1.3391392e+08
B30: 3 | C30: ДАНСНЫ ЦЭВЭР ДҮН | K30: =SUM(D30:J30) -> 0
B31: 3.1 | C31: Эхний үлдэгдэл (1.1 - 2.1) | E31: =+E5 -> 0 | F31: =+F5 -> 0 | G31: =+G5 -> 0 | H31: =+H5 -> 0 | I31: =+I5 -> 3747363.6 | J31: =+J5 -> 1.7815455e+08 | K31: =SUM(D31:J31) -> 1.8190191e+08
B32: 3.2 | C32: Эцсийн үлдэгдэл (1.6 - 2.4) | E32: =+E31-E19 -> 0 | F32: =F29 -> 0 | G32: =G29 -> 0 | H32: =H29 -> 0 | I32: =I29 -> 2450767.6 | J32: =J29 -> 1.3146315e+08 | K32: =K29 -> 1.3391392e+08
B33: Тэмдэглэл. (Үндсэн хөрөнгийн анги бүрийн хувьд ашигласан хэмжилтийн суурь; элэгдэл тооцох арга; ашиглалтын хугацаа; дахин үнэлсэн бол дахин үнэлгээ хүчинтэй болсон хугацаа, хараат бус үнэлгээчин үнэлсэн эсэх талаар; үндсэн хөрөнгийн дахин ангилал, түүний шалтгаан; бусад тайлбар тэмдэглэлийг хийнэ).
B38: [1] Хөрөнгө оруулалтын зориулалттай үл хөдлөх хөрөнгө.

Sheet 5
A1: 10. Биет бус хөрөнгө
A3: № | B3: Үзүүлэлт | C3: Зохиогчийн эрх | D3: Компьютерийн программ хангамж | E3: Патент | F3: Барааны тэмдэг | G3: Тусгай зөвшөөрөл | H3: Газар эзэмших эрх | I3: Бусад биет бус хөрөнгө | J3: Нийт дүн
A4: 1 | B4: БИЕТ БУС ХӨРӨНГӨ /ӨРТӨГ/
A5: 1.1 | B5: Эхний үлдэгдэл
A6: 1.2 | B6: Нэмэгдсэн дүн
B7: Өөрөө үйлдвэрлэсэн
B8: Худалдаж авсан
B9: Үнэ төлбөргүй авсан
B10: Дахин үнэлгээний нэмэгдэл
A11: 1.3 | B11: Хасагдсан дүн (-)
B12: Худалдсан
B13: Үнэгүй шилжүүлсэн
B14: Акталсан
A16: 1.4 | B16: Эцсийн үлдэгдэл
A17: 2 | B17: ХУРИМТЛАГДСАН ХОРОГДОЛ
A18: 2.1 | B18: Эхний үлдэгдэл
A19: 2.2 | B19: Нэмэгдсэн дүн
B20: Байгуулсан хорогдол
B21: Дахин үнэлгээгээр нэмэгдсэн
B22: Үнэ цэнийн бууралтын буцаалт
A23: 2.3 | B23: Хасагдсан:
B24: Данснаас хассан хөрөнгийн хорогдол
B25: Дахин үнэлгээгээр хасагдсан
B26: Үнэ цэнийн бууралт
A27: 2.4 | B27: Эцсийн үлдэгдэл
A28: 3 | B28: ДАНСНЫ ЦЭВЭР ДҮН
A29: 3.1 | B29: Эхний үлдэгдэл (1.1 - 2.1)
A30: 3.2 | B30: Эцсийн үлдэгдэл (1.4 - 2.4)
A31: 1.
A32: Тэмдэглэл. (Биет бус хөрөнгийн анги бүрийн хувьд ашигласан хэмжилтийн суурь, хорогдол тооцох арга, ашиглалтын хугацаа, дахин үнэлсэн бол дахин үнэлгээ хүчинтэй болсон хугацаа, хараат бус үнэлгээчин үнэлсэн эсэх, бусад биет бус хөрөнгийн бүрэлдэхүүн болон бусад тайлбар тэмдэглэлийг хийнэ).

Sheet 6
A1: 11. Дуусаагүй барилга
A3: № | B3: Дуусаагүй барилгын нэр | C3: Эхэлсэн он | D3: Дуусгалтын хувь | E3: Нийт төсөвт өртөг | F3: Ашиглалтанд орох эцсийн хугацаа
A4: 1
A5: 2
A6: 3 | B6: Нийт дүн
A8: 12. БИОЛОГИЙН ХӨРӨНГӨ
A10: № | B10: Биологийн хөрөнгийн төрөл | C10: Эхний үлдэгдэл | E10: Эцсийн үлдэгдэл
C11: тоо | D11: дансны үнэ | E11: тоо | F11: дансны үнэ
A12: 1
A13: 2 | B13: Нийт дүн
A15: Тэмдэглэл. (Биологийн хөрөнгийн хэмжилтийн суурь болон бусад тайлбар, тэмдэглэлийг хийнэ).
A21: 3. УРТ ХУГАЦААТ ХӨРӨНГӨ ОРУУЛАЛТ
A23: № | B23: Хөрөнгө оруулалтын төрөл | C23: Эхний үлдэгдэл | E23: Эцсийн үлдэгдэл
C24: Хөрөнгө оруулалтын хувь | D24: Хөрөнгө оруулалтын дүн | E24: Хөрөнгө оруулалтын хувь | F24: Хөрөнгө оруулалтын дүн
A25: 1
A26: 2
A27: 3
A28: 4 | B28: Нийт дүн
A30: Тэмдэглэл. ( Урт хугацаат хөрөнгө оруулалттай холбоотой бий болсон олз, гарзын дүн, бүртгэсэн аргыг тодруулна. Охин компани, хамтын хяналттай аж ахуйн нэгж, хараат компанид оруулсан хөрөнгө оруулалтыг НББОУС 27 Нэгтгэсэн болон тусдаа санхүүгийн тайлан – ийн дагуу тодруулна).
A35: 14. ХӨРӨНГӨ ОРУУЛАЛТЫН ЗОРИУЛАЛТТАЙ ҮЛ ХӨДЛӨХ ХӨРӨНГӨ
A37: Тэмдэглэл. (Хөрөнгө оруулалтын зориулалттай үл хөдлөх хөрөнгийн хувьд ашигласан хэмжилтийн суурь; бодит үнэ цэнийн загвар ашигладаг бол бодит үнэ цэнийг тодорхойлоход ашигласан арга, бодит үнэ цэнийн тохируулгаас үүссэн олз, гарз; хэрэв түрээслэдэг бол түрээсийн орлого, түрээслэсэн хөрөнгөтэй холбоотой гарсан зардлууд. Хэрэв өртгийн загвар ашигладаг бол хөрөнгийн ашиглалтын хугацаа, элэгдэл тооцох арга болон НББОУС 40 Хөрөнгө оруулалтын зориулалттай үл хөдлөх хөрөнгө – д заасны дагуу бусад тодруулгыг хийнэ).

Sheet 7
A1: 15. БУСАД ЭРГЭЛТИЙН БУС ХӨРӨНГӨ
A3: № | B3: Төрөл | G3: Эхний үлдэгдэл | I3: Эцсийн үлдэгдэл
A4: 1
A5: 2
A6: 3 | B6: Нийт дүн
A8: Тэмдэглэл. ( Бусад эргэлтийн бус хөрөнгийн төрөл тус бүрээр тайлбар, тэмдэглэлийг хийнэ. Урт хугацаат авлагыг тодруулна).
A12: 16. ӨР ТӨЛБӨР
A13: 16.1 Дансны өглөг
A15: № | B15: Ангилал | G15: Эхний үлдэгдэл | I15: Эцсийн үлдэгдэл
A16: 1 | B16: - Төлөгдөх хугацаандаа байгаа | G16: =+#REF!+#REF!+#REF! -> #REF! | I16: =+#REF!+#REF!+#REF!+#REF! -> #REF!
A17: 2 | B17: - Хугацаа хэтэрсэн
A18: 3
A19: 4 | B19: Нийт дүн | G19: =SUM(G16:G18) -> #REF! | I19: =SUM(I16:I18) -> #REF!
A21: 16.2 Татварын өр
A23: № | B23: Татварын өрийн төрөл | G23: Эхний үлдэгдэл | I23: Эцсийн үлдэгдэл
A24: 1 | B24: ААНОАТ өр | I24: =+#REF! -> #REF!
A25: 2 | B25: НӨАТ-ын өр | I25: =+#REF! -> #REF!
A26: 3 | B26: ХХОАТ-ын өр | I26: =+#REF! -> #REF!
A27: 4 | B27: ОАТ-ын өр
A28: 5 | B28: Бусад татварын өр | I28: =+G28 -> 0
A29: 6
A30: 7 | B30: Нийт дүн | I30: =SUM(I24:I29) -> #REF!
A32: 16.3 Богино хугацаат зээл
A34: № | B34: Үзүүлэлт | G34: Эхний үлдэгдэл | I34: Эцсийн үлдэгдэл
G35: төгрөгөөр | H35: валютаар | I35: төгрөгөөр | J35: валютаар
A36: 1 | B36: - Төлөгдөх хугацаандаа байгаа
A37: 2 | B37: - Хугацаа хэтэрсэн
A38: 3
A39: 4 | B39: Нийт дүн
A41: 16.4 Богино хугацаат нөөц (өр төлбөр)
A43: № | B43: Нөөцийн төрөл | E43: Эхний үлдэгдэл | G43: Нэмэгдсэн | H43: Хасагдсан (ашигласан нөөц) (-) | I43: Ашиглаагүй буцаан бичсэн дүн | J43: Эцсийн үлдэгдэл
A44: 1 | B44: Баталгаат засварын
A45: 2 | B45: Нөхөн сэргээлтийн
A46: 3
A47: 4 | B47: Нийт дүн
A49: Тэмдэглэл. (Урт хугацаат нөөцийн дүнг тодруулна. Нөөцийн төрлөөр тайлбар, тэмдэглэл хийнэ).

Sheet 8
A1: 16.5 Бусад богино хугацаат өр төлбөр
A3: № | B3: Төрөл | G3: Эхний үлдэгдэл | I3: Эцсийн үлдэгдэл
A4: 1
A5: 2 | B5: Нийт
A6: Тэмдэглэл. (Гадаад валютаар илэрхийлэгдсэн богино хугацаат өр төлбөрийн дүнг тусад нь тодруулна).
A10: 16.6 Урт хугацаат зээл болон бусад урт хугацаат өр төлбөр
A11: № | B11: Төрөл | G11: Эхний үлдэгдэл | I11: Эцсийн үлдэгдэл
G12: төгрөгөөр | H12: валютаар | I12: төгрөгөөр | J12: валютаар
A13: 1 | B13: Урт хугацаат зээлийн дүн
B14: Гадаадын байгууллагаас шууд авсан зээл
B15: Гадаадын байгууллагаас дамжуулан авсан зээл
B16: Дотоодын эх үүсвэрээс авсан зээл
A17: 2 | B17: Бусад урт хугацаат өр төлбөрийн дүн (гадаад, дотоодын зах зээлд гаргасан бонд, өрийн бичиг
A18: 3
A19: Тэмдэглэл. (Урт хугацаат зээл болон бусад урт хугацаат өр төлбөрийн төрлөөр тайлбар, тэмдэглэл хийнэ).
A24: 17. ЭЗДИЙН ӨМЧ
A26: 17.1 Өмч
A27: № | B27: Үзүүлэлт | E27: Эргэлтэнд байгаа бүрэн төлөгдсөн энгийн хувьцаа | G27: Давуу эрхтэй хувьцаа | I27: Өмчийн дүн (төгрөгөөр)
E28: Тоо ширхэг | F28: Дүн (төгрөгөөр) | G28: Тоо ширхэг | H28: Дүн (төгрөгөөр)
A29: 1 | B29: Эхний үлдэгдэл | F29: 9736000 | I29: =+F29 -> 9736000
A30: 2 | B30: Нэмэгдсэн
A31: 3 | B31: Хасагдсан (-)
A32: 4 | B32: Эцсийн үлдэгдэл | F32: =SUM(F29:F31) -> 9736000 | I32: =+F32 -> 9736000
A34: 17.2 Хөрөнгийн дахин үнэлгээний нэмэгдэл
A35: № | B35: Үзүүлэлт | H35: Үндсэн хөрөнгийн дахин үнэлгээний нэмэгдэл | I35: Биет бус хөрөнгийн дахин үнэлгээний нэмэгдэл | J35: Нийт дүн
A36: 1 | B36: Эхний үлдэгдэл
A37: 2 | B37: Нэмэгдсэн дүн
B38: Дахин үнэлгээний нэмэгдлийн зөрүү
B39: Дахин үнэлсэн хөрөнгийн үнэ цэнийн бууралтын гарзын буцаалт[1]
A40: 3 | B40: Хасагдсан дүн (-)
B41: Дахин үнэлгээний нэмэгдлийн зөрүү
B42: Дахин үнэлгээний нэмэгдлийн хэрэгжсэн дүн
B43: Дахин үнэлсэн хөрөнгийн үнэ цэнийн бууралтын гарз[2]
A44: 4 | B44: Эцсийн үлдэгдэл
A46: [1] Дахин үнэлсэн хөрөнгийн өмнөх тайлант хугацаанд ашиг, алдагдлаар хүлээн зөвшөөрсөн үнэ цэнийн бууралтын гарзын дүнгээс хэтэрсэн дүн.
A47: [2] Дахин үнэлсэн хөрөнгийн үнэ цэнийн бууралтын гарз нь тухайн хөрөнгийн дахин үнэлгээний нэмэгдлийн дүнгээс хэтрэхгүй хэмжээ хүртэл байхаар дахин үнэлсэн хөрөнгийн үнэ цэнийн бууралтын гарзыг бусад дэлгэрэнгүй орлогод хүлээн зөвшөөрнө. Үлдсэн дүнг ашиг, алдагдлаар хүлээн зөвшөөрнө.

Sheet 9
A1: 17.3 Гадаад валютын хөрвүүлэлтийн нөөц
A3: № | B3: Үзүүлэлт | G3: Эхний үлдэгдэл | H3: Нэмэгдсэн | I3: Хасагдсан (-) | J3: Эцсийн үлдэгдэл
A4: 1 | B4: Гадаад үйл ажиллагааны хөрвүүлэлтээс үүссэн зөрүү
A5: 2 | B5: Бүртгэлийн валютыг толилуулгын валют руу хөрвүүлснээс үүссэн зөрүү
A6: 3 | B6: Бусад
A7: 4 | B7: Нийт дүн
A9: 17.4 Эздийн өмчийн бусад хэсэг
A11: Тэмдэглэл. (Эздийн өмчийн бусад хэсгийн бүрэлдэхүүн тус бүрээр тодруулж тайлбар, тэмдэглэл хийнэ).
A16: 18. БОРЛУУЛАЛТЫН ОРЛОГО БОЛОН БОРЛУУЛАЛТЫН ӨРТӨГ
A18: № | B18: Үзүүлэлт | G18: Өмнөх оны дүн | I18: Тайлант оны дүн
A19: 1 | B19: Борлуулалтын орлого: | I19: =+'CT-2'!E7 -> 45454545
A20: 1.1 | B20: Бараа, бүтээгдэхүүн борлуулсны орлого: | I20: =+'CT-2'!E7 -> 45454545
A21: 1.2 | B21: Ажил, үйлчилгээ борлуулсны орлого:
A22: 1.3 | B22: Нийт борлуулалтын орлого
A23: 2 | B23: Борлуулалтын буцаалт, хөнгөлөлт, үнийн бууралт (-)
A24: 3 | B24: Цэвэр борлуулалт | I24: =+I20 -> 45454545
A25: 4 | B25: Борлуулалтын өртөг: | I25: =+I26 -> #REF!
A26: 4.1 | B26: Борлуулсан бараа, бүтээгдэхүүний өртөг | I26: =+#REF! -> #REF!
A27: 4.2 | B27: Борлуулсан ажил, үйлчилгээний өртөг
A28: 4.3 | B28: Нийт борлуулалтын өртөг
A30: 19. БУСАД ОРЛОГО, ОЛЗ (ГАРЗ), АШИГ (АЛДАГДАЛ)
A31: 19.1 Бусад орлого
A33: № | B33: Орлогын төрөл | G33: Өмнөх оны дүн | I33: Тайлант оны дүн
A34: 1
A35: 2
A36: 3 | B36: Нийт дүн
A37: 19.2 Гадаад валютын ханшийн зөрүүний олз, гарз
A39: № | B39: Төрөл | G39: Өмнөх оны дүн | I39: Тайлант оны дүн
A40: 1 | B40: Мөнгөн хөрөнгийн үлдэгдэлд хийсэн ханшийн тэгшитгэлийн ханшийн зөрүү
A41: 2 | B41: Эргэлтийн авлага, өр төлбөртэй холбоотой үүссэн ханшийн зөрүү
A42: 3 | B42: Эргэлтийн бус авлага, өр төлбөртэй холбоотой үүссэн ханшийн зөрүү
A43: 4 | B43: Валютын арилжаанаас үүссэн олз/гарз
A44: 5 | B44: Нийт дүн
A46: 19.3 Бусад ашиг (алдагдал)
A48: № | B48: Ашиг (алдагдал) | G48: Өмнөх оны дүн | I48: Тайлант оны дүн
A49: 1 | B49: Хөрөнгийн үнэ цэнийн бууралтын гарз
A50: 2 | B50: ХОЗҮХХ[1]-ийн бодит үнэ цэнийн өөрчлөлтийн олз, гарз
A51: 3 | B51: ХОЗҮХХ данснаас хассаны олз, гарз
A52: 4 | B52: Хөрөнгийн дахин үнэлгээний олз, гарз
A53: 5 | B53: Хөрөнгийн үнэ цэнийн бууралтын гарз (гарзын буцаалт)
A54: 6
A55: 7 | B55: Нийт дүн
A57: [1] Хөрөнгө оруулалтын зориулалттай үл хөдлөх хөрөнгө.

Sheet 10
A1: 20. ЗАРДАЛ
A3: 20.1 Борлуулалт маркетингийн болон ерөнхий ба удирдлагын зардлууд
A4: № | B4: Зардлын төрөл | G4: Өмнөх оны дүн | I4: Тайлант оны дүн
G5: БорМар | H5: ЕрУд | I5: БорМар | J5: ЕрУд
A6: 1 | B6: Ажиллагчдын цалингийн зардал | J6: =+#REF! -> #REF!
A7: 2 | B7: Аж ахуйн нэгжээс төлсөн НДШ-ийн зардал | J7: =+#REF! -> #REF!
A8: 3 | B8: Албан татвар, төлбөр, хураамжийн зардал
A9: 4 | B9: Томилолтын зардал
A10: 5 | B10: Бичиг хэргийн зардал | J10: =+#REF! -> #REF!
A11: 6 | B11: Шуудан холбооны зардал
A12: 7 | B12: Мэргэжлийн үйлчилгээний зардал
A13: 8 | B13: Сургалтын зардал
A14: 9 | B14: Сонин сэтгүүл захиалгын зардал
A15: 10 | B15: Даатгалын зардал
A16: 11 | B16: Ашиглалтын зардал | J16: =+#REF! -> #REF!
A17: 12 | B17: Засварын зардал | J17: =+#REF! -> #REF!
A18: 13 | B18: Элэгдэл, хорогдлын зардал | J18: =+#REF! -> #REF!
A19: 14 | B19: Түрээсийн зардал | J19: =+#REF! -> #REF!
A20: 15 | B20: Харуул хамгааллын зардал
A21: 16 | B21: Цэвэрлэгээ үйлчилгээний зардал
A22: 17 | B22: Тээврийн зардал | J22: =+#REF! -> #REF!
A23: 18 | B23: Шатахууны зардал | J23: =+#REF! -> #REF!
A24: 19 | B24: Хүлээн авалтын зардал
A25: 20 | B25: Зар сурталчилгааны зардал
A26: 21
A27: 22 | B27: Бусад зардал | J27: =+#REF!+#REF!+#REF!+#REF!+#REF! -> #REF!
A28: 23 | B28: Нийт дүн | H28: =SUM(H6:H27) -> 0 | I28: =SUM(I6:I27) -> 0 | J28: =SUM(J6:J27) -> #REF!
A30: 20.2 Бусад зардал
A32: № | B32: Зардлын төрөл | G32: Өмнөх оны дүн | I32: Тайлант оны дүн
A33: 1 | B33: Алданги, торгуулийн зардал
A34: 2 | B34: Хандивийн зардал
A35: 3 | B35: Найдваргүй авлагын зардал
A36: 4
A37: 5 | B37: Нийт дүн
A39: 20.3 Цалингийн зардал
A41: Ангилал | E41: Ажиллагчдын дундаж тоо | G41: Цалингийн зардлын дүн
G42: Өмнөх оны дүн | I42: Тайлант оны дүн
A43: Үйлдвэрлэл, үйлчилгээний
A45: Борлуулалт маркетингийн
A47: Ерөнхий ба удирдлагын | E47: 1 | I47: =+J6 -> #REF!
A49: Нийт дүн

Sheet 11
A1: 21. ОРЛОГЫН ТАТВАРЫН ЗАРДАЛ
A3: № | B3: Үзүүлэлт | G3: Өмнөх оны дүн | I3: Тайлант оны дүн
A4: 1 | B4: Тайлант үеийн орлогын татварын зардал | G4: 15998257 | I4: =+'CT-2'!E25 -> 0
A5: 2 | B5: Хойшлогдсон татварын зардал (орлого)
A6: 3 | B6: Орлогын татварын зардал (орлого) – ын нийт дүн | G6: =+G4 -> 15998257 | I6: =+I4 -> 0
A8: Тэмдэглэл. (Орлогын татварын зардал (орлого) - ын бүрэлдэхүүн тус бүрээр тайлбар, тэмдэглэл хийнэ).
A15: 22. ХОЛБООТОЙ ТАЛУУДЫН ТОДРУУЛГА
A17: 22.1 Толгой компани, хамгийн дээд хяналт тавигч компани, хувь хүний талаарх мэдээлэл[1]
A19: Үзүүлэлт | C19: Толгой компани | E19: Хамгийн дээд хяналт тавигч толгой компани | G19: Хамгийн дээд хяналт тавигч хувь хүн | I19: Тайлбар
A20: Нэр
A21: Бүртгэгдсэн (оршин суугаа) улс
A22: Эзэмшлийн хувь
A24: 22.2 Тэргүүлэх удирдлагын бүрэлдэхүүнд олгосон нөхөн олговрын тухай мэдээлэл
A25: Тэргүүлэх удирдлага гэдэгт ......................................................... бүрэлдэхүүнийг хамруулав.[2]
A27: № | B27: Нөхөн олговрын нэр | G27: Өмнөх оны дүн | I27: Тайлант оны дүн
A28: 1 | B28: Богино болон урт хугацааны тэтгэмж
A29: 2 | B29: Ажил эрхлэлтийн дараах, ажлаас халагдсаны тэтгэмж
A30: 3 | B30: Хувьцаанд суурилсан төлбөр
A31: 6 | B31: Нийт дүн
A33: 22.3 Холбоотой талуудтай хийсэн ажил гүйлгээ
A34: № | B34: Холбоотой талын нэр | D34: Ажил гүйлгээний утга | F34: Дүн | H34: Тайлбар
A35: 1
A36: 2
A38: 23. БОЛЗОШГҮЙ ХӨРӨНГӨ БА ӨР ТӨЛБӨР
A39: Тэмдэглэл. (Болзошгүй хөрөнгө ба өр төлбөрийн мөн чанар, хэрэв практик боломжтой бол тэдгээрийн санхүүгийн нөлөөний тооцооллыг тодруулна).
A44: 24. ТАЙЛАГНАЛЫН ҮЕИЙН ДАРААХ ҮЙЛ ЯВДАЛ
A46: Тэмдэглэл. (Тайлагналын өдрийн дараах үл залруулагдах үйл явдлын материаллаг ангилал тус бүрийн хувьд мөн чанар, санхүүгийн нөлөөллийн тооцоолол зэргийг тодруулж бусад тайлбар, тэмдэглэл хийнэ).
A51: [1] НББОУС 24 Холбоотой талуудын тодруулга-д заасны дагуу тодруулна.
A52: [2] Тэргүүлэх удирдлагад ямар бүрэлдэхүүнийг хамруулснаа тодруулна. Тухайлбал, захирлуудын зөвлөл, удирдах зөвлөлийн гишүүд гэх мэт.

Sheet 12
A1: 25. ХӨРӨНГӨ ОРУУЛАЛТ
A3: № | B3: Үзүүлэлт | C3: Эхний үлдэгдэл | D3: Тайлант хугацаанд хийгдсэн хөрөнгө оруулалт (төгрөгөөр) | N3: Эцсийн үлдэгдэл
D4: Аж ахуйн нэгжийн өөрийн хөрөнгөөр | E4: Улсын төсвийн хөрөнгөөр | F4: Орон нутгийн төсвийн хөрөнгөөр | G4: Банкны зээл | H4: Гадаадын шууд хөрөнгө оруулалт | I4: Гадаадын зээл | J4: Гадаадын буцалтгүй тусламж | K4: Төсөл, хөтөлбөр, хандив | L4: Бусад эх үүсвэр | M4: Дүн
A5: 1 | B5: Биет хөрөнгө:
A6: 1.1 | B6: Газрын сайжруулалт
A7: 1.2 | B7: Барилга, байгууламж
A8: 1.2.1 | B8: Үүнээс: Орон суцны барилга
A9: 1.2.2 | B9: Авто зам
A10: 1.3 | B10: Машин тоног, төхөөрөмж
A11: 1.4 | B11: Тээврийн хэрэгсэл
A12: 1.5 | B12: Тавилга эд хогшил
A13: 1.6 | B13: Компьютер, бусад хэрэгсэл
A14: 1.7 | B14: Биологийн хөрөнгө
A15: 1.8 | B15: Бусад биет хөрөнгө:
A16: 1.9 | B16: Үүнээс: ХОЗҮХХ
A17: 1.1 | B17: Биет хөрөнгийн дүн
A18: 2 | B18: Биет бус хөрөнгө:
A19: 2.1 | B19: Зохиогчийн эрх
A20: 2.2 | B20: Компьютерийн программ хангамж
A21: 2.2.1 | B21: Үүнээс: Программ хангамж
A22: 2.2.2 | B22: Мэдээллийн сан
A23: 2.3 | B23: Патент
A24: 2.4 | B24: Барааны тэмдэг
A25: 2.5 | B25: Тусгай зөвшөөрөл
A26: 2.6 | B26: Газар эзэмших эрх
A27: 2.7 | B27: Бусад биет бус хөрөнгө
A28: 2.7.1 | B28: Үүнээс: Зураг төсвийн ажил, ТЭЗҮ боловсруулах, туршилт судалгаа
A29: 2.8 | B29: Биет бус хөрөнгийн дүн
A30: 3 | B30: Хайгуул үнэлгээний хөрөнгө
A31: 3.1 | B31: Үүнээс: Биет хөрөнгө
A32: 3.2 | B32: Биет бус хөрөнгө
A33: 4 | B33: Нийт дүн
A35: ХОЗҮХХ – Хөрөнгө оруулалтын зориулалттай үл хөдлөх хөрөнгө
