Workbook

Sheet Ба
B2: САНХҮҮГИЙН БАЙДЛЫН ТАЙЛАН
B4: ЭРДЭНЭС СОЛЬЮШИНС ХК | E4: 2025 оны 12 сарын 31 өдөр
B5: /Аж ахуйн нэгж, байгууллагын нэр/
E7: (төгрөгөөр)
B8: Мөрийн дугаар | C8: Үзүүлэлт | D8: Үлдэгдэл
D9: 01-р сарын 01 | E9: 12 сарын 31
B10: 1 | C10: Хөрөнгө | E10: 2
B11: 1.1 | C11: Эргэлтийн хөрөнгө
B12: 1.1.1 | C12: Мөнгө, түүнтэй адилтгах хөрөнгө | D12: 862018.73 | E12: 2066600.6
B13: 1.1.2 | C13: Дансны авлага | D13: 6.4074993e-07 | E13: 6.4074993e-07
B14: 1.1.3 | C14: Татвар, НДШ-ийн авлага | D14: 0 | E14: -0.00091291126
B15: 1.1.4 | C15: Бусад авлага | D15: 2975000 | E15: 775020
B16: 1.1.5 | C16: Бусад санхүүгийн хөрөнгө | D16: 0 | E16: 0
B17: 1.1.6 | C17: Бараа материал | D17: 6.9951479e+08 | E17: 8.7523979e+08
B18: 1.1.7 | C18: Урьдчилж төлсөн зардал/тооцоо | D18: 4100000 | E18: 4100000
B19: 1.1.8 | C19: Бусад эргэлтийн хөрөнгө | D19: 0 | E19: 0
B20: 1.1.9 | C20: Борлуулах зорилгоор эзэмшиж буй эргэлтийн бус хөрөнгө(борлуулах бүлэг хөрөнгө) | D20: 0 | E20: 0
B21: 1.1.10 | D21: 0 | E21: 0
B22: 1.1.11 | C22: Эргэлтийн хөрөнгийн дүн | D22: 7.074518e+08 | E22: 8.8218141e+08
B23: 1.2 | C23: Эргэлтийн бус хөрөнгө | D23: 0 | E23: 0
B24: 1.2.1 | C24: Үндсэн хөрөнгө | D24: 2041993 | E24: 2041993
B25: 1.2.2 | C25: Биет бус хөрөнгө | D25: 1.5284559e+09 | E25: 1.5284559e+09
B26: 1.2.3 | C26: Биологийн хөрөнгө | D26: 0 | E26: 0
B27: 1.2.4 | C27: Урт хугацаат хөрөнгө оруулалт | D27: 2.7990547e+09 | E27: 2.7990547e+09
B28: 1.2.5 | C28: Хайгуул ба үнэлгээний хөрөнгө | D28: 0 | E28: 0
B29: 1.2.6 | C29: Хойшлогдсон татварын хөрөнгө
B30: 1.2.7 | C30: Хөрөнгө оруулалтын зориулалттай үл хөдлөх хөрөнгө | D30: 0 | E30: 0
B31: 1.2.8 | C31: Бусад эргэлтийн бус хөрөнгө | D31: 0 | E31: 0
B32: 1.2.9 | D32: 0 | E32: 0
B33: 1.2.10 | C33: Эргэлтийн бус хөрөнгийн дүн | D33: 4.3295527e+09 | E33: 4.3295527e+09
B34: 1.3 | C34: НИЙТ ХӨРӨНГИЙН ДҮН | D34: 5.0370045e+09 | E34: 5.2117341e+09
B35: 2 | C35: ӨР ТӨЛБӨР БА ЭЗЭМШИГЧИЙН ӨМЧ | D35: 0 | E35: 0
B36: 2.1 | C36: Өр төлбөр | D36: 0 | E36: 0
B37: 2.1.1 | C37: Богино хугацаат өр төлбөр | D37: 0 | E37: 0
B38: 2.1.1.1 | C38: Дансны өглөг | D38: 0 | E38: 0
B39: 2.1.1.2 | C39: Цалингын өглөг | D39: 0 | E39: 0
B40: 2.1.1.3 | C40: Татварын өр | D40: 1.3209653e+08 | E40: 1.5406874e+08
B41: 2.1.1.4 | C41: НДШ-ийн өглөг | D41: 1.1669201e+08 | E41: 1.5418001e+08
B42: 2.1.1.5 | C42: Богино хугацаат зээл | D42: 0 | E42: 0
B43: 2.1.1.6 | C43: Хүүний өглөг | D43: 0 | E43: 0
B44: 2.1.1.7 | C44: Ногдол ашгийн өглөг | D44: 0 | E44: 0
B45: 2.1.1.8 | C45: Урьдчилж орсон орлого | D45: 2640000 | E45: 3300000
B46: 2.1.1.9 | C46: Нөөц өр төлбөр | D46: 0 | E46: 0
B47: 2.1.1.10 | C47: Бусад богино хугацаат өр төлбөр | D47: 780254696 | E47: 8.1276327e+08 | G47: =E47-[1]Balance!J63 -> 5.7373927e+08
B48: 2.1.1.11 | C48: Борлуулах зорилгоор эзэмшиж буй эргэлтийн бус хөрөнгө(борлуулах бүлэг хөрөнгө)-нд хамаарах өр төлбөр | D48: 0 | E48: 0
B49: 2.1.1.12 | D49: 0 | E49: 0
B50: 2.1.1.13 | C50: Богино хугацаат өр төлбөрийн дүн | D50: 1.0316832e+09 | E50: 1.124312e+09
B51: 2.1.2 | C51: Урт хугацаат өр төлбөр
B52: 2.1.2.1 | C52: Урт хугацаат зээл | D52: 0 | E52: 0
B53: 2.1.2.2 | C53: Нөөц /өр төлбөр/ | D53: 0 | E53: 0
B54: 2.1.2.3 | C54: Хойшлогдсон татварын өр | D54: 0 | E54: 0
B55: 2.1.2.4 | C55: Бусад урт хугацаат өр төлбөр | D55: 0 | E55: 0
B56: 2.1.2.5
B57: 2.1.2.6 | C57: Урт хугацаат өр төлбөр | D57: 0 | E57: 0
B58: 2.2 | C58: Өр төлбөрийн нийт дүн | D58: 1.0316832e+09 | E58: 1.124312e+09
B59: 2.3 | C59: Эздийн өмч | D59: 0 | E59: 0
B60: 2.3.1 | C60: Өмч -төрийн өмч | D60: 0 | E60: 0
B61: 2.3.2 | C61: - хувийн өмч | D61: 3487950208 | E61: 1755807240 | G61: =D61-E64 -> 1752747116 | H61: =E61-G61 -> 3060124 | J61: 3487950208 | K61: =E61 -> 1755807240
B62: 2.3.3 | C62: - хувьцаат | D62: 0 | E62: 0
B63: 2.3.4 | C63: Халаасны хувьцаа | D63: 0 | E63: 0
B64: 2.3.5 | C64: Нэмж төлөгдсөн капитал | D64: 0 | E64: 1735203092 | J64: 3491010332
B65: 2.3.6 | C65: Хөрөнгийн дахин үнэлгээний нэмэгдэл | D65: 0 | E65: 0
B66: 2.3.7 | C66: Гадаад валютын хөрвүүлэлтийн нөөц | D66: 0 | E66: 0 | J66: =E61-J64 -> -1735203092
B67: 2.3.8 | C67: Эздийн өмч бусад хэсэг | D67: 0 | E67: 0
B68: 2.3.9 | C68: Хуримтлагдсан ашиг | D68: 5.1737101e+08 | E68: 5.9641172e+08 | G68: =E68-D68 -> 79040702
B69: 2.3.10 | D69: 0 | E69: 0
B70: 2.3.11 | C70: Эздийн өмчийн дүн | D70: 4.0053212e+09 | E70: 4.087422e+09
B71: 2.4 | C71: ӨР ТӨЛБӨР БА ЭЗДИЙН ӨМЧИЙН ДҮН | D71: 5.0370045e+09 | E71: 5.2117341e+09
D72: =D71-D34 -> 0 | E72: =E71-E34 -> 0 | G72: 5.9641172e+08
C73: =[1]nuur!S39 -> Захирал ____________________ /Ц.Хүдэрмөнх/
C75: Ерөнхий нягтлан бодогч ____________________ / /

Sheet ОТ
B2: ÎÐËÎÃÛÍ ÒÀÉËÀÍ
B5: =Ба!B4 -> ЭРДЭНЭС СОЛЬЮШИНС ХК
B6: /Àæ àõóéí íýãæ, байгууллагын нэр/ | E6: =Ба!E4 -> 2025 оны 12 сарын 31 өдөр
E7: (төгрөгөөр)
B8: Мөрийн дугаар | C8: Үзүүлэлт | D8: ДҮН | E8: ДҮН
D9: Өмнөх үеийн дүн | E9: Тайлант үеийн дүн
B10: 1 | C10: Борлуулалтын орлого (цэвэр)
B11: 2 | C11: Борлуулалтын өртөг | D11: 0 | E11: 0
B12: 3 | C12: Нийт ашиг /алдагдал/ | D12: 87181818 | E12: 91963636 | F12: =ROUND(E12,2) -> 91963636
B13: 4 | C13: Түрээсийн орлого | F13: =ROUND(E13,2) -> 0
B14: 5 | C14: Хүүний орлого | D14: 587.93 | E14: 9775.88 | F14: =ROUND(E14,2) -> 9775.88
B15: 6 | C15: Ногдол ашгийн орлого | F15: =ROUND(E15,2) -> 0
B16: 7 | C16: Эрхийн шимтгэлийн орлого | F16: =ROUND(E16,2) -> 0
B17: 8 | C17: Бусад орлого | F17: =ROUND(E17,2) -> 0
B18: 9 | C18: Борлуулалт маркетингийн зардал | F18: =ROUND(E18,2) -> 0
B19: 10 | C19: Ерөнхий ба удирдлагын зардал | D19: 83135463 | E19: 9367578.6 | F19: =ROUND(E19,2) -> 9367578.6
B20: 11 | C20: Санхүүгийн зардал | D20: 0 | E20: 0 | F20: =ROUND(E20,2) -> 0
B21: 12 | C21: Бусад зардал | D21: 0 | E21: 0 | F21: =ROUND(E21,2) -> 0
B22: 13 | C22: Гадаад валютын ханшийн зөрүүний олз (гарз) | D22: 64.24 | E22: 0 | F22: =ROUND(E22,2) -> 0
B23: 14 | C23: Үндсэн хөрөнгө данснаас хассаны олз (гарз) | D23: 0 | E23: 0 | F23: =ROUND(E23,2) -> 0
B24: 15 | C24: Биет бус хөрөнгө данснаас хассаны олз (гарз) | D24: 0 | E24: 0 | F24: =ROUND(E24,2) -> 0
B25: 16 | C25: Хөрөнгө оруулалт борлуулснаас үүссэн олз (гарз) | D25: 0 | E25: 0 | F25: =ROUND(E25,2) -> 0
B26: 17 | C26: Бусад ашиг (алдагдал) | F26: =ROUND(E26,2) -> 0
B27: 18 | C27: Татвар төлөхийн өмнөх ашиг (алдагдал) | D27: 4047007.5 | E27: 82605834 | F27: =ROUND(E27,2) -> 82605834
B28: 19 | C28: Орлогын татварын зардал | D28: 40470.075 | E28: 826058.34 | F28: =ROUND(E28,2) -> 826058.34
B29: 20 | C29: Татварын дараах ашиг (алдагдал) | D29: 4006537.4 | E29: 81779775 | F29: =ROUND(E29,2) -> 81779775
B30: 21 | C30: Зогсоосон үйл ажиллагааны татварын дараах ашиг (алдагдал) | F30: =ROUND(E30,2) -> 0
B31: 22 | C31: Тайлант үеийн цэвэр ашиг /алдагдал/ | D31: 4006537.4 | E31: 81779775 | F31: =ROUND(E31,2) -> 81779775
B32: 23 | C32: Бусад дэлгэрэнгүй орлого | F32: =ROUND(E32,2) -> 0
C33: Хөрөнгийн дахин үнэлгээний нэмэгдлийн зөрүү | F33: =ROUND(E33,2) -> 0
C34: Гадаад валютын хөрвүүлэлтийн зөрүү | F34: =ROUND(E34,2) -> 0
C35: Бусад олз(гарз) | D35: 0 | E35: 0 | F35: =ROUND(E35,2) -> 0
B36: 24 | C36: Орлогын нийт дүн | F36: =ROUND(E36,2) -> 0
B37: 25 | C37: Нэгж хувьцаанд ногдох суурь ашиг /алдагдал/ | F37: =ROUND(E37,2) -> 0
C40: =Ба!C73 -> Захирал ____________________ /Ц.Хүдэрмөнх/
E41: =E35+E30 -> 0
C42: Ерөнхий нягтлан бодогч ____________________ / /

Sheet ӨӨТ
B4: ӨМЧИЙН ӨӨРЧЛӨЛТИЙН ТАЙЛАН
B6: =ОТ!B5 -> ЭРДЭНЭС СОЛЬЮШИНС ХК | J6: =Ба!E4 -> 2025 оны 12 сарын 31 өдөр
B7: ( Аж ахуйн нэгж, байгууллагын нэр ) | K7: (төгрөгөөр)
B8: № | C8: ҮЗҮҮЛЭЛТ | D8: Өмч | E8: Халаасны хувьцаа | F8: Нэмж төлөгдсөн капитал | G8: Хөрөнгийн дахин үнэлгээний нэмэгдэл | H8: Гадаад валютын хөрвүүлэлтийн нөөц | I8: Гадаад валютын хөрвүүлэлтийн нөөц | J8: Хуримтлагдсан ашиг | K8: Нийт Дүн
B9: 1 | C9: 2024 оны 12-р сарын 31-ний үлдэгдэл | D9: 3487950208 | E9: 0 | F9: 0 | G9: 0 | H9: 0 | I9: 0 | J9: 5.1737101e+08 | K9: 4.0053212e+09
B10: 2 | C10: Нягтлан бодох бүртгэлийн бодлогын өөрчлөлтийн нөлөө, алдааны залруулга | D10: -1732142968 | F10: 1735203092 | J10: -2739073 | K10: -2739073
B11: 3 | C11: Залруулсан үлдэгдэл | D11: 1755807240 | E11: 0 | F11: 1735203092 | G11: 0 | H11: 0 | I11: 0 | J11: 5.1463194e+08 | K11: 4.0056423e+09
B12: 4 | C12: Тайлант үеийн цэвэр ашиг(алдагдал) | J12: 81779775 | K12: 81779775
B13: 5 | C13: Бусад дэлгэрэнгүй орлого | K13: 0
B14: 6 | C14: Өмчид гарсан өөрчлөлт | K14: 0
B15: 7 | C15: Зарласан ногдол ашиг | K15: 0
B16: 8 | C16: Дахин үнэлгээний нэмэгдлийн хэрэгжсэн дүн | K16: 0
B17: 9 | C17: 2025 оны 12-р сарын 31-ний үлдэгдэл | D17: 1755807240 | F17: 1735203092 | G17: 0 | H17: 0 | J17: 596411717 | K17: 4087422049
C19: =ОТ!C40 -> Захирал ____________________ /Ц.Хүдэрмөнх/
C21: Ерөнхий нягтлан бодогч ____________________ / /

Sheet МГТ
B2: МӨНГӨН ГҮЙЛГЭЭНИЙ ТАЙЛАН
B4: =ӨӨТ!B6 -> ЭРДЭНЭС СОЛЬЮШИНС ХК | E4: =Ба!E4 -> 2025 оны 12 сарын 31 өдөр
B5: ( Аж ахуйн нэгж, байгууллагын нэр ) | E5: (төгрөгөөр)
B6: Ìºðèéí äóãààð | C6: ҮЗҮҮЛЭЛТ | D6: 2024 оны 12 сарын 31 өдөр | E6: Тайлант үеийн дүн
B8: 1 | C8: Үндсэн үйл ажиллагааны мөнгөн гүйлгээ | G8: 1000
B9: 1.1 | C9: Мөнгөн орлогын дүн(+) | D9: 68540588 | E9: 1.0215191e+08
C10: Бараа борлуулсан, үйлчилгээ үзүүлсэний орлого | D10: 68540000 | E10: 101820000 | G10: =E10/$G$8 -> 101820
C11: Эрхийн шимтгэл, хураамж, төлбөрийн орлого | D11: 0 | E11: 0 | G11: =E11/$G$8 -> 0
C12: Даатгалын нөхвөрөөс хүлээн авсан мөнгө | D12: 0 | E12: 0 | G12: =E12/$G$8 -> 0
C13: Буцаан авсан албан татвар | D13: 0 | E13: 0 | G13: =E13/$G$8 -> 0
C14: Татаас, санхүүжилтын орлого | D14: 0 | E14: 0 | G14: =E14/$G$8 -> 0
C15: Бусад мөнгөн орлого | D15: 587.93 | E15: 331912.97 | G15: =E15/$G$8 -> 331.91297
B16: 1.2 | C16: Мөнгөн зарлагын дүн(-) | D16: -1.0262146e+08 | E16: -63207111 | G16: =E16/$G$8 -> -63207.111
C17: Ажилчдад төлсөн | D17: -70700000 | E17: -58562000 | G17: =E17/$G$8 -> -58562
C18: Нийгмийн даатгалын байгууллагад төлсөн | D18: 0 | E18: 0 | G18: =E18/$G$8 -> 0
C19: Бараа материал худалдан авахад төлсөн | D19: -31909460 | E19: -3190312.2 | G19: =E19/$G$8 -> -3190.3122
C20: Ашиглалтын зардалд төлсөн | D20: 0 | E20: 0 | G20: =E20/$G$8 -> 0
C21: Түлш шатахуун, тээврийн хөлс, сэлбэг хэрэгсэлд төлсөн | D21: -12000 | E21: 0 | G21: =E21/$G$8 -> 0
C22: Хүүний төлбөрт төлсөн | D22: 0 | E22: 0 | G22: =E22/$G$8 -> 0
C23: Татварын байгууллагад төлсөн | D23: 0 | E23: -1316912.7 | G23: =E23/$G$8 -> -1316.9127
C24: Даатгалын төлбөрт төлсөн | G24: =E24/$G$8 -> 0
C25: Бусад мөнгөн зарлага | D25: 0 | E25: -137886.21 | G25: =E25/$G$8 -> -137.88621
B26: 1.3 | C26: Үндсэн үйл ажиллагааны цэвэр мөнгөн гүйлгээний дүн | D26: -34080872 | E26: 38944802 | G26: =E26/$G$8 -> 38944.802
B27: 2 | C27: Хөрөнгө оруулалтын үйл ажиллагааны мөнгөн гүйлгээ | G27: =E27/$G$8 -> 0
B28: 2.1. | C28: Мөнгөн орлогын дүн(+) | D28: 0 | E28: 2500000 | G28: =E28/$G$8 -> 2500
C29: Үндсэн хөрөнгө борлуулсны орлого | D29: 0 | E29: 0 | G29: =E29/$G$8 -> 0
C30: Биет бус хөрөнгө борлуулсны орлого | D30: 0 | E30: 0 | G30: =E30/$G$8 -> 0
C31: Хөрөнгө оруулалт борлуулсаны орлого | D31: 0 | E31: 0 | G31: =E31/$G$8 -> 0
C32: Бусад урт хугацаат хөрөнгө борлуулсны орлого | D32: 0 | E32: 0 | G32: =E32/$G$8 -> 0
C33: Бусдад олгосон зээл, мөнгөн урьдчилгааны буцаан төлөлт | D33: 0 | E33: 2500000 | G33: =E33/$G$8 -> 2500
C34: Хүлээн авсан хүүний орлого | D34: 0 | E34: 0 | G34: =E34/$G$8 -> 0
C35: Хүлээн авсан ногдол ашиг | D35: 0 | E35: 0 | G35: =E35/$G$8 -> 0
G36: =E36/$G$8 -> 0
B37: 2.2. | C37: Мөнгөн зарлагын дүн(-) | D37: 0 | E37: -3300020 | G37: =E37/$G$8 -> -3300.02
C38: Үндсэн хөрөнгө олж эзэмшихэд төлсөн | D38: 0 | E38: 0 | G38: =E38/$G$8 -> 0
C39: Биет бус хөрөнгө олж эзэмшихэд төлсөн | D39: 0 | E39: 0 | G39: =E39/$G$8 -> 0
C40: Хөрөнгө оруулалт олж эзэмшихэд төлсөн | D40: 0 | E40: 0 | G40: =E40/$G$8 -> 0
C41: Бусад урт хугацаат хөрөнгө олж эзэмшихэл төлсөн | D41: 0 | E41: 0 | G41: =E41/$G$8 -> 0
C42: Бусдад олгосон зээл урьдчилгаа | D42: 0 | E42: -3300020 | G42: =E42/$G$8 -> -3300.02
G43: =E43/$G$8 -> 0
B44: 2.3 | C44: Хөрөнгө оруулалтын үйл ажиллагааны цэвэр мөнгөн гүйлгээний дүн | D44: 0 | E44: -800020 | G44: =E44/$G$8 -> -800.02
B45: 3 | C45: Санхүүгийн үйл ажиллагааны мөнгөн гүйлгээ | G45: =E45/$G$8 -> 0
B46: 3.1. | C46: Мөнгөн орлогын дүн(+) | D46: 231552176 | E46: 10183000 | G46: =E46/$G$8 -> 10183
C47: Зээл авсан, өрийн үнэт цаас гаргаснаас хүлээн авсан | D47: 231552176 | E47: 10183000 | G47: =E47/$G$8 -> 10183
C48: Хувьцаа болон өмчийн бусад үнэт цаас гаргаснаас хүлээн авсан | D48: 0 | E48: 0 | G48: =E48/$G$8 -> 0
C49: Төрөл бүрийн хандив | G49: =E49/$G$8 -> 0
D50: 0 | E50: 0 | G50: =E50/$G$8 -> 0
B51: 3.2. | C51: Мөнгөн зарлагын дүн(-) | D51: -197150000 | E51: -47123200 | G51: =E51/$G$8 -> -47123.2
C52: Зээл, өрийн үнэт цаасны төлбөрт төлсөн мөнгө | D52: -197150000 | E52: -45123200 | G52: =E52/$G$8 -> -45123.2
C53: Санхүүгийн түрээсийн өглөгт төлсөн | G53: =E53/$G$8 -> 0
C54: Хувьцаа буцаан худалдаж авахад төлсөн | G54: =E54/$G$8 -> 0
C55: Төлсөн ногдол ашиг | G55: =E55/$G$8 -> 0
D56: 0 | E56: -2000000 | G56: =E56/$G$8 -> -2000
B57: 3.3 | C57: Санхүүгийн үйл ажиллагааны цэвэр мөнгөн гүйлгээний дүн | D57: 34402176 | E57: -36940200 | G57: =E57/$G$8 -> -36940.2
B58: 4 | C58: 4 Валютын ханшийн зөрүү | G58: =E58/$G$8 -> 0
B59: 5 | C59: Бүх цэвэр мөнгөн гүйлгээ | D59: 321303.63 | E59: 1204581.8 | G59: =E59/$G$8 -> 1204.5818
B60: 6 | C60: Мөнгө, түүнтэй адилтгах хөрөнгийн эхний үлдэгдэл | D60: 540715.1 | E60: 862018.73 | G60: =E60/$G$8 -> 862.01873
C61: Мөнгө, түүнтэй адилтгах хөрөнгийн эцсийн үлдэгдэл | D61: 862018.73 | E61: 2066600.6 | G61: =E61/$G$8 -> 2066.6006
D62: 0.00069995655 | E62: 0
C63: =ӨӨТ!C19 -> Захирал ____________________ /Ц.Хүдэрмөнх/
C65: Ерөнхий нягтлан бодогч ____________________ / /
