Workbook
Name _ftn1: 'D4'!$B$18
Name _ftn1: 'D5'!$B$18
Name _ftnref1: 'D4'!$B$17
Name _ftnref1: 'D5'!$B$17
Name OLE_LINK1: 'tt02'!#REF!

Sheet Nuur
H1: Сангийн сайдын 2012 оны
H2: 77 тоот тушаалын
H3: 2 дугаар хавсралт
A5: Регистрийн дугаар: | D5: 2025779
A7: Хаяг:............................................................................................................................................... | B7: ……………………………………..
A8: Шуудангын хаяг:...........................................................................................................................
A9: Утас:............................................................... | E9: Факс:
A11: Өмчийн хэлбэр: | D11: Төрийн ..... хувь | F11: Хувийн ....100......хувь
B14: A
A22: ''БҮТЭЭЛЧ ҮЙЛС"ХК
A23: 2025 ОНЫ ЖИЛИЙН ЭЦСИЙН
A24: САНХҮҮГИЙН ТАЙЛАН
A34: Хянаж хүлээн авсан Байгууллагын нэр | E34: Сар, өдөр | G34: Гарын үсэг
A45: =+A22 -> ''БҮТЭЭЛЧ ҮЙЛС"ХК
A46: 2025 оны 4 -р улирлын санхүүгийн тайлангийн
A47: бодит байдлын тухай мэдэгдэл
A50: 2025 оны 12 сарын 31 өдөр
A79: ГҮЙЦЭТГЭХ ЗАХИРАЛ. . . . . . . . . . . ................ .(Д.ЭРДЭНЭБИЛЭГ)
A81: НЯГТЛАН БОДОГЧ . . . . . . . . . . . . . . . . . . . .(Э. ОЮУНЦЭЦЭГ)

Sheet CT-1
A1: САНХҮҮГИЙН БАЙДЛЫН ТАЙЛАН
B3: =+Nuur!A22 -> ''БҮТЭЭЛЧ ҮЙЛС"ХК | D3: 2025 оны 12 сарын 31 өдөр
B4: ( Аж ахуйн нэгжийн нэр )
E5: (төгрөгөөр)
A6: Мөрийн дугаар | B6: БАЛАНСЫН Ç¯ÉË | D6: Үлдэгдэл
D7: 45657 | E7: 46022
A8: 1 | B8: ХӨРӨНГӨ
A9: 1.1 | B9: Эргэлтийн хөрөнгө
A10: 1.1.1 | B10: Мөнгө ба түүнтэй адилтгах хөрөнгө | D10: =+'Guilgee balance'!D7+'Guilgee balance'!D11+'Guilgee balance'!D13+'Guilgee balance'!D19 -> 2.4968054e+09 | E10: =+'Guilgee balance'!H7+'Guilgee balance'!H11+'Guilgee balance'!H13+'Guilgee balance'!H19 -> 1.2144469e+09
A11: 1.1.2 | B11: Дансны авлага | D11: =+'Guilgee balance'!D24 -> 1500000 | E11: =+'Guilgee balance'!H24 -> 2492750
A12: 1.1.3 | B12: Татвар, НДШ-ийн авлага | D12: =+'Guilgee balance'!D27+'Guilgee balance'!D29+'Guilgee balance'!D31+'Guilgee balance'!D33+'Guilgee balance'!D35 -> 0 | E12: =+'Guilgee balance'!H27+'Guilgee balance'!H29+'Guilgee balance'!H31+'Guilgee balance'!H33+'Guilgee balance'!H35 -> 7250
A13: 1.1.4 | B13: Бусад авлага | D13: =+'Guilgee balance'!D37 -> 0 | E13: =+'Guilgee balance'!H37 -> 0
A14: 1.1.5 | B14: Бусад санхүүгийн хөрөнгө
A15: 1.1.6 | B15: Бараа материал | D15: =+'Guilgee balance'!D43+'Guilgee balance'!D48+'Guilgee balance'!D50 -> 1.5256119e+08 | E15: =+'Guilgee balance'!H43+'Guilgee balance'!H48+'Guilgee balance'!H50 -> 7.0994484e+08
A16: 1.1.7 | B16: Урьдчилж төлсөн зардал/тооцоо | D16: =+'Guilgee balance'!D53+'Guilgee balance'!D58 -> 1.9119352e+09 | E16: =+'Guilgee balance'!H53+'Guilgee balance'!H58 -> 1.6413938e+09
A17: 1.1.8 | B17: Бусад эргэлтийн хөрөнгө | D17: 0 | E17: 0
A18: 1.1.9 | B18: Борлуулах зорилгоор эзэмшиж буй эргэлтийн бус хөрөнгө (борлуулах бүлэг хөрөнгө) | E18: =+'Guilgee balance'!H61 -> 0
A20: 1.1.10
A21: 1.1.11 | B21: Эргэлтийн хөрөнгийн дүн | D21: =+D10+D11+D12+D13+D14+D15+D16+D17+D18+D20 -> 4.5628018e+09 | E21: =+E10+E11+E12+E13+E14+E15+E16+E17+E18+E20 -> 3.5682855e+09
A22: 1.2 | B22: Эргэлтийн бус хөрөнгө | E22: 0
A23: 1.2.1 | B23: Үндсэн хөрөнгө | D23: =+'Guilgee balance'!D62+'Guilgee balance'!D64+'Guilgee balance'!D68+'Guilgee balance'!D72+'Guilgee balance'!D76+'Guilgee balance'!D80+'Guilgee balance'!D86-'Guilgee balance'!E66-'Guilgee balance'!E70-'Guilgee balance'!E74-'Guilgee balance'!E78-'Guilgee balance'!E82-'Guilgee balance'!E88+'Guilgee balance'!D84 -> 2.4070281e+08 | E23: =+'Guilgee balance'!H62+'Guilgee balance'!H64+'Guilgee balance'!H68+'Guilgee balance'!H72+'Guilgee balance'!H76+'Guilgee balance'!H80+'Guilgee balance'!H84+'Guilgee balance'!H86-'Guilgee balance'!I66-'Guilgee balance'!I70-'Guilgee balance'!I74-'Guilgee balance'!I78-'Guilgee balance'!I82-'Guilgee balance'!I88 -> 2.2968167e+08
A24: 1.2.2 | B24: Биет бус хөрөнгө | D24: =+'Guilgee balance'!D90+'Guilgee balance'!D94-'Guilgee balance'!E92 -> 0 | E24: =+'Guilgee balance'!H90+'Guilgee balance'!H94-'Guilgee balance'!I92 -> 0
A25: 1.2.3 | B25: Биологийн хөрөнгө | D25: 0 | E25: 0
A26: 1.2.4 | B26: Урт хугацаат хөрөнгө оруулалт | D26: =+'Guilgee balance'!D96 -> 0 | E26: =+'Guilgee balance'!D96 -> 0
A27: 1.2.5 | B27: Хайгуул ба үнэлгээний хөрөнгө
A28: 1.2.6 | B28: Хойшлогдсон татварын хөрөнгө | D28: 0 | E28: 0
A29: 1.2.7 | B29: Хөрөнгө оруулалтын зориулалттай үл хөдлөх хөрөнгө | D29: 0 | E29: 0
A30: 1.2.8 | B30: Бусад эргэлтийн бус хөрөнгө | E30: 0
A31: 1.2.9
A32: 1.2.10 | B32: Эргэлтийн бус хөрөнгийн дүн | D32: =+D23+D24+D25+D26+D27+D28+D29+D30+D31 -> 2.4070281e+08 | E32: =+E23+E24+E25+E26+E27+E28+E29+E30+E31 -> 2.2968167e+08
A33: 1.3 | B33: НИЙТ ХӨРӨНГИЙН ДҮН | D33: =+D21+D32 -> 4.8035046e+09 | E33: =+E21+E32 -> 3.7979672e+09
A34: 2 | B34: ӨÐ ÒªËÁªÐ ÁÀ ÝÇÝÌØÈÃ×ÄÈÉÍ ªÌ×
A35: 2.1 | B35: ӨР ТӨЛБӨР
A36: 2.1.1 | B36: Богино хугацаат өр төлбөр
A37: 2.1.1.1 | B37: Дансны өглөг | D37: =+'Guilgee balance'!E98 -> 1156088532 | E37: =+'Guilgee balance'!I98 -> 1131088532
A38: 2.1.1.2 | B38: Цалингийн өглөг | D38: =+'Guilgee balance'!E101 -> 0 | E38: =+'Guilgee balance'!I101 -> 0
A39: 2.1.1.3 | B39: Татварын өглөг | D39: =+'Guilgee balance'!E103+'Guilgee balance'!E105+'Guilgee balance'!E110+'Guilgee balance'!E108 -> 46694772 | E39: =+'Guilgee balance'!I103+'Guilgee balance'!I105+'Guilgee balance'!I108+'Guilgee balance'!I110 -> 5771061
A40: 2.1.1.4 | B40: НДШ-н өглөг | D40: =+'Guilgee balance'!E112 -> 2199000 | E40: =+'Guilgee balance'!I112 -> 2599790
A41: 2.1.1.5 | B41: Богино хугацаат зээл | D41: =+'Guilgee balance'!E114 -> 0 | E41: =+'Guilgee balance'!I114 -> 0
A42: 2.1.1.6 | B42: Хүүний өглөг | D42: =+'Guilgee balance'!E118 -> 0 | E42: =+'Guilgee balance'!I118 -> 0
...

Sheet CT-2
A1: ОРЛОГЫН ДЭЛГЭРЭНГҮЙ ТАЙЛАН
C3: =+Nuur!A22 -> ''БҮТЭЭЛЧ ҮЙЛС"ХК | F3: ='CT-1'!D3 -> 2025 оны 12 сарын 31 өдөр
B4: ='CT-1'!B4 -> ( Аж ахуйн нэгжийн нэр )
A6: Мөрийн дугаар | B6: Үзүүлэлт | G6: 45657 | H6: 46022
A7: 1 | B7: Борлуулалтын орлого (цэвэр) | G7: 9.1279864e+08 | H7: =+'Guilgee balance'!G139+'Guilgee balance'!G148+'Guilgee balance'!G150-'Guilgee balance'!G144-'Guilgee balance'!G146+'Guilgee balance'!G154 -> 1.1501462e+09
A8: 2 | B8: Борлуулалтын өртөг | G8: 2.6161064e+08 | H8: 3.020832e+08
B9: Үзүүлсэн ажил үйлчилгээний өртөг
A10: 3 | B10: Нийт ашиг (алдагдал) | G10: 6.51188e+08 | H10: =+H7-H8-H9 -> 8.4806295e+08
A11: 4 | B11: Түрээсийн орлого | H11: =+'Guilgee balance'!G157 -> 0
A12: 5 | B12: Хүүний орлого | G12: 895005.42 | H12: 63949.57
A13: 6 | B13: Ногдол ашгийн орлого | G13: 0 | H13: 0
A14: 7 | B14: Эрхийн шимтгэлийн орлого | G14: 0 | H14: 0
A15: 8 | B15: Бусад орлого | G15: 0 | H15: 0
A16: 9 | B16: Борлуулалт, маркетингийн зардал | G16: 0 | H16: 0
A17: 10 | B17: Ерөнхий ба удирдлагын зардал | G17: 1.4375732e+09 | H17: 2.095347e+09
A18: 11 | B18: Санхүүгийн зардал | G18: 0 | H18: 0
A19: 12 | B19: Бусад зардал | G19: 0 | H19: 0
A20: 13 | B20: Гадаад валютын ханшийн зөрүүний олз (гарз) | G20: -832 | H20: -882.48
A21: 14 | B21: Үндсэн хөрөнгө данснаас хассаны олз (гарз) | G21: 0 | H21: 0
A22: 15 | B22: Биет бус хөрөнгө данснаас хассаны олз (гарз) | G22: 0 | H22: 0
A23: 16 | B23: Хөрөнгө оруулалт борлуулснаас үүссэн олз (гарз) | G23: 0 | H23: 0
... A30: 23 | B30: Бусад дэлгэрэнгүй орлого | G30: 0 | H30: 0
B31: Хөрөнгийн дахин үнэлгээний нэмэгдлийн зөрүү | G31: 0 | H31: 0
B32: Гадаад валютын хөрвүүлэлтийн зөрүү | G32: 0 | H32: 0
B33: Бусад олз (гарз) | G33: 0 | H33: 0
A34: 24 | B34: Орлогын нийт дүн | G34: -7.8549112e+08 | H34: -1.2501265e+09
A35: 25 | B35: Нэгж хувьцаанд ногдох суурь ашиг (алдагдал) | G35: 0 | H35: 0
A40: Çàõèðàë _______________________________ (..............................) | B40: =+Nuur!A79 -> ГҮЙЦЭТГЭХ ЗАХИРАЛ. . . . . . . . . . . ................ .(Д.ЭРДЭНЭБИЛЭГ)
A42: Ерөнхий нягтлан бодогч ___________________ (Э. ОЮУНЦЭЦЭГ)

Sheet CT-3
A1: ӨМЧИЙН ӨӨРЧЛӨЛТИЙН ТАЙЛАН
B3: =+Nuur!A22 -> ''БҮТЭЭЛЧ ҮЙЛС"ХК | I3: =+'CT-2'!F3 -> 2025 оны 12 сарын 31 өдөр
A4: ='CT-2'!B4 -> ( Аж ахуйн нэгжийн нэр )
J5: (төгрөгөөр)
B6: ҮЗҮҮЛЭЛТ | C6: Өмч | D6: Халаасны хувьцаа | E6: Нэмж төлөгдсөн капитал | F6: Хөрөнгийн дахин үнэлгээний нөөц | G6: Гадаад валютын хөрвүүлэлтийн нөөц | H6: Эздийн өмчийн бусад хэсэг | I6: Хуримтëàãäñàí àøèã | J6: Нийт ä¿í
A9: 1 | B9: 2023 оны 12-р сарын 31-ний үлдэгдэл | C9: 89362999 | F9: 78920257 | H9: =+'CT-1'!D66 -> 0 | I9: -1.2686961e+09 | J9: =+C9+F9+I9 -> -1.1004128e+09
A10: 2 | B10: Нягтлан бодох бүртгэлийн бодлогын өөрчлөлтийн нөлөө, алдааны залруулга
A11: 3 | B11: Залруулсан үлдэгдэл | C11: =+C9 -> 89362999 | F11: =+F9 -> 78920257 | I11: =+I9 -> -1.2686961e+09 | J11: =+J9 -> -1.1004128e+09
A12: 4 | B12: Тайлант үеийн цэвэр ашиг (алдагдал)
A13: 5 | B13: Бусад дэлгэрэнгүй орлого
A14: 6 | B14: Өмчид гарсан өөрчлөлт | I14: -7.8549112e+08 | J14: =+I14 -> -7.8549112e+08
A15: 7 | B15: Зарласан ногдол ашиг
A16: 8 | B16: Дахин үнэлгээний нэмэгдлийн хэрэгжсэн дүн
A17: 9 | B17: 2024 оны 12-р сарын 31-ний үлдэгдэл | C17: 89362999 | D17: =+'CT-1'!D62 -> 0 | E17: =+'CT-1'!D63 -> 0 | F17: 78920257 | G17: =+'CT-1'!D65 -> 0 | H17: =+'CT-1'!D66 -> 0 | I17: =+'CT-1'!D67 -> -2.0541872e+09 | J17: =+C17+D17+E17+F17+G17+H17+I17 -> -1.8859039e+09
A18: 10 | B18: Нягтлан бодох бүртгэлийн бодлогын өөрчлөлтийн нөлөө, алдааны залруулга | J18: =+C18+D18+E18+F18+G18+H18+I18 -> 0
A19: 11 | B19: Залруулсан үлдэгдэл | C19: =+C17+C18 -> 89362999 | D19: =+D17+D18 -> 0 | E19: =+E17+E18 -> 0 | F19: =+F17+F18 -> 78920257 | G19: =+G17+G18 -> 0 | H19: =+H17+H18 -> 0 | I19: =+I17+I18 -> -2.0541872e+09 | J19: =+C19+D19+E19+F19+G19+H19+I19 -> -1.8859039e+09
A20: 12 | B20: Тайлант үеийн цэвэр ашиг (алдагдал) | I20: =+'Guilgee balance'!G137-'Guilgee balance'!F137 -> -1.2501265e+09 | J20: =+C20+D20+E20+F20+G20+H20+I20 -> -1.2501265e+09
A21: 13 | B21: Бусад дэлгэрэнгүй орлого | J21: =+C21+D21+E21+F21+G21+H21+I21 -> 0
A22: 14 | B22: Өмчид гарсан өөрчлөлт | G22: 0 | J22: =+C22+D22+E22+F22+G22+H22+I22 -> 0
A23: 15 | B23: Зарласан ногдол ашиг | D23: 0 | F23: 0 | H23: 0 | I23: =+'CT-1'!E43-'CT-1'!D43 -> 0 | J23: =+C23+D23+E23+F23+G23+H23+I23 -> 0
A24: 16 | B24: Дахин үнэлгээний нэмэгдлийн хэрэгжсэн дүн | I24: 0 | J24: =+C24+D24+E24+F24+G24+H24+I24 -> 0
A25: 17 | B25: 2025 оны 12-р сарын 31-ний үлдэгдэл | C25: =+C19+C20+C21+C22+C23+C24 -> 89362999 | D25: =+D19+D20+D21+D22+D23+D24 -> 0 | E25: =+E19+E20+E21+E22+E23+E24 -> 0 | F25: =+F19+F20+F21+F22+F23+F24 -> 78920257 | G25: =+G19+G20+G21+G22+G23+G24 -> 0 | H25: =+H19+H20+H21+H22+H23+H24 -> 0 | I25: =+I19+I20+I21+I22+I23+I24 -> -3.3043137e+09 | J25: =+C25+D25+E25+F25+G25+H25+I25 -> -3.1360304e+09 | K25: 0
D27: =+Nuur!A79 -> ГҮЙЦЭТГЭХ ЗАХИРАЛ. . . . . . . . . . . ................ .(Д.ЭРДЭНЭБИЛЭГ)
C29: Ерөнхий нягтлан бодогч ___________________ (Э. ОЮУНЦЭЦЭГ)

Sheet CT-4
A1: МӨНГӨН ГҮЙЛГЭЭНИЙ ТАЙЛАН
B2: ='CT-3'!B3 -> ''БҮТЭЭЛЧ ҮЙЛС"ХК | D2: =+'CT-2'!F3 -> 2025 оны 12 сарын 31 өдөр
A3: ='CT-3'!A4 -> ( Аж ахуйн нэгжийн нэр )
A4: Мөрийн дугаар | B4: ҮЗҮҮЛЭЛТ | C4: 45657 | D4: 46022
A5: 1 | B5: Үндсэн үйл ажиллагааны мөнгөн гүйлгээ
A6: 1.1 | B6: Мөнгөн орлогын дүн (+) | C6: =+C7+C8+C9+C10+C11+C12 -> 1.0336039e+09 | D6: =+D7+D8+D9+D10+D11+D12 -> 1.2664228e+09
B7: Бараа борлуулсан, үйлчилгээ үзүүлсэний орлого | C7: 1.0336039e+09 | D7: 1.2664228e+09
B8: Эрхийн шимтгэл, хураамж, төлбөрийн орлого
B9: Даатгалын нөхвөрөөс хүлээн авсан мөнгө
B10: Буцаан авсан албан татвар
B11: Татаас санхүүжилтийн орлого
B12: Бусад мөнгөн орлого
A13: 1.2 | B13: Мөнгөн зарлагын дүн (-) | C13: =+C14+C15+C16+C17+C18+C19+C20+C21+C22 -> 1.4949558e+09 | D13: =+D14+D15+D16+D17+D18+D19+D20+D21+D22 -> 2.7099302e+09
B14: Ажиллагчдад төлсөн | C14: 86540190 | D14: 104557965
B15: Нийгмийн даатгалын байгууллагд төлсөн | C15: 24669700 | D15: 31284560
B16: Бараа материал худалдан авахад төлсөн | C16: 1.0879853e+08 | D16: 6.535808e+08
B17: Ашиглалтын зардалд төлсөн | C17: 52924860 | D17: 82086686
B18: Түлш шатахуун, тээврийн хөлс, сэлбэг хэрэгсэлд төлсөн | C18: 54921480 | D18: 13053545
B19: Хүүний төлбөрт төлсөн | C19: 8.3232389e+08 | D19: 1.6137316e+09
B20: Татварын байгууллагад төлсөн | C20: 86594676 | D20: 1.6475426e+08
B21: Даатгалын төлбөрт төлсөн
B22: Бусад мөнгөн зарлага | C22: 2.4818244e+08 | D22: 46880787
A23: 1.3 | B23: Үндсэн үйл ажиллагааны цэвэр мөнгөн гүйлгээний дүн | C23: =+C6-C13 -> -4.613519e+08 | D23: =+D6-D13 -> -1.4435074e+09
A24: 2 | B24: Хөрөнгө оруулалтын үйл ажиллагааны мөнгөн гүйлгээ
A25: 2.1 | B25: Мөнгөн орлогын дүн (+) | C25: 895005.42 | D25: =+D31 -> 63949.57
B26: Үндсэн хөрөнгө борлуулсны орлого
B27: Биет бус хөрөнгө борлуулсны орлого
B28: Хөрөнгө оруулалт борлуулсны орлого
B29: Бусад урт хугацаат хөрөнгө борлуулсны орлого
B30: Бусдад олгосон зээл, мөнгөн урьдчилгааны буцаан төлөлт
B31: Хүлээн авсан хүүний орлого | C31: 895005.42 | D31: 63949.57
B32: Хүлээн авсан ногдол ашиг
A34: 2.2 | B34: Мөнгөн зарлагын дүн (-) | C34: 0 | D34: 0
B35: Үндсэн хөрөнгө олж эзэмшихэд төлсөн | C35: 0 | D35: 0
B36: Биет бус хөрөнгө олж эзэмшихэд төлсөн | C36: 0 | D36: 0
B37: Хөрөнгө оруулалт олж эзэмшихэд төлсөн | C37: 0 | D37: 0
B38: Бусад урт хугацаат хөрөнгө олж эзэмшихэд төлсөн | C38: 0 | D38: 0
B39: Бусдад олгосон зээл болон урьдчилгаа | C39: 0 | D39: 0
A41: 2.3 | B41: Хөрөнгө оруулалтын үйл ажиллагааны цэвэр мөнгө гүйлгээний дүн | C41: =+C25+C34 -> 895005.42 | D41: =+D25+D34 -> 63949.57
A42: 3 | B42: Санхүүгийн үйл ажиллагааны мөнгөн гүйлгээ | C42: 0 | D42: 0
...

Sheet D1
A1: САНХҮҮГИЙН ТАЙЛАНГИЙН
A2: ТОДРУУЛГА
A4: =+Nuur!A22 -> ''БҮТЭЭЛЧ ҮЙЛС"ХК | I4: =+Nuur!D5 -> 2025779
A5: ( Аж ахуйн нэгж, байгууллагын нэр )
B8: 6. | C8: Үндсэн үйл ажиллагааны чиглэл /төрөл/ :
B10: (а) | C10: Хувцас үйлдвэрлэл худалдаа
B11: (б)
B12: (в)
B14: 7. | C14: Туслах үйл ажиллагааны чиглэл /төрөл/ :
B16: (а) | H16: (г)
B17: (б) | H17: (д)
B18: (в)
B20: 8. | C20: Салбар, төлөөлөгчийн газрын нэр байршил :
B22: (а)
B23: (б)
B24: (в)
B25: (г)
E28: 1.Тайлан бэлтгэх үндэслэл
B29: 1 | C29: Нягтлан бодох бүртгэлээ НББОУС-ын дагуу аккурэл сууриар хөтөлдөг
B30: 2 | C30: Санхүүгийн тайланд өр, төлбөрийг Монгол улсын төгрөгөөр илэрхийлсэн
B31: 3 | C31: Хөрөнгөө түүхэн өртөгөөр үнэлсэн
B32: 4 | C32: Үндсэн хөрөнгийн элэгдэлийг татварын зорилгоор ашиглах жилийг тодорхойлсон
B33: ......................................................................................................................................................... | C33: ба шулуун шугамын аргаар элэгдлээ байгуулсан
B34: 5 | C34: Орлогоо үйлчлүүлэгчид үйлчилгээ үзүүлсэн үедээ хүлээн зөвшөөрсөн
B35: 6 | C35: Зардлаа орлого зардал уялдах зарчмын дагуу хүлээн зөвшөөрсөн
B36: 7 | C36: Татварын тооцооллыг Монгол улсын татварын багц хуулийн дагуу тодорхойлсон
B37: .........................................................................................................................................................
B38: .........................................................................................................................................................
B39: .........................................................................................................................................................
B40: .........................................................................................................................................................
E41: 2.Нягтлан бодох бүртгэлийн бодлогын өөрчлөлт
B42: .........................................................................................................................................................
B43: .........................................................................................................................................................
B44: .........................................................................................................................................................
B45: .........................................................................................................................................................
B46: .........................................................................................................................................................
B47: .........................................................................................................................................................
B48: .........................................................................................................................................................
B49: .........................................................................................................................................................
B50: .........................................................................................................................................................
...

Sheet D2
A1: 3. МӨНГӨ БА ТҮҮНТЭЙ АДИЛТГАХ ХӨРӨНГӨ
A3: Касс дахь мөнгө | K3: (төгрөг/валют)
A5: № | B5: Төрөл | F5: Эхний үлдэгдэл | J5: Эцсийн үлдэгдэл
F6: Валютаар | H6: Төгрөгөөр | J6: Валютаар | L6: Төгрөгөөр
A7: 1 | B7: Кассад байгаа бэлэн мөнгө | F7: 0 | H7: =+'Guilgee balance'!D8 -> 2.4919433e+09 | L7: =+'Guilgee balance'!H8 -> 1.2117864e+09
A8: 2 | B8: Банкин дахь мөнгө | H8: =+'Guilgee balance'!D14+'Guilgee balance'!D20 -> 119129.93 | L8: =+'Guilgee balance'!H14+'Guilgee balance'!H17+'Guilgee balance'!H18+'Guilgee balance'!H20+'Guilgee balance'!H21+'Guilgee balance'!H23 -> 1320366
A9: 3 | B9: Мөнгө түүнтэй адилтгах
B10: Дүн | F10: =SUM(F7:G9) -> 0 | H10: =SUM(H7:I9) -> 2.4920625e+09 | J10: =SUM(J7:K9) -> 0 | L10: =SUM(L7:M9) -> 1.2131068e+09
A11: Тэмдэглэл: | D11: (Мөнгө, түүнтэй адилтгах хөрөнгөтэй холбоотой тайлбар, тэмдэглэлийг хийнэ).
A12: ......................................................................................................................................................
A13: ......................................................................................................................................................
A14: ......................................................................................................................................................
A15: 4. ДАНСНЫ БОЛОН БУСАД АВЛАГА
A17: 4.1 Дансны авлага
A19: № | B19: Авлагын ангилал | F19: Дансны авлага | I19: Найдваргүй авлагын хасагдуулга | K19: Дансны авлага /цэвэр/
A20: 1 | B20: Эхний үлдэгдэл | F20: =+'Guilgee balance'!D25+'Guilgee balance'!D26 -> 1500000 | K20: =+F20 -> 1500000
A21: 2 | B21: Нэмэгдсэн | F21: =+'Guilgee balance'!F24 -> 992750 | K21: =+F21 -> 992750
A22: 3 | B22: Хасагдсан | F22: =+F24+F23 -> 0 | K22: =+F22 -> 0
B23: Төлөгдсөн | F23: =+'Guilgee balance'!G24 -> 0 | K23: =+F23 -> 0
B24: Найдваргүй болсон | K24: =+F24 -> 0
A25: 4 | B25: Эцсийн үлдэгдэл | F25: =+F20+F21-F22 -> 2492750 | K25: =+K20+K21-K22 -> 2492750
A27: 4.2 Татвар, нийгмийн даатгалын шимтгэл (НДШ) - ийн авлага
A29: № | B29: Төрөл | H29: Эхний үлдэгдэл | K29: Эцсийн үлдэгдэл
A30: 1 | B30: ААНОАТ-н авлага | H30: =+'Guilgee balance'!D30 -> 0 | K30: =+'Guilgee balance'!H30 -> 0
A31: 2 | B31: НӨАТ-н авлга | H31: =+'Guilgee balance'!D35 -> 0 | K31: =+'Guilgee balance'!H35 -> 0
A32: 3 | B32: НДШ-н авлага | H32: =+'Guilgee balance'!D27 -> 0 | K32: =+'Guilgee balance'!H27 -> 7250
A33: 4 | B33: ХХОАТ авлага | H33: =+'Guilgee balance'!D31 -> 0 | K33: =+'Guilgee balance'!H31 -> 0
B34: Бусад татварын авлага | H34: =+'Guilgee balance'!D33 -> 0 | K34: =+'Guilgee balance'!H33 -> 0
A35: 5 | B35: Дүн | H35: =+H30+H31+H32+H33+H34 -> 0 | K35: =+K30+K31+K32+K33+K34 -> 7250
A37: 4.3 Бусад богино хугацаат авлага/ төрөлөөр/
A39: № | B39: Урьдчилгаа төлбөрийн ангилал | H39: Эхний үлдэгдэл | K39: Эцсийн үлдэгдэл
A40: 1 | B40: Холбоотой талаас авах авлага/ЭХ-н/
A41: 2 | B41: Ажиллагчдаас авах авлага
A42: 3 | B42: Ногдол ашгийн авлага
A43: 4 | B43: Хүүний авлага
A44: 5 | B44: Богино хугацаат авлагын бичиг
A45: 6 | B45: Бусад талуудаас авах авлага
A46: 7 | B46: Бусад авлага | H46: =+'Guilgee balance'!D37 -> 0 | K46: =+'Guilgee balance'!H37 -> 0
A47: 8 | B47: Дүн | H47: =+H40+H41+H42+H43+H44+H45+H46 -> 0 | K47: =+K40+K41+K42+K43+K44+K45+K46 -> 0
A49: Тэмдэглэл. (Дансны авлагыг төлөгдөх хугацаандаа байгаа, хугацаа хэтэрсэн, төлөгдөх найдваргүй гэж ангилна. Найдваргүй авлагын хасагдуулга байгуулсан арга, гадаад валютаар илэрхийлэгдсэн авлагын талаар болон бусад тайлбар, тэмдэглэлийг хийнэ).
...

Sheet D3
A1: 5.БУСАД САНХҮҮГИЙН ЭХ ҮҮСВЭР
A2: № | B2: Төрөл | F2: Эхний үлдэгдэл | J2: Эцсийн үлдэгдэл
A3: 1
A4: 2
A5: 3 | B5: Нийт | F5: =+F3+F4 -> 0 | J5: =+J3+J4 -> 0
A7: 6. БАРАА МАТЕРИАЛ | B7: БАРАА МАТЕРИАЛ
A9: № | B9: Үзүүлэлтүүд | D9: Бараа материалын төрөл | M9: Нийт
D10: Түүхий эд материал | E10: Дуусаагүй үйлдвэрлэл | G10: Бэлэн бүтээгдэхүүн | I10: Бараа | K10: Хангамжийн материал
A11: 1 | B11: Эхний үлдэгдэл/өртөг/ | D11: =+'Guilgee balance'!D43 -> 1.2451797e+08 | G11: =+'Guilgee balance'!D48 -> 28043222 | K11: =+'Guilgee balance'!D50 -> 0 | M11: =+D11+E11+G11+I11+K11 -> 1.5256119e+08
A12: 2 | B12: Нэмэгдсэн дүн | D12: =+'Guilgee balance'!F43 -> 1.160904e+09 | G12: =+'Guilgee balance'!F48 -> 3.2199003e+08 | K12: =+'Guilgee balance'!F50 -> 0 | M12: =+D12+E12+G12+I12+K12 -> 1.482894e+09
A13: 3 | B13: Хасагдсан дүн | D13: =+'Guilgee balance'!G43 -> 6.2342719e+08 | G13: =+'Guilgee balance'!G48 -> 3.020832e+08 | K13: =+'Guilgee balance'!G50 -> 0 | M13: =+D13+E13+G13+I13+K13 -> 9.2551039e+08
A14: 4 | B14: Эцсийн үлдэгдэл | D14: =+'Guilgee balance'!H43 -> 6.6199478e+08 | G14: =+'Guilgee balance'!H48 -> 47950055 | K14: =+'Guilgee balance'!H50 -> 0 | M14: =+D14+E14+G14+I14+K14 -> 7.0994484e+08
A15: 5 | B15: Үнийн бууралтын гарз | M15: =+D15+E15+G15+I15+K15 -> 0
A16: 6 | B16: Үнийн бууралтын буцаалт | M16: =+D16+E16+G16+I16+K16 -> 0
A17: 7 | B17: Дансны цэвэр дүн | M17: =+D17+E17+G17+I17+K17 -> 0
A18: 8 | B18: Эхний үлдэгдэл | D18: =+D14 -> 6.6199478e+08 | G18: =+G14 -> 47950055 | K18: =+K14 -> 0 | M18: =+D18+E18+G18+I18+K18 -> 7.0994484e+08
A19: 9 | B19: Эцсийн үлдэгдэл | D19: =+D18 -> 6.6199478e+08 | G19: =+G18 -> 47950055 | K19: =+K18 -> 0 | M19: =+D19+E19+G19+I19+K19 -> 7.0994484e+08
A21: *Дансны цэвэр дүнгийн эхний, эцсийн үлдэгдлийн нийт дүн нь санхүүгийн байдлын тайлан дахь бараа материалын дансны эхний, эцсийн үлдэгдлийн дүнтэй тэнцүү байна.
A23: Тэмдэглэл. (Бараа материалын өртгийг тодорхойлоход ашигласан арга, бараа материалын бүртгэлийн систем, өртөг болон цэвэр боломжит үнийн аль багыг сонгох аргын талаар тайлбар, тэмдэглэл хийнэ).
A26: .............................................................................................................................................................................................................
A27: .............................................................................................................................................................................................................
A28: .............................................................................................................................................................................................................
A29: 7.БОРЛУУЛАХ ЗОРИЛГООР ЭЗЭМШИЖ БУЙ ЭРГЭЛТИЙН БУС ХӨРӨНГӨ (ЭСВЭЛ БОРЛУУЛАХ БҮЛЭГ ХӨРӨНГӨ) БОЛОН ӨР ТӨЛБӨР
A31: Тэмдэглэл. (Борлуулах зорилгоор эзэмшиж буй эргэлтийн бус хөрөнгө (эсвэл борлуулах бүлэг хөрөнгө) болон өр төлбөрийн тодорхойлолт, хэмжилтийн суурь, борлуулалт хийгдсэн аль эсвэл хийгдэхэд хүргэсэн нөхцөл байдал, борлуулах арга, хугацаа, хүлээн зөвшөөрсөн олз ба гарз болон бусад тайлбар, тэмдэглэлийг хийнэ).
A33: .............................................................................................................................................................................................................
A34: .............................................................................................................................................................................................................
A35: .............................................................................................................................................................................................................
A37: 8. УРЬДЧИЛЖ ТӨЛСӨН ЗАРДАЛ/ТООЦОО
A39: № | B39: Малын төрөл | F39: Эхний үлдэгдэл | J39: Эцсийн үлдэгдэл
A41: 1 | B41: Урьдчилж төлсөн зардал | F41: =+'Guilgee balance'!D58 -> 0 | J41: =+'Guilgee balance'!H58 -> 0
A42: 2 | B42: Урьдчилж төлсөн түрээс, даатгал
A43: 3 | B43: Бэлтгэн нийлүүлэгчид төлсөн урьдчилгаа
A44: 4 | B44: Урьдчилж төлсөн тооцоо | F44: =+'Guilgee balance'!D53 -> 1.9119352e+09 | J44: =+'Guilgee balance'!H53 -> 1.6413938e+09
A45: 5 | B45: Нийт | F45: =+F41+F42+F43+F44 -> 1.9119352e+09 | J45: =+J41+J42+J43+J44 -> 1.6413938e+09

Sheet D4
B1: 9. Үндсэн хөрөнгө ба элэгдэл
A3: № | B3: Үзүүлэлт | C3: Газрын сайжируулалт | D3: Барилга байгууламж | E3: Машин тоног төхөөрөмж | F3: Тээврийн хэрэгсэл | G3: Тавилга эд хогшил | H3: Компьютер, дагалдах хэрэгсэл | I3: Бусад | J3: Бүгд
A4: 1 | B4: Үндсэн хөрөнгийн өртөг
A5: 1.1 | B5: Эхний үлдэгдэл | C5: =+'Guilgee balance'!D62 -> 0 | D5: =+'Guilgee balance'!D64 -> 3.6224335e+08 | E5: =+'Guilgee balance'!D72 -> 40290000 | F5: =+'Guilgee balance'!D76 -> 22000000 | G5: =+'Guilgee balance'!D68 -> 0 | H5: =+'Guilgee balance'!D86 -> 0 | I5: =+'Guilgee balance'!D80 -> 0 | J5: =SUM(C5:I5) -> 4.2453335e+08
A6: 1.2 | B6: Нэмэгдсэн: | C6: =SUM(C7:C10) -> 0 | D6: =SUM(D7:D10) -> 0 | E6: =SUM(E7:E10) -> 0 | F6: =SUM(F7:F10) -> 0 | G6: =+G7+G8+G9+G10 -> 0 | H6: =+H7+H8+H9+H10 -> 0 | I6: =SUM(I7:I10) -> 0 | J6: =SUM(C6:I6) -> 0
B7: Өөрөө үйлдвэрлэсэн | J7: =SUM(C7:I7) -> 0
B8: Худалдаж авсан | C8: =+'Guilgee balance'!F62 -> 0 | D8: =+'Guilgee balance'!F64 -> 0 | E8: =+'Guilgee balance'!F72 -> 0 | F8: =+'Guilgee balance'!F76 -> 0 | G8: =+'Guilgee balance'!F68 -> 0 | H8: =+'Guilgee balance'!F86 -> 0 | I8: =+'Guilgee balance'!F80 -> 0 | J8: =SUM(C8:I8) -> 0
B9: Үнэ төлбөргүй авсан | J9: =SUM(C9:I9) -> 0
B10: Дахин үнэлгээний нэмэгдэл | J10: =SUM(C10:I10) -> 0
A11: 1.3 | B11: Хасагдсан: | C11: =SUM(C12:C15) -> 0 | D11: =SUM(D12:D15) -> 0 | E11: =SUM(E12:E15) -> 0 | F11: =SUM(F12:F15) -> 0 | G11: =SUM(G12:G15) -> 0 | H11: =SUM(H12:H15) -> 0 | I11: =SUM(I12:I15) -> 0 | J11: =SUM(C11:I11) -> 0
B12: Худалдсан | C12: =+'Guilgee balance'!G62 -> 0 | D12: =+'Guilgee balance'!G64 -> 0 | E12: =+'Guilgee balance'!G72 -> 0 | F12: =+'Guilgee balance'!G76 -> 0 | G12: =+'Guilgee balance'!G68 -> 0 | H12: =+'Guilgee balance'!G86 -> 0 | I12: =+'Guilgee balance'!G80 -> 0 | J12: =SUM(C12:I12) -> 0
B13: Үнэгүй шилжүүлсэн | J13: =SUM(C13:I13) -> 0
B14: Акталж, устгасан | J14: =SUM(C14:I14) -> 0
B15: Бусад | J15: =SUM(C15:I15) -> 0
A16: 1.4 | B16: Үндсэн хөрөнгө дахин ангилсан
A17: 1.5 | B17: Үндсэн хөрөнгө, ХОЗҮХХ хооронд дахин ангилсан
A18: 1.6 | B18: Эцсийн үлдэгдэл | C18: =C5+C6-C11 -> 0 | D18: =D5+D6-D11 -> 3.6224335e+08 | E18: =E5+E6-E11 -> 40290000 | F18: =F5+F6-F11 -> 22000000 | G18: =+'Guilgee balance'!H68 -> 0 | H18: =+'Guilgee balance'!H86 -> 0 | I18: =+'Guilgee balance'!H80 -> 0 | J18: =SUM(C18:I18) -> 4.2453335e+08
A19: 2 | B19: Хуримтлагдсан элэгдэл
A20: 2.1 | B20: Эхний үлдэгдэл | D20: =+'Guilgee balance'!E66 -> 1.235056e+08 | E20: =+'Guilgee balance'!E74 -> 38324943 | F20: =+'Guilgee balance'!E78 -> 22000000 | G20: =+'Guilgee balance'!E70 -> 0 | H20: =+'Guilgee balance'!E88 -> 0 | I20: =+'Guilgee balance'!E82 -> 0 | J20: =SUM(C20:I20) -> 1.8383054e+08
A21: 2.2 | B21: Нэмэгдсэн дүн:
B22: Байгуулсан элэгдэл | D22: =+'Guilgee balance'!G66 -> 9056084.3 | E22: =+'Guilgee balance'!G74 -> 1965057.1 | F22: =+'Guilgee balance'!G78 -> 0 | G22: =+'Guilgee balance'!G70 -> 0 | H22: =+'Guilgee balance'!G88 -> 0 | I22: =+'Guilgee balance'!G83 -> 0 | J22: =SUM(C22:I22) -> 11021141
B23: Дахин үнэлгээгээр нэмэгдсэн | J23: =SUM(C23:I23) -> 0
B24: Үнэ цэнийн бууралтын буцаалт | J24: =SUM(C24:I24) -> 0
A25: 2.3 | B25: Хасагдсан дүн: | J25: =SUM(C25:I25) -> 0
B26: Данснаас хасагдсан хөрөнгийн элэгдэл | D26: =+'Guilgee balance'!F66 -> 0 | E26: =+'Guilgee balance'!F74 -> 0 | F26: =+'Guilgee balance'!F78 -> 0 | G26: =+'Guilgee balance'!F70 -> 0 | H26: =+'Guilgee balance'!F92 -> 0 | I26: =+'Guilgee balance'!F82 -> 0 | J26: =SUM(C26:I26) -> 0
B27: Дахин үнэлгээгээр хасагдсан | J27: =SUM(C27:I27) -> 0
B28: Үнэ цэнийн бууралт | J28: =SUM(C28:I28) -> 0
A29: 2.4 | B29: Эцсийн үлдэгдэл | D29: =+'Guilgee balance'!I66 -> 1.3256168e+08 | E29: =+'Guilgee balance'!I74 -> 40290000 | F29: =+'Guilgee balance'!I78 -> 22000000 | G29: =+'Guilgee balance'!I70 -> 0 | H29: =+'Guilgee balance'!I88 -> 0 | I29: =+'Guilgee balance'!I82 -> 0 | J29: =SUM(C29:I29) -> 1.9485168e+08
A30: 3 | B30: Дансны цэвэр дүн
A31: 3.1 | B31: Эхний үлдэгдэл /1.1-2.1/ | C31: =+C5-C20 -> 0 | D31: =+D5-D20 -> 2.3873775e+08 | E31: =+E5-E20 -> 1965057.1 | F31: =+F5-F20 -> 0 | G31: =+G5-G20 -> 0 | H31: =+H5-H20 -> 0 | I31: =+I5-I20 -> 0 | J31: =+J5-J20 -> 2.4070281e+08
A32: 3.2 | B32: Эцсийн үлдэгдэл /1.6-2.4/ | C32: =+C18-C29 -> 0 | D32: =+D18-D29 -> 2.2968167e+08 | E32: =+E18-E29 -> 0 | F32: =+F18-F29 -> 0 | G32: =+G18-G29 -> 0 | H32: =+H18-H29 -> 0 | I32: =+I18-I29 -> 0 | J32: =+J18-J29 -> 2.2968167e+08
A33: Тэмдэглэл. (Үндсэн хөрөнгийн анги бүрийн хувьд ашигласан хэмжилтийн суурь; элэгдэл тооцох арга; ашиглалтын хугацаа; дахин үнэлсэн бол дахин үнэлгээ хүчинтэй болсон хугацаа, хараат бус үнэлгээчин үнэлсэн эсэх талаар; үндсэн хөрөнгийн дахин ангилал, түүний шалтгаан; бусад тайлбар тэмдэглэлийг хийнэ).Тэмдэглэл. (Үндсэн хөрөнгийн анги бүрийн хувьд ашигласан хэмжилтийн суурь; элэгдэл тооцох арга; ашиглалтын хугацаа; дахин үнэлсэн бол дахин үнэлгээ хүчинтэй болсон хугацаа, хараат бус үнэлгээчин үнэлсэн эсэх талаар; үндсэн хөрөнгийн дахин ангилал, түүний шалтгаан; бусад тайлбар эмдэглэлийг хийнэ).
A35: ..........................................................................................................................................................................................................................................................................................................................
A36: ..........................................................................................................................................................................................................................................................................................................................
A37: ..........................................................................................................................................................................................................................................................................................................................

Sheet D5
B1: 10.Биет бус хөрөнгө
A3: № | B3: Үзүүлэлт | C3: Зохиогчийн эрх | D3: Компьютерын програм хангамж | E3: Патент | F3: Барааны тэмдэг | G3: Тусгай зөвшөөрөл | H3: Газар эзэмших эрх | I3: Бусад | J3: Бүгд
A4: 1 | B4: Үндсэн хөрөнгийн өртөг
A5: 1.1 | B5: Эхний үлдэгдэл | D5: =+'Guilgee balance'!D90 -> 0 | F5: 0 | G5: =+'Guilgee balance'!D94 -> 0 | H5: 0 | I5: 0 | J5: =SUM(C5:I5) -> 0
A6: 1.2 | B6: Нэмэгдсэн: | C6: =SUM(C7:C10) -> 0 | D6: =SUM(D7:D10) -> 0 | E6: =SUM(E7:E10) -> 0 | F6: =SUM(F7:F10) -> 0 | G6: =+G7+G8+G9+G10 -> 0 | H6: =+H7+H8+H9+H10 -> 0 | I6: =SUM(I7:I10) -> 0 | J6: =SUM(C6:I6) -> 0
B7: Өөрөө үйлдвэрлэсэн | J7: =SUM(C7:I7) -> 0
B8: Худалдаж авсан | D8: =+'Guilgee balance'!F90 -> 0 | E8: 0 | F8: 0 | G8: =+'Guilgee balance'!F94 -> 0 | H8: 0 | I8: 0 | J8: =SUM(C8:I8) -> 0
B9: Үнэ төлбөргүй авсан | J9: =SUM(C9:I9) -> 0
B10: Дахин үнэлгээний нэмэгдэл | J10: =SUM(C10:I10) -> 0
A11: 1.3 | B11: Хасагдсан: | C11: =SUM(C12:C15) -> 0 | D11: =SUM(D12:D15) -> 0 | E11: =SUM(E12:E15) -> 0 | F11: =SUM(F12:F15) -> 0 | G11: =SUM(G12:G15) -> 0 | H11: =SUM(H12:H15) -> 0 | I11: =SUM(I12:I15) -> 0 | J11: =SUM(C11:I11) -> 0
B12: Худалдсан | D12: =+'Guilgee balance'!G90 -> 0 | E12: 0 | F12: 0 | G12: =+'Guilgee balance'!G94 -> 0 | H12: 0 | I12: 0 | J12: =SUM(C12:I12) -> 0
B13: Үнэгүй шилжүүлсэн | J13: =SUM(C13:I13) -> 0
B14: Акталж, устгасан | J14: =SUM(C14:I14) -> 0
B15: Бусад | J15: =SUM(C15:I15) -> 0
A16: 1.4 | B16: Үндсэн хөрөнгө дахин ангилсан
A17: 1.5 | B17: Үндсэн хөрөнгө, ХОЗҮХХ хооронд дахин ангилсан
A18: 1.6 | B18: Эцсийн үлдэгдэл | C18: =C5+C6-C11 -> 0 | D18: =D5+D6-D11 -> 0 | E18: =E5+E6-E11 -> 0 | F18: =F5+F6-F11 -> 0 | G18: =G5+G6-G11 -> 0 | H18: =H5+H6-H11 -> 0 | I18: =I5+I6-I11 -> 0 | J18: =SUM(C18:I18) -> 0
A19: 2 | B19: Хуримтлагдсан хорогдол
A20: 2.1 | B20: Эхний үлдэгдэл | D20: =+'Guilgee balance'!E92 -> 0 | E20: 0 | F20: 0 | G20: 0 | H20: 0 | I20: 0 | J20: =SUM(C20:I20) -> 0
A21: 2.2 | B21: Нэмэгдсэн дүн:
B22: Байгуулсан хорогдол | D22: =+'Guilgee balance'!G92 -> 0 | E22: 0 | F22: 0 | G22: 0 | H22: 0 | I22: 0 | J22: =SUM(C22:I22) -> 0
B23: Дахин үнэлгээгээр нэмэгдсэн | E23: 0 | F23: 0 | G23: 0 | H23: 0 | I23: 0 | J23: =SUM(C23:I23) -> 0
B24: Үнэ цэнийн бууралтын буцаалт | C24: 0 | D24: 0 | E24: 0 | F24: 0 | G24: 0 | H24: 0 | I24: 0 | J24: =SUM(C24:I24) -> 0
A25: 2.3 | B25: Хасагдсан дүн:
B26: Данснаас хасагдсан хөрөнгийн хорогдол | D26: =+'Guilgee balance'!F92 -> 0
B27: Дахин үнэлгээгээр хасагдсан
B28: Үнэ цэнийн бууралт
A29: 2.4 | B29: Эцсийн үлдэгдэл | D29: =+'Guilgee balance'!I92 -> 0
A30: 3 | B30: Дансны цэвэр дүн
A31: 3.1 | B31: Эхний үлдэгдэл /1.1-2.1/ | C31: =+C5-C20 -> 0 | D31: =+D5-D20 -> 0 | E31: =+E5-E20 -> 0 | F31: =+F5-F20 -> 0 | G31: =+G5-G20 -> 0 | H31: =+H5-H20 -> 0 | I31: =+I5-I20 -> 0 | J31: =+J5-J20 -> 0
A32: 3.2 | B32: Эцсийн үлдэгдэл /1.6-2.4/ | C32: =+C18-C29 -> 0 | D32: =+D18-D29 -> 0 | E32: =+E18-E29 -> 0 | F32: =+F18-F29 -> 0 | G32: =+G18-G29 -> 0 | H32: =+H18-H29 -> 0 | I32: =+I18-I29 -> 0 | J32: =+J18-J29 -> 0
A33: Тэмдэглэл. (Биет бус хөрөнгийн анги бүрийн хувьд ашигласан хэмжилтийн суурь, хорогдол тооцох арга, ашиглалтын хугацаа, дахин үнэлсэн бол дахин үнэлгээ хүчинтэй болсон хугацаа, хараат бус үнэлгээчин үнэлсэн эсэх, бусад биет бус хөрөнгийн бүрэлдэхүүн болон бусад тайлбар тэмдэглэлийг хийнэ)
A35: ..........................................................................................................................................................................................................................................................................................................................
A36: ..........................................................................................................................................................................................................................................................................................................................
A37: ..........................................................................................................................................................................................................................................................................................................................

Sheet D6
A1: 11.ДУУСААГҮЙ БАРИЛГА
A3: № | B3: Дуусаагүй барилгын нэр | C3: Эхэлсэн он | D3: Дуусгалтын хувь | E3: Нийт төсөвт өртөг | F3: Ашиглалтад орох
A5: 1
A6: 2
A7: 3
A9: 12.БИОЛОГИЙН ХӨРӨНГӨ
A11: № | B11: Биологын хөрөнгийн нэр | C11: Эхний үлдэгдэл | E11: Эцсийн үлдэгдэл
C12: Тоо | D12: Дансны үнэ | E12: Тоо | F12: Дансны үнэ
A13: 1
A14: 2
A15: 3
A16: Тэмдэглэл. (Биологийн хөрөнгийн хэмжилтийн суурь болон бусад тайлбар, тэмдэглэлийг хийнэ).
A17: ...................................................................................................................................................................................................
A18: ...................................................................................................................................................................................................
A19: ...................................................................................................................................................................................................
A21: 13.УРТ ХУГАЦААТ ХӨРӨНГӨ ОРУУЛАЛТ
A23: № | B23: Урт хугацаат хөрөнгийн нэр | C23: Эхний үлдэгдэл | E23: Эцсийн үлдэгдэл
C24: ХО-н хувь | D24: ХО-н дүн | E24: ХО-н хувь | F24: ХО-н дүн
A25: 1
A26: 2
A27: 3
A28: Тэмдэглэл. ( Урт хугацаат хөрөнгө оруулалттай холбоотой бий болсон олз, гарзын дүн, бүртгэсэн аргыг тодруулна. Охин компани, хамтын хяналттай аж ахуйн нэгж, хараат компанид оруулсан хөрөнгө оруулалтыг НББОУС 27 Нэгтгэсэн болон тусдаа санхүүгийн тайлан – ийн дагуу тодруулна).
A31: ...................................................................................................................................................................................................
A32: ...................................................................................................................................................................................................
A33: ...................................................................................................................................................................................................
A35: 14.ХӨРӨНГӨ ОРУУЛАЛТЫН ЗОРИУЛАЛТТАЙ ҮЛ ХӨДЛӨХ ХӨРӨНГӨ
A36: Тэмдэглэл. (Хөрөнгө оруулалтын зориулалттай үл хөдлөх хөрөнгийн хувьд ашигласан хэмжилтийн суурь; бодит үнэ цэнийн загвар ашигладаг бол бодит үнэ цэнийг тодорхойлоход ашигласан арга, бодит үнэ цэнийн тохируулгаас үүссэн олз, гарз; хэрэв түрээслэдэг бол түрээсийн орлого, түрээслэсэн хөрөнгөтэй холбоотой гарсан зардлууд. Хэрэв өртгийн загвар ашигладаг бол хөрөнгийн ашиглалтын хугацаа, элэгдэл тооцох арга болон НББОУС 40 Хөрөнгө оруулалтын зориулалттай үл хөдлөх хөрөнгө – д заасны дагуу бусад тодруулгыг хийнэ).
A41: ...................................................................................................................................................................................................
A42: ...................................................................................................................................................................................................
A43: ...................................................................................................................................................................................................
A44: ...................................................................................................................................................................................................
A45: 15.БУСАД ЭРГЭЛТИЙН БУС ХӨРӨНГӨ
A47: № | B47: Урт хугацаат хөрөнгийн нэр | C47: Эхний үлдэгдэл | E47: Эцсийн үлдэгдэл
A49: 1
A50: 2
A51: 3
A52: Тэмдэглэл. ( Бусад эргэлтийн бус хөрөнгийн төрөл тус бүрээр тайлбар, тэмдэглэлийг хийнэ. Урт хугацаат авлагыг тодруулна).

Sheet D7
A1: 16.ӨР ТӨЛБӨР
B2: 16.1 Дансны өглөг
A3: № | B3: Ангилал | D3: Эхний үлдэгдэл | F3: Эцсийн үлдэгдэл
A4: 1 | B4: Хугацаандаа байгаа | D4: =+'Guilgee balance'!E98 -> 1156088532 | F4: =+'Guilgee balance'!I98 -> 1131088532
A5: 2 | B5: Хугацаа хэтэрсэн
A6: 3
A7: 4 | B7: Нийт | D7: =+D4+D5+D6 -> 1156088532 | F7: =+F4+F5+F6 -> 1131088532
B9: 16.2 Татварын өр
A10: № | B10: Татварын өрийн төрөл | D10: Эхний үлдэгдэл | F10: Эцсийн үлдэгдэл
A11: 1 | B11: ААНОАТ | D11: =+'Guilgee balance'!E110 -> 0 | F11: =+'Guilgee balance'!I110 -> 0
A12: 2 | B12: НӨАТ | D12: =+'Guilgee balance'!E108 -> 43270932 | F12: =+'Guilgee balance'!I108 -> 4170606
A13: 3 | B13: ХХОАТ | D13: =+'Guilgee balance'!E105 -> 3423840 | F13: =+'Guilgee balance'!I105 -> 1600455
A14: 4 | B14: ОАТ
A15: 5 | B15: Бусад татварын өр | D15: =+'Guilgee balance'!E103 -> 0 | F15: =+'Guilgee balance'!I103 -> 0
A16: 6 | B16: НДШ өр | D16: =+'Guilgee balance'!E112 -> 2199000 | F16: =+'Guilgee balance'!I112 -> 2599790
A17: 7 | B17: Нийт өр | D17: =+D11+D12+D13+D14+D15+D16 -> 48893772 | F17: =+F11+F12+F13+F14+F15+F16 -> 8370851
B19: 16.3 Богино хугацаат зээл
A20: № | B20: Ангилал | D20: Эхний үлдэгдэл | F20: Эцсийн үлдэгдэл
D21: Төгрөг | E21: Валют | F21: Төгрөг | G21: Валют
A22: 2 | B22: Төлөх хугацаандаа байгаа | D22: =+'Guilgee balance'!E114 -> 0 | F22: =+'Guilgee balance'!I114 -> 0
A23: 3 | B23: Хугацаа хэтэрсэн
A25: 4 | B25: Нийт | D25: =+D22+D23+D24 -> 0 | E25: =+E22+E23+E24 -> 0 | F25: =+F22+F23+F24 -> 0 | G25: =+G22+G23+G24 -> 0
B27: 16.4 Богино хугацаат нөөц /өр төлбөр/
A28: № | B28: Нөөцийн төрөл | C28: Эхний үлдэгдэл | D28: Нэмэгдсэн | E28: Хасагдсэн | F28: Ашиглаагүй | G28: Эцсийн үлдэгдэл
A29: 1 | B29: Баталгаат засвар
A30: 2 | B30: Нөхөн сэргээлт
A31: 3
A32: 4 | B32: Нийт
A33: Тэмдэглэл. (Урт хугацаат нөөцийн дүнг тодруулна. Нөөцийн төрлөөр тайлбар, тэмдэглэл хийнэ)
A34: .............................................................................................................................................................
B36: 16.5 Бусад богино хугацаат өр төлбөр
A37: № | B37: Төрөл | D37: Эхний үлдэгдэл | F37: Эцсийн үлдэгдэл
A38: 1 | B38: Бусад богино хугацаат өглөг | D38: =+'Guilgee balance'!E122 -> 0 | F38: =+'Guilgee balance'!I122 -> 0
A39: 2 | B39: Хүүгийн өглөг | D39: =+'Guilgee balance'!E118 -> 0 | F39: =+'Guilgee balance'!I118 -> 0
A40: 3 | B40: Нийт | D40: =+D38+D39 -> 0 | F40: =+F38+F39 -> 0
A41: Тэмдэглэл. (Гадаад валютаар илэрхийлэгдсэн богино хугацаат өр төлбөрийн дүнг тусад нь тодруулна).
A42: ............................................................................................................................................................
B43: 16.6 Урт хугацаат зээл болон бусад урт хугацаат өр төлбөр
A44: № | B44: Ангилал | D44: Эхний үлдэгдэл | F44: Эцсийн үлдэгдэл
D45: Төгрөг | E45: Валют | F45: Төгрөг | G45: Валют
...

Sheet D8
A1: 17.ЭЗДИЙН ӨМЧ
A3: 17.1 Өмч
A4: № | B4: Үзүүлэлт | C4: Эргэлтэд байгаа бүрэн төлөгдсөн энгийн хувьцаа | E4: Давуу эрхтэй хувьцаа | G4: Өмчийн дүн/Төг/
C6: Тоо ширхэг | D6: Дүн /Төг/ | E6: Тоо ширхэг | F6: Дүн /Төг/
A7: 1 | B7: Эхний үлдэгдэл | G7: =+'Guilgee balance'!E131 -> 89362999
A8: 2 | B8: Нэмэгдсэн | G8: =+'Guilgee balance'!G131 -> 0
A9: 3 | B9: Хасагдсан | G9: =+'Guilgee balance'!F131 -> 0
A10: 4 | B10: Эцсийн үлдэгдэл | D10: =+D7 -> 0 | G10: =+G7+G8-G9 -> 89362999
A12: 17.2 Хөрөнгийн дахин үнэлгээний нэмэгдэл
A14: № | B14: Үзүүлэлт | C14: Үндсэн хөрөнгийн дахин үнэлгээний нэмэгдэл | E14: Биет бус хөрөнгийн дахин үнэлгээний нэмэгдэл | G14: Нийт дүн
A16: 1 | B16: Эхний үлдэгдэл | G16: =+C16 -> 0
A17: 2 | B17: Нэмэгдсэн
B18: *ДҮ-нэмэгдлийн зөрүү
B19: *ДҮХ-н ҮЦБ-н гарзын буцаалт
A21: 3 | B21: Хасагдсан
B22: *ДҮ-нэмэгдлийн зөрүү
B23: *ДҮ-нэмэгдлийн хэрэгжсэн дүн
B25: *ДҮ-н хөрөнгийн үнэ цэнийн бууралтын гарз
A27: 4 | B27: Эцсийн үлдэгдэл | C27: =+C16 -> 0 | G27: =+C27 -> 0
A29: 17.3 Гадаад валютын хөрвүүлэлтийн нөөц
A31: № | B31: Үзүүлэлт | D31: Эхний үлд | E31: Нэмэгдсэн | F31: Хасагдсан | G31: Эцсийн үлдэгдэл
A32: 1 | B32: Гадаад Ү/А-н хөрвүүлэлтийн зөрүү
A33: 2 | B33: Бүртгэлийн валютыг толилуулгын валютад хөрвүүлсэний зөрүү
A35: 3 | B35: Бусад
A36: 4 | B36: Нийт
A38: 17.4 Эздийн өмчийн бусад хэсэг
A40: Тэмдэглэл. (Эздийн өмчийн бусад хэсгийн бүрэлдэхүүн тус бүрээр тодруулж тайлбар, тэмдэглэл хийнэ).
B41: Эзэмшигчийн өмчийн бусад хэсэг
A42: ....................................................................................................................................................
A43: ....................................................................................................................................................
A44: ....................................................................................................................................................
A45: ....................................................................................................................................................
A46: ....................................................................................................................................................
A47: ....................................................................................................................................................
A48: ....................................................................................................................................................
A49: ....................................................................................................................................................
A50: ....................................................................................................................................................
A51: ....................................................................................................................................................
A52: ....................................................................................................................................................
A53: ....................................................................................................................................................
...

Sheet D9
A1: 18.БОРЛУУЛАЛТЫН ОРЛОГО БОЛОН БОРЛУУЛАЛТЫН ӨРТӨГ
A3: № | B3: Үзүүлэлт | C3: Өмнөх оны дүн | D3: Тайлант оны дүн
A4: 1 | B4: Борлуулалтын орлого | D4: =+'Guilgee balance'!G140 -> 1.1501143e+09
A5: 1.1 | B5: Бараа, бүтээгдэхүүн борлуулсны орлого
A7: 1.2 | B7: Ажил, үйлчилгээ борлуулсны орлого
A9: 1.3 | B9: Нийт борлуулалтын орлого | D9: =+D4 -> 1.1501143e+09
A10: 2 | B10: Борлуулалтын буцаалт, хөнгөлөлт, үнийн бууралт - | D10: =+'Guilgee balance'!F144+'Guilgee balance'!F146 -> 0
A11: 3 | B11: Цэвэр борлуулалт
A12: 4 | B12: Борлуулалтын өртөг | D12: =+'Guilgee balance'!F152 -> 3.0220183e+08
A13: 4.1 | B13: Борлуулсан бараа, бүтээгдэхүүний өртөг
A15: 4.2 | B15: Борлуулсан ажил, үйлчилгээний өртөг
A17: 4.3 | B17: Нийт борлуулалтын өртөг | D17: =+D12 -> 3.0220183e+08
A19: 19. БУСАД ОРЛОГО, ОЛЗ/ГАРЗ, АШИГ/АЛДАГДАЛ
A21: 19.1 Бусад орлого
A23: № | B23: Орлогын төрөл | C23: Өмнөх оны дүн | D23: Тайлант оны дүн
A24: 1 | B24: Хүү ногдол ашгийн орлого | D24: =+'Guilgee balance'!G159+'Guilgee balance'!G161 -> 63949.57
A25: 2 | B25: Бусад орлого | D25: =+'Guilgee balance'!G163 -> 0
A26: 3 | B26: Нийт дүн | C26: =+C24+C25 -> 0 | D26: =+D24+D25 -> 63949.57
A28: 19.2 Гадаад валютын ханшийн зөрүүний олз, гарз
A30: № | B30: Төрөл | C30: Өмнөх оны дүн | D30: Тайлант оны дүн
A31: 1 | B31: МХ-н үлдэгдэлд хийсэн ханшийн зөрүү | D31: =+'Guilgee balance'!G251-'Guilgee balance'!F247 -> 0
A32: 2 | B32: Эргэлтийн авлага, өрийн ханшийн зөрүү
A33: 3 | B33: Эргэлтийн бус авлага, өрийн ханшийн зөрүү
A34: 4 | B34: Валют арилжааны үүссэн олз/гарз | D34: =+'Guilgee balance'!G249-'Guilgee balance'!F245 -> 3618.2
A35: 5 | B35: Нийт дүн | D35: =+D31+D32+D33+D34 -> 3618.2
A37: 19.3 Бусад ашиг/алдагдал
A39: № | B39: Ашиг/алдагдал | C39: Өмнөх оны дүн | D39: Тайлант оны дүн
A40: 1 | B40: Хөрөнгийн үнэ цэнийн бууралтын
A41: 2 | B41: ХОЗҮХХ-н бодит үнэ цэнийн өөрчлөлтийн олз, гарз
A42: 3 | B42: ХОЗҮХХ-н данснаас хассаны олз, гарз
A43: 4 | B43: Хөрөнгийн дахин үнэлгээний олз, гарз
A44: 5 | B44: Хөрөнгийн үнэ цэнийн бууралтын гарз/гарзын буцаалт
A45: 6
A46: 7 | B46: Нийт дүн

Sheet D10
A1: 20.ЗАРДАЛ
A3: 20.1 Борлуулалт маркетингийн болон ерөнхий удирдлагын зардалууд
A4: № | B4: Зардлын төрөл | C4: Өмнөх оны дүн | E4: Тайлант оны дүн
C5: Бор/Мар | D5: Ер/Уд | E5: Бор/Мар | F5: Ер/Уд
A6: 1 | B6: Ажиллагчдын цалингийн зардал | F6: =+'Guilgee balance'!F173 -> 128010000
A7: 2 | B7: ААН-с төлсөн НДШ-н зардал | F7: =+'Guilgee balance'!F175 -> 16972050
A8: 3 | B8: Албан татвар, Төлбөр, Хураамжийн
A9: 4 | B9: Томилолтын зардал
A10: 5 | B10: Бичиг хэргийн зардал | F10: 0
A11: 6 | B11: Шуудан холбооны зардал | F11: =+'Guilgee balance'!F198 -> 3021470
A12: 7 | B12: Мэргэжлийн үйлчилгээний зардал | F12: 0
A13: 8 | B13: Сургалтын зардал
A14: 9 | B14: Сонин сэтгүүл захиалгын зардал | F14: =+'Guilgee balance'!F213 -> 2817181.8
A15: 10 | B15: Даатгалын зардал | F15: =+'Guilgee balance'!F214+'Guilgee balance'!F215 -> 0
A16: 11 | B16: Ашиглалтын зардал | F16: =+'Guilgee balance'!F180 -> 82086686
A17: 12 | B17: Засварын зардал | F17: =+'Guilgee balance'!F177 -> 0
A18: 13 | B18: Элэгдэл, хорогдлын зардал | F18: =+'Guilgee balance'!F194 -> 11021141
A19: 14 | B19: Түрээсийн зардал | F19: =+'Guilgee balance'!F182 -> 1.5699668e+08
A20: 15 | B20: Харуул хамгаалалтын зардал | F20: =+'Guilgee balance'!F210 -> 0
A21: 16 | B21: Цэвэрлэгээ үйлчилгээний зардал | F21: =+'Guilgee balance'!F181 -> 0
A22: 17 | B22: Тээврийн зардал | F22: =+'Guilgee balance'!F186 -> 0
A23: 18 | B23: Шатахууны зардал | F23: =+'Guilgee balance'!F201 -> 13053545
A24: 19 | B24: Хүлээн авалтын зардал
A25: 20 | B25: Зар сурталчилгааны зардал | E25: =+'Guilgee balance'!F171+'Guilgee balance'!F196 -> 0 | F25: =+'Guilgee balance'!F197 -> 0
A26: 21 | B26: Бусад зардал | F26: =+'Guilgee balance'!F209-6400000+118181.82 -> 30620544
A27: 22 | B27: Түүхий эд материалын зардал | F27: =+'Guilgee balance'!F188 -> 33551493
A28: 23 | B28: Зээлийн хүүгийн зардал | F28: =+'Guilgee balance'!F233 -> 1.6137316e+09
A29: 24 | B29: Нийд дүн | E29: =SUM(E6:E27) -> 0 | F29: =SUM(F6:F28) -> 2.0918824e+09
A31: 20.2 Бусад зардал
A32: № | B32: Зардлын төрөл | C32: Өмнөх оны дүн | E32: Тайлант оны дүн
A33: 1 | B33: Алданги, торгуулийн зардал | E33: =+'Guilgee balance'!F241 -> 2910000
A34: 2 | B34: Хандивын зардал | E34: =+'Guilgee balance'!F239 -> 0
A35: 3 | B35: Найдваргүй авлагын зардал | E35: =+'Guilgee balance'!F202 -> 0
A36: 4 | B36: Бусад | E36: =+'Guilgee balance'!F237+'Guilgee balance'!F243 -> 0
A37: 5 | B37: Нийт дүн | E37: =+E33+E34+E35+E36 -> 2910000
A39: 20.3 Цалингийн зардал
A40: Ангилал | C40: Ажилчдын дундаж тоо | E40: Цалингийн зардлын дүн
E41: Өмнөх оны | F41: Тайлант оны
A42: Үйлдвэрлэл, үйлчилгээ
A44: Борлуулалт, Маркетингийн
...

Sheet D11
A1: 22.ХОЛБООТОЙ ТАЛУУДЫН ТОДОРУУЛГА
A3: 22.1 Толгой компани, хамгийн дээд хяналт тавигч компани, хувь хүний талаарх мэдээлэл
A4: Үзүүлэлт | C4: Толгой компани | D4: Хамгийн дээд хяналт тавигч толгой компани | E4: Хамгийн дээд хяналт тавигч хувь хүн | F4: Тайлбар
A5: Нэр
A6: Бүртгэгдсэн /оршин суугаа/ улс
A7: Эзэмшлийн хувь
A9: 22.2 Тэргүүлэх удирдлагын бүрэлдэхүүнд олгосон нөхөн олговорын тухай мэдээлэл
A10: Тэргүүлэх удирдлага гэдэгт...........................................................................................................
A12: № | B12: Нөхөн олговрын нэр | E12: Өмнөх оны дүн | F12: Тайлант оны дүн
A13: 1 | B13: Богино болон урт хугацаат тэтгэмж
A14: 2 | B14: Ажил эрхлэлтийн дараах, ажлаас халагдсаны тэтгэмж
A15: 3 | B15: Хувьцаанд суурилсан төлбөр
A16: 4 | B16: Нийт дүн | E16: =+E13+E14+E15 -> 0 | F16: =+F13+F14+F15 -> 0
A18: 22.3 Холбоотой талуудтай хийсэн ажил гүйлгээ
A20: № | B20: Холбоотой талын нэр | D20: Ажил гүйлгээний утга | E20: Дүн | F20: Тайлбар
A21: 1
A22: 2
A24: 23.БОЛЗОШГҮЙ ХӨРӨНГӨ БА ӨР ТӨЛБӨР
A26: Тэмдэглэл: Болзошгүй хөрөнгө ба өр төлбөрийн мөн чанар, хэрэв практик боломжтой бол тэдгээрийн санхүүгийн нөлөөний тооцоооллыг тодоруулна
A28: ..........................................................................................................................................................
A29: ..........................................................................................................................................................
A30: ..........................................................................................................................................................
A31: ..........................................................................................................................................................
A32: ..........................................................................................................................................................
A33: ..........................................................................................................................................................
A34: ..........................................................................................................................................................
A35: ..........................................................................................................................................................
A38: 24.ТАЙЛАГНАЛЫН ҮЕИЙН ДАРААХ ҮЙЛ ЯВДАЛ
A40: Тэмдэглэл: Тайлагналын өдрийн дараах үл залруулагдах үйл явдлын материаллаг ангилал тус бүрийн хувьд мөн чанар, санхүүгийн нөлөөллийн тооцоолол зэргийг тодоруулж бусад тайлбар, тэмдэглэл хийнэ
... A50: ..........................................................................................................................................................

Sheet D12
A1: 25.ХӨРӨНГӨ ОРУУЛАЛТ
A3: № | B3: Үзүүлэлт | C3: Эхний үлдэгдэл | D3: Тайлант хугацаанд хийгдсэн хөрөнгө оруулалт/төгрөгөөр/ | N3: Эцсийн үлдэгдэл
D4: Аж ахуйн нэгжийн өөрийн хөрөнгөөр | E4: Улсын төсвийн хөрөнгөө | F4: Орон нутгийн төсвийн хөрөнгөөр | G4: Банкны зээл | H4: Гадаадын шууд хөрөнгө оруулалт | I4: Гадаадын зээл | J4: Гадаадын буцалтгүй тусламж | K4: Төсөл хөтөлбөр хандив | L4: Бусад эх үүсвэр | M4: Дүн
A5: 1 | B5: Биет хөрөнгө | M5: =+D5+E5+F5+G5+H5+I5+J5+K5+L5 -> 0 | N5: =+C5+M5 -> 0
A6: 1.1 | B6: Газрын сайжруулалт | M6: =+D6+E6+F6+G6+H6+I6+J6+K6+L6 -> 0 | N6: =+C6+M6 -> 0
A7: 1.2 | B7: Барилга, байгууламж | M7: =+D7+E7+F7+G7+H7+I7+J7+K7+L7 -> 0 | N7: =+C7+M7 -> 0
A8: 1.2.1 | B8: Үүнээс:Îðîí ñóóöíû áàðèëãà | M8: =+D8+E8+F8+G8+H8+I8+J8+K8+L8 -> 0 | N8: =+C8+M8 -> 0
A9: 1.2.2 | B9: Àâòî çàì | M9: =+D9+E9+F9+G9+H9+I9+J9+K9+L9 -> 0 | N9: =+C9+M9 -> 0
A10: 1.3 | B10: Ìàøèí, òîíîã òºõººðºìæ | M10: =+D10+E10+F10+G10+H10+I10+J10+K10+L10 -> 0 | N10: =+C10+M10 -> 0
A11: 1.4 | B11: Òýýâðèéí õýðýãñýë | M11: =+D11+E11+F11+G11+H11+I11+J11+K11+L11 -> 0 | N11: =+C11+M11 -> 0
A12: 1.5 | B12: Òàâèëãà ýä õîãøèë | M12: =+D12+E12+F12+G12+H12+I12+J12+K12+L12 -> 0 | N12: =+C12+M12 -> 0
A13: 1.6 | B13: Êîìïüþòåð, áóñàä õýðýãñýë | M13: =+D13+E13+F13+G13+H13+I13+J13+K13+L13 -> 0 | N13: =+C13+M13 -> 0
A14: 1.7 | B14: Бèîëîãèéí õºðºíãº | M14: =+D14+E14+F14+G14+H14+I14+J14+K14+L14 -> 0 | N14: =+C14+M14 -> 0
A15: 1.8 | B15: Áóñàä áèåò õºðºíãº | M15: =+D15+E15+F15+G15+H15+I15+J15+K15+L15 -> 0 | N15: =+C15+M15 -> 0
A16: 1.9 | B16: ¯¿íýýñ; ÕÎÇ¯ÕÕ | M16: =+D16+E16+F16+G16+H16+I16+J16+K16+L16 -> 0 | N16: =+C16+M16 -> 0
A17: 1.10 | B17: Áèåò õºðºíãèéí ä¿í | C17: =+C6+C7+C8+C9+C10+C11+C12+C13+C14+C15+C16 -> 0 | D17: =+D6+D7+D8+D9+D10+D11+D12+D13+D14+D15+D16 -> 0 | E17: =+E6+E7+E8+E9+E10+E11+E12+E13+E14+E15+E16 -> 0 | F17: =+F6+F7+F8+F9+F10+F11+F12+F13+F14+F15+F16 -> 0 | G17: =+G6+G7+G8+G9+G10+G11+G12+G13+G14+G15+G16 -> 0 | H17: =+H6+H7+H8+H9+H10+H11+H12+H13+H14+H15+H16 -> 0 | I17: =+I6+I7+I8+I9+I10+I11+I12+I13+I14+I15+I16 -> 0 | J17: =+J6+J7+J8+J9+J10+J11+J12+J13+J14+J15+J16 -> 0 | ... N17: =+N6+N7+N8+N9+N10+N11+N12+N13+N14+N15+N16 -> 0
A18: 2 | B18: Áèåò áóñ õºðºíãº: | M18: =+D18+E18+F18+G18+H18+I18+J18+K18+L18 -> 0 | N18: =+C18+M18 -> 0
A19: 2.1 | B19: Зохиогчийн эрх | M19: =+D19+E19+F19+G19+H19+I19+J19+K19+L19 -> 0 | N19: =+C19+M19 -> 0
A20: 2.2 | B20: Компьютер программ хангамж | M20: =+D20+E20+F20+G20+H20+I20+J20+K20+L20 -> 0 | N20: =+C20+M20 -> 0
A21: 2.2.1 | B21: ¯¿íýýñ: Ïðîãðàìì õàíãàìæ | M21: =+D21+E21+F21+G21+H21+I21+J21+K21+L21 -> 0 | N21: =+C21+M21 -> 0
A22: 2.2.2 | B22: Ìýäýýëëèéí ñàí | M22: =+D22+E22+F22+G22+H22+I22+J22+K22+L22 -> 0 | N22: =+C22+M22 -> 0
A23: 2.3 | B23: Ïàòåíò | M23: =+D23+E23+F23+G23+H23+I23+J23+K23+L23 -> 0 | N23: =+C23+M23 -> 0
A24: 2.4 | B24: Áàðààíû òýìäýã | M24: =+D24+E24+F24+G24+H24+I24+J24+K24+L24 -> 0 | N24: =+C24+M24 -> 0
A25: 2.5 | B25: Òóñãàé çºâøººðºë | M25: =+D25+E25+F25+G25+H25+I25+J25+K25+L25 -> 0 | N25: =+C25+M25 -> 0
A26: 2.6 | B26: Ãàçàð ýçýìøèõ ýðõ | M26: =+D26+E26+F26+G26+H26+I26+J26+K26+L26 -> 0 | N26: =+C26+M26 -> 0
A27: 2.7 | B27: Áóñàä áèåò áóñ õºðºíãº | M27: =+D27+E27+F27+G27+H27+I27+J27+K27+L27 -> 0 | N27: =+C27+M27 -> 0
A28: 2.7.1 | B28: Үүнээс: Зураг төсвийн ажил, ТЭЗҮ боловсоруулах, туршилт судалгаа | M28: =+D28+E28+F28+G28+H28+I28+J28+K28+L28 -> 0 | N28: =+C28+M28 -> 0
A29: 2.8 | B29: Биет бус хөрөнгийн дүн | C29: =+C18+C19+C20+C21+C22+C23+C24+C25+C26+C27+C28 -> 0 | D29: =+D18+D19+D20+D21+D22+D23+D24+D25+D26+D27+D28 -> 0 | E29: =+E18+E19+E20+E21+E22+E23+E24+E25+E26+E27+E28 -> 0 | F29: =+F18+F19+F20+F21+F22+F23+F24+F25+F26+F27+F28 -> 0 | G29: =+G18+G19+G20+G21+G22+G23+G24+G25+G26+G27+G28 -> 0 | H29: =+H18+H19+H20+H21+H22+H23+H24+H25+H26+H27+H28 -> 0 | I29: =+I18+I19+I20+I21+I22+I23+I24+I25+I26+I27+I28 -> 0 | J29: =+J18+J19+J20+J21+J22+J23+J24+J25+J26+J27+J28 -> 0 | ... N29: =+N18+N19+N20+N21+N22+N23+N24+N25+N26+N27+N28 -> 0
A30: 3 | B30: Хайгуул үнэлгээний хөрөнгө | M30: =+D30+E30+F30+G30+H30+I30+J30+K30+L30 -> 0 | N30: =+C30+M30 -> 0
A31: 3.1 | B31: Үүнээс:Биет хөрөнгө | M31: =+D31+E31+F31+G31+H31+I31+J31+K31+L31 -> 0 | N31: =+C31+M31 -> 0
A32: 3.2 | B32: Биет бус хөрөнгө | M32: =+D32+E32+F32+G32+H32+I32+J32+K32+L32 -> 0 | N32: =+C32+M32 -> 0
A33: 4 | B33: Нийт дүн | C33: =+C17+C29+C30+C31+C32 -> 0 | D33: =+D17+D29+D30+D31+D32 -> 0 | E33: =+E17+E29+E30+E31+E32 -> 0 | F33: =+F17+F29+F30+F31+F32 -> 0 | G33: =+G17+G29+G30+G31+G32 -> 0 | H33: =+H17+H29+H30+H31+H32 -> 0 | I33: =+I17+I29+I30+I31+I32 -> 0 | J33: =+J17+J29+J30+J31+J32 -> 0 | ... N33: =+N17+N29+N30+N31+N32 -> 0

Sheet TM11.04
A1: ¯ÒÅÃ-ûí äàðãûí 2002 îíû 129 òîîò òóøààëûí 05 äóãààð õàâñðàëòààð áàòëàâ
A6: Ìàÿãò ÒT-11 | H6: ¯íäýñíèé Òàòâàðûí Àëáà
A9: Öàëèí, õºäºëìºðèéí õºëñ áîëîí òýäãýýðòýé àäèëòãàõ
G10: îðëîãîîñ ñóóòãàñàí àëáàí òàòâàðûí òàéëàí
A11: 1 | B11: ÒÒÄ : | E11: =+Nuur!D5 -> 2025779 | U11: Çºâõºí òàòâàðûí àëáàíû àæëûí õýðýãöýýíä:
U12: ÁÒÄ:
A14: 2 | B14: Íýð : | D14: =+Nuur!A22 -> ''БҮТЭЭЛЧ ҮЙЛС"ХК | U14: Òàòâàðûí áàéöààã÷ | AG14: Òýìäýã
U16: Õ¿ëýýí àâñàí îí, ñàð, ºäºð:
A17: 3 | B17: Òàéëàíãèéí õóãàöàà : | J17: 2 | K17: 0 | L17: 1 | M17: 8 | O17: Óëèðàë | R17: 0 | S17: 4
AC19: Ä¿í ( òîî )
B20: (Òàéëàíãèéí ¿ç¿¿ëýëò¿¿äèéã îíû ýõíýýñ ºññºí ä¿íãýýð áºãëºíº ) | AC20: Ä¿í ( òîî )
B21: l.ØÓÓÄ ÎÐËÎÃÎ
B22: ¯ç¿¿ëýëò | Z22: Ìºð | AB22: Òàòâàð òºëºã÷èéí òîî | AF22: Ä¿í
A23: l | Z23: ll | AB23: lll
A24: 1.Öàëèí õºäºëìºðèéí õºëñ , øàãíàë , óðàìøóóëàë áîëîí òýäãýýðòýé àäèëòãàõ õºäºëìºð ýðõýëýëòèéí îðëîãî (2+3) | Z24: 1 | AB24: =+AB25+AB26 -> 28 | AF24: =+AF25 -> 128010000
B25: 1.1 Àæèë îëãîã÷òîé çààñàí õºäºëìºðèéí ãýðýíä çààñíû äàãóó àâ÷ áàéãàà ¿íäñýí öàëèí íýìýãäýë õºëñ ,íýìýãäýë øàãíàë ,óðàìøóóëàë ,àìðàëòûí íºõºí îëãîâîð ,òýòãýâýð òýòãýìæ òýäãýýðòýé àäèëòãàõ îðëîãî (ìÿí .òºã) | Z25: 2 | AB25: 28 | AF25: =+'Guilgee balance'!F173 -> 128010000 | AK25: СТ-2-н цалингийн зардал хэсгийн дүн /мянга/
B26: 1.2 ¯íäñýí àæëûí ãàçðààñ áóñàä õóóëèéí ýòãýýä áîëîí õóâü õ¿íòýé áàéãóóëñàí ãýðýýíèé ¿íäñýí äýýð àæèë , ¿¿ðýã ã¿éöýòãýæ àâñàí õºäºëìºðèéí õºëñ , øàãíàë , óðàìøóóëàë , òýäãýýðòýé àäèëòãàõ îðëîãî (ìÿí.òºã) | Z26: 3
A27: 2.Ýð¿¿ë ìýíäèéí äààòãàëûí øèìòãýëèéí ä¿í | Z27: 4 | AB27: =+AB24 -> 28 | AF27: =+'Guilgee balance'!G112-'Guilgee balance'!F175 -> 15713900 | AJ27: 0 | AK27: 310600 дансны дт талд цалингийн өр данстай харьцсан нийлбэр
A28: 3. òàòâàð íîãäóóëàõ îðëîãûí ä¿í (1-4) | Z28: 5 | AB28: =+AB24 -> 28 | AF28: =+AF25-AF27 -> 112296100
A29: 4.Íîãäóóëñàí òàòâàð (5*10 õóâü) | Z29: 6 | AB29: =+AB24 -> 28 | AF29: =+AF28*0.1 -> 11229610
A30: 5. Àæèë îëãîã÷îîñ àæèëòàí , ò¿¿íèé ãýð á¿ëèéí ãèø¿¿íä îëãîñîí òýòãýìæ áîëîí ò¿¿íòýé àäèëòãàõ áóñàä îðëîãîä íîãäóóëñàí òàòâàð (8*10 õóâü) | Z30: 7
B31: 5.1 Àæèë îëãîã÷îîñ àæèëòàí , ò¿¿íèé ãýð á¿ëèéí ãèø¿¿íä îëãîñîí òýòãýìæ áîëîí ò¿¿íòýé àäèëòãàõ áóñàä îðëîãî | Z31: 8
A32: 6.Àæèë îëãîã÷îîñ àæèëòàí ò¿¿íèé ãýð á¿ëèéí ãèø¿¿íä ºãñºí áýëãýíä íîãäóóëñàí òàòâàð | Z32: 9
B33: 6.1 Àæèë îëãîã÷îîñ àæèëòàí , ò¿¿íèé ãýð á¿ëèéí ãèø¿¿íä ºãñºí áýëýã | Z33: 10
A34: 7.Òºëººëºí óäèðäàõ çºâëºë , õÿíàëòûí çºâëºë îðîí òîîíû áóñ çºâëºë áîëîí áóñàä çºâëºë , õîðîî ,àæëûí õýñãèéí ãèø¿¿íèé öàëèí õºëñ , øàãíàë , óðàìøóóëàë , òýäãýýðòýé àäèëòãàõ îðëîãîä íîãäóóëñàí òàòâàð (12*10 õóâü) | Z34: 11
B35: 7.1 Òºëººëºí óäèðäàõ çºâëºë ,õÿíàëòûí çºâëºë îðîí òîîíû áóñ çºâëºë áîëîí áóñàä çºâëºë , õîðîî ,àæëûí õýñãèéíãèø¿¿íèé öàëèí õºëñ , øàãíàë ,óðàìøóóëàë , òýäãýýðòýé àäèëòãàõ îðëîãî | Z35: 12
A36: 8. Ãàäààä , äîòîîäûí àæ àõóéí íýãæ áàéãóóëàãà , èðãýí áîëîí áóñàä ýòãýýäýýñ ºãñºí ìá¿õ òºðëèéí øàãíàë ,óðàìøóóëàë(14*10õóâü) | Z36: 13 | AF36: 0
