Workbook
Name _ftn1: 'D4'!$B$18
Name _ftn1: 'D5'!$B$18
Name _ftnref1: 'D4'!$B$17
Name _ftnref1: 'D5'!$B$17
Name OLE_LINK1: 'tt02'!#REF!

Sheet Nuur
H1: Сангийн сайдын 2012 оны
H2: 77 тоот тушаалын
H3: 2 дугаар хавсралт
A5: Регистрийн дугаар: | D5: 2025779
A7: Хаяг:............................................................................................................................................... | B7: ……………………………………..
A8: Шуудангын хаяг:...........................................................................................................................
A9: Утас:............................................................... | E9: Факс:
A11: Өмчийн хэлбэр: | D11: Төрийн ..... хувь | F11: Хувийн ....100......хувь
B14: A
A22: ''БҮТЭЭЛЧ ҮЙЛС"ХК
A23: 2025 ОНЫ ЖИЛИЙН ЭЦСИЙН
A24: САНХҮҮГИЙН ТАЙЛАН
A34: Хянаж хүлээн авсан Байгууллагын нэр | E34: Сар, өдөр | G34: Гарын үсэг
A45: =+A22 -> ''БҮТЭЭЛЧ ҮЙЛС"ХК
A46: 2025 оны 4 -р улирлын санхүүгийн тайлангийн
A47: бодит байдлын тухай мэдэгдэл
A50: 2025 оны 12 сарын 31 өдөр
A79: ГҮЙЦЭТГЭХ ЗАХИРАЛ. . . . . . . . . . . ................ .(Д.ЭРДЭНЭБИЛЭГ)
A81: НЯГТЛАН БОДОГЧ . . . . . . . . . . . . . . . . . . . .(Э. ОЮУНЦЭЦЭГ)

Sheet CT-1
A1: САНХҮҮГИЙН БАЙДЛЫН ТАЙЛАН
B3: =+Nuur!A22 -> ''БҮТЭЭЛЧ ҮЙЛС"ХК | D3: 2025 оны 12 сарын 31 өдөр
B4: ( Аж ахуйн нэгжийн нэр )
E5: (төгрөгөөр)
A6: Мөрийн дугаар | B6: БАЛАНСЫН Ç¯ÉË | D6: Үлдэгдэл
D7: 45657 | E7: 46022
A8: 1 | B8: ХӨРӨНГӨ
A9: 1.1 | B9: Эргэлтийн хөрөнгө
A10: 1.1.1 | B10: Мөнгө ба түүнтэй адилтгах хөрөнгө | D10: =+'Guilgee balance'!D7+'Guilgee balance'!D11+'Guilgee balance'!D13+'Guilgee balance'!D19 -> 2.4968054e+09 | E10: =+'Guilgee balance'!H7+'Guilgee balance'!H11+'Guilgee balance'!H13+'Guilgee balance'!H19 -> 1.2144469e+09
A11: 1.1.2 | B11: Дансны авлага | D11: =+'Guilgee balance'!D24 -> 1500000 | E11: =+'Guilgee balance'!H24 -> 2492750
A12: 1.1.3 | B12: Татвар, НДШ-ийн авлага | D12: =+'Guilgee balance'!D27+'Guilgee balance'!D29+'Guilgee balance'!D31+'Guilgee balance'!D33+'Guilgee balance'!D35 -> 0 | E12: =+'Guilgee balance'!H27+'Guilgee balance'!H29+'Guilgee balance'!H31+'Guilgee balance'!H33+'Guilgee balance'!H35 -> 7250
A13: 1.1.4 | B13: Бусад авлага | D13: =+'Guilgee balance'!D37 -> 0 | E13: =+'Guilgee balance'!H37 -> 0
A14: 1.1.5 | B14: Бусад санхүүгийн хөрөнгө
A15: 1.1.6 | B15: Бараа материал | D15: =+'Guilgee balance'!D43+'Guilgee balance'!D48+'Guilgee balance'!D50 -> 1.5256119e+08 | E15: =+'Guilgee balance'!H43+'Guilgee balance'!H48+'Guilgee balance'!H50 -> 7.0994484e+08
A16: 1.1.7 | B16: Урьдчилж төлсөн зардал/тооцоо | D16: =+'Guilgee balance'!D53+'Guilgee balance'!D58 -> 1.9119352e+09 | E16: =+'Guilgee balance'!H53+'Guilgee balance'!H58 -> 1.6413938e+09
A17: 1.1.8 | B17: Бусад эргэлтийн хөрөнгө | D17: 0 | E17: 0
A18: 1.1.9 | B18: Борлуулах зорилгоор эзэмшиж буй эргэлтийн бус хөрөнгө (борлуулах бүлэг хөрөнгө) | E18: =+'Guilgee balance'!H61 -> 0
A20: 1.1.10
A21: 1.1.11 | B21: Эргэлтийн хөрөнгийн дүн | D21: =+D10+D11+D12+D13+D14+D15+D16+D17+D18+D20 -> 4.5628018e+09 | E21: =+E10+E11+E12+E13+E14+E15+E16+E17+E18+E20 -> 3.5682855e+09
A22: 1.2 | B22: Эргэлтийн бус хөрөнгө | E22: 0
A23: 1.2.1 | B23: Үндсэн хөрөнгө | D23: =+'Guilgee balance'!D62+'Guilgee balance'!D64+'Guilgee balance'!D68+'Guilgee balance'!D72+'Guilgee balance'!D76+'Guilgee balance'!D80+'Guilgee balance'!D86-'Guilgee balance'!E66-'Guilgee balance'!E70-'Guilgee balance'!E74-'Guilgee balance'!E78-'Guilgee balance'!E82-'Guilgee balance'!E88+'Guilgee balance'!D84 -> 2.4070281e+08 | E23: =+'Guilgee balance'!H62+'Guilgee balance'!H64+'Guilgee balance'!H68+'Guilgee balance'!H72+'Guilgee balance'!H76+'Guilgee balance'!H80+'Guilgee balance'!H84+'Guilgee balance'!H86-'Guilgee balance'!I66-'Guilgee balance'!I70-'Guilgee balance'!I74-'Guilgee balance'!I78-'Guilgee balance'!I82-'Guilgee balance'!I88 -> 2.2968167e+08
A24: 1.2.2 | B24: Биет бус хөрөнгө | D24: =+'Guilgee balance'!D90+'Guilgee balance'!D94-'Guilgee balance'!E92 -> 0 | E24: =+'Guilgee balance'!H90+'Guilgee balance'!H94-'Guilgee balance'!I92 -> 0
A25: 1.2.3 | B25: Биологийн хөрөнгө | D25: 0 | E25: 0
A26: 1.2.4 | B26: Урт хугацаат хөрөнгө оруулалт | D26: =+'Guilgee balance'!D96 -> 0 | E26: =+'Guilgee balance'!D96 -> 0
A27: 1.2.5 | B27: Хайгуул ба үнэлгээний хөрөнгө
A28: 1.2.6 | B28: Хойшлогдсон татварын хөрөнгө | D28: 0 | E28: 0
A29: 1.2.7 | B29: Хөрөнгө оруулалтын зориулалттай үл хөдлөх хөрөнгө | D29: 0 | E29: 0
A30: 1.2.8 | B30: Бусад эргэлтийн бус хөрөнгө | E30: 0
A31: 1.2.9
A32: 1.2.10 | B32: Эргэлтийн бус хөрөнгийн дүн | D32: =+D23+D24+D25+D26+D27+D28+D29+D30+D31 -> 2.4070281e+08 | E32: =+E23+E24+E25+E26+E27+E28+E29+E30+E31 -> 2.2968167e+08
A33: 1.3 | B33: НИЙТ ХӨРӨНГИЙН ДҮН | D33: =+D21+D32 -> 4.8035046e+09 | E33: =+E21+E32 -> 3.7979672e+09
A34: 2 | B34: ӨÐ ÒªËÁªÐ ÁÀ ÝÇÝÌØÈÃ×ÄÈÉÍ ªÌ×
A35: 2.1 | B35: ӨР ТӨЛБӨР
A36: 2.1.1 | B36: Богино хугацаат өр төлбөр
A37: 2.1.1.1 | B37: Дансны өглөг | D37: =+'Guilgee balance'!E98 -> 1156088532 | E37: =+'Guilgee balance'!I98 -> 1131088532
A38: 2.1.1.2 | B38: Цалингийн өглөг | D38: =+'Guilgee balance'!E101 -> 0 | E38: =+'Guilgee balance'!I101 -> 0
A39: 2.1.1.3 | B39: Татварын өглөг | D39: =+'Guilgee balance'!E103+'Guilgee balance'!E105+'Guilgee balance'!E110+'Guilgee balance'!E108 -> 46694772 | E39: =+'Guilgee balance'!I103+'Guilgee balance'!I105+'Guilgee balance'!I108+'Guilgee balance'!I110 -> 5771061
A40: 2.1.1.4 | B40: НДШ-н өглөг | D40: =+'Guilgee balance'!E112 -> 2199000 | E40: =+'Guilgee balance'!I112 -> 2599790
A41: 2.1.1.5 | B41: Богино хугацаат зээл | D41: =+'Guilgee balance'!E114 -> 0 | E41: =+'Guilgee balance'!I114 -> 0
A42: 2.1.1.6 | B42: Хүүний өглөг | D42: =+'Guilgee balance'!E118 -> 0 | E42: =+'Guilgee balance'!I118 -> 0
A43: 2.1.1.7 | B43: Ногдол ашгийн өглөг | E43: 0
A44: 2.1.1.8 | B44: Урьдчилж орсон орлого | D44: =+'Guilgee balance'!E120 -> 64426233 | E44: =+'Guilgee balance'!I120 -> 65688246
A45: 2.1.1.9 | B45: Нөөц/өр төлбөр/
A46: 2.1.1.10 | B46: Бусад богино хугацаат өр төлбөр | D46: =+'Guilgee balance'!E122 -> 0 | E46: =+'Guilgee balance'!I122 -> 0
A47: 2.1.1.11 | B47: Борлуулах зорилгоор эзэмшиж буй эргэлтийн бус хөрөнгө (борлуулах бүлэг хөрөнгө)-нд хамаарах өр төлбөр | D47: 0 | E47: 0
A49: 2.1.1.13 | B49: Богино хугацаат өр төлбөрийн дүн | D49: =+D37+D38+D39+D40+D41+D42+D43+D44+D45+D46+D47 -> 1.2694085e+09 | E49: =+E37+E38+E39+E40+E41+E42+E43+E44+E45+E46+E47 -> 1.2051476e+09
A50: 2.1.2 | B50: Урт хугацаат өр төлбөр
A51: 2.1.2.1 | B51: Урт хугацаат зээл | D51: =+'Guilgee balance'!E124 -> 5420000000 | E51: =+'Guilgee balance'!I124 -> 5728850000
A52: 2.1.2.2 | B52: Нөөц/өр төлбөр/
A53: 2.1.2.3 | B53: Хойшлогдсон татварын өр | D53: =+'Guilgee balance'!E126 -> 0 | E53: =+'Guilgee balance'!I126 -> 0
A54: 2.1.2.4 | B54: Бусад урт хугацаат өр төлбөр | D54: =+'Guilgee balance'!E128 -> 0 | E54: =+'Guilgee balance'!I128 -> 0
A55: 2.1.2.5
A56: 2.1.2.6 | B56: Урт хугацаат өр төлбөрийн дүн | D56: =+D51+D52+D53+D54+D55 -> 5420000000 | E56: =+E51+E52+E53+E54+E55 -> 5728850000
A57: 2.2 | B57: Өр төлбөрийн нийт дүн | D57: =+D49+D56 -> 6.6894085e+09 | E57: =+E49+E56 -> 6.9339976e+09
A58: 2.3 | B58: Эздийн өмч
A59: 2.3.1 | B59: Өмч : а) төрийн
A60: 2.3.2 | B60: б) хувийн | D60: =+'Guilgee balance'!E131 -> 89362999 | E60: =+'Guilgee balance'!I131 -> 89362999
A61: 2.3.3 | B61: б) хувьцаат
A62: 2.3.4 | B62: Халаасны хувьцаа
A63: 2.3.5 | B63: Нэмж төлөгдсөн капитал
A64: 2.3.6 | B64: Хөрөнгийн дахин үнэлгээний нэмэгдэл | D64: =+'Guilgee balance'!E134 -> 78920257 | E64: =+'Guilgee balance'!I134 -> 78920257
A65: 2.3.7 | B65: Гадаад валютын хөрвүүлэлтийн нөөц
A66: 2.3.8 | B66: Эздийн өмчийн бусад хэсэг | D66: 0 | E66: 0
A67: 2.3.9 | B67: Хуримтлагдсан ашиг | D67: =+'Guilgee balance'!E137 -> -2.0541872e+09 | E67: =+'Guilgee balance'!I137 -> -3.3043137e+09
A68: 2.3.10 | E68: 0
A69: 2.3.11 | B69: Эздийн өмчийн дүн | D69: =+D59+D60+D61-D62+D63+D64+D65+D66+D67+D68 -> -1.8859039e+09 | E69: =+E59+E60+E61-E62+E63+E64+E65+E66+E67+E68 -> -3.1360304e+09
A70: 2.4 | B70: ӨР ТӨЛБӨР БА ЭЗДИЙН ӨМЧИЙН ДҮН | D70: =+D57+D69 -> 4.8035046e+09 | E70: =+E57+E69 -> 3.7979672e+09
D71: =D33-D70 -> 0 | E71: =E33-E70 -> 0
A73: Çàõèðàë _______________________________ (..............................) | B73: =+Nuur!A79 -> ГҮЙЦЭТГЭХ ЗАХИРАЛ. . . . . . . . . . . ................ .(Д.ЭРДЭНЭБИЛЭГ)
A75: Ерөнхий нягтлан бодогч ___________________ (Э. ОЮУНЦЭЦЭГ)

Sheet CT-2
A1: ОРЛОГЫН ДЭЛГЭРЭНГҮЙ ТАЙЛАН
C3: =+Nuur!A22 -> ''БҮТЭЭЛЧ ҮЙЛС"ХК | F3: ='CT-1'!D3 -> 2025 оны 12 сарын 31 өдөр
B4: ='CT-1'!B4 -> ( Аж ахуйн нэгжийн нэр )
A6: Мөрийн дугаар | B6: Үзүүлэлт | G6: 45657 | H6: 46022
A7: 1 | B7: Борлуулалтын орлого (цэвэр) | G7: 9.1279864e+08 | H7: =+'Guilgee balance'!G139+'Guilgee balance'!G148+'Guilgee balance'!G150-'Guilgee balance'!G144-'Guilgee balance'!G146+'Guilgee balance'!G154 -> 1.1501462e+09
A8: 2 | B8: Борлуулалтын өртөг | G8: 2.6161064e+08 | H8: 3.020832e+08
B9: Үзүүлсэн ажил үйлчилгээний өртөг
A10: 3 | B10: Нийт ашиг (алдагдал) | G10: 6.51188e+08 | H10: =+H7-H8-H9 -> 8.4806295e+08
A11: 4 | B11: Түрээсийн орлого | H11: =+'Guilgee balance'!G157 -> 0
A12: 5 | B12: Хүүний орлого | G12: 895005.42 | H12: 63949.57
A13: 6 | B13: Ногдол ашгийн орлого | G13: 0 | H13: 0
A14: 7 | B14: Эрхийн шимтгэлийн орлого | G14: 0 | H14: 0
A15: 8 | B15: Бусад орлого | G15: 0 | H15: 0
A16: 9 | B16: Борлуулалт, маркетингийн зардал | G16: 0 | H16: 0
A17: 10 | B17: Ерөнхий ба удирдлагын зардал | G17: 1.4375732e+09 | H17: 2.095347e+09
A18: 11 | B18: Санхүүгийн зардал | G18: 0 | H18: 0
A19: 12 | B19: Бусад зардал | G19: 0 | H19: 0
A20: 13 | B20: Гадаад валютын ханшийн зөрүүний олз (гарз) | G20: -832 | H20: -882.48
A21: 14 | B21: Үндсэн хөрөнгө данснаас хассаны олз (гарз) | G21: 0 | H21: 0
A22: 15 | B22: Биет бус хөрөнгө данснаас хассаны олз (гарз) | G22: 0 | H22: 0
A23: 16 | B23: Хөрөнгө оруулалт борлуулснаас үүссэн олз (гарз) | G23: 0 | H23: 0
... A30: 23 | B30: Бусад дэлгэрэнгүй орлого | G30: 0 | H30: 0
B31: Хөрөнгийн дахин үнэлгээний нэмэгдлийн зөрүү | G31: 0 | H31: 0
B32: Гадаад валютын хөрвүүлэлтийн зөрүү | G32: 0 | H32: 0
B33: Бусад олз (гарз) | G33: 0 | H33: 0
A34: 24 | B34: Орлогын нийт дүн | G34: -7.8549112e+08 | H34: -1.2501265e+09
A35: 25 | B35: Нэгж хувьцаанд ногдох суурь ашиг (алдагдал) | G35: 0 | H35: 0
A40: Çàõèðàë _______________________________ (..............................) | B40: =+Nuur!A79 -> ГҮЙЦЭТГЭХ ЗАХИРАЛ. . . . . . . . . . . ................ .(Д.ЭРДЭНЭБИЛЭГ)
A42: Ерөнхий нягтлан бодогч ___________________ (Э. ОЮУНЦЭЦЭГ)

Sheet CT-3
A1: ӨМЧИЙН ӨӨРЧЛӨЛТИЙН ТАЙЛАН
B3: =+Nuur!A22 -> ''БҮТЭЭЛЧ ҮЙЛС"ХК | I3: =+'CT-2'!F3 -> 2025 оны 12 сарын 31 өдөр
A4: ='CT-2'!B4 -> ( Аж ахуйн нэгжийн нэр )
J5: (төгрөгөөр)
B6: ҮЗҮҮЛЭЛТ | C6: Өмч | D6: Халаасны хувьцаа | E6: Нэмж төлөгдсөн капитал | F6: Хөрөнгийн дахин үнэлгээний нөөц | G6: Гадаад валютын хөрвүүлэлтийн нөөц | H6: Эздийн өмчийн бусад хэсэг | I6: Хуримтëàãäñàí àøèã | J6: Нийт ä¿í
A9: 1 | B9: 2023 оны 12-р сарын 31-ний үлдэгдэл | C9: 89362999 | F9: 78920257 | H9: =+'CT-1'!D66 -> 0 | I9: -1.2686961e+09 | J9: =+C9+F9+I9 -> -1.1004128e+09
A10: 2 | B10: Нягтлан бодох бүртгэлийн бодлогын өөрчлөлтийн нөлөө, алдааны залруулга
A11: 3 | B11: Залруулсан үлдэгдэл | C11: =+C9 -> 89362999 | F11: =+F9 -> 78920257 | I11: =+I9 -> -1.2686961e+09 | J11: =+J9 -> -1.1004128e+09
A12: 4 | B12: Тайлант үеийн цэвэр ашиг (алдагдал)
A13: 5 | B13: Бусад дэлгэрэнгүй орлого
A14: 6 | B14: Өмчид гарсан өөрчлөлт | I14: -7.8549112e+08 | J14: =+I14 -> -7.8549112e+08
A15: 7 | B15: Зарласан ногдол ашиг
A16: 8 | B16: Дахин үнэлгээний нэмэгдлийн хэрэгжсэн дүн
A17: 9 | B17: 2024 оны 12-р сарын 31-ний үлдэгдэл | C17: 89362999 | D17: =+'CT-1'!D62 -> 0 | E17: =+'CT-1'!D63 -> 0 | F17: 78920257 | G17: =+'CT-1'!D65 -> 0 | H17: =+'CT-1'!D66 -> 0 | I17: =+'CT-1'!D67 -> -2.0541872e+09 | J17: =+C17+D17+E17+F17+G17+H17+I17 -> -1.8859039e+09
A18: 10 | B18: Нягтлан бодох бүртгэлийн бодлогын өөрчлөлтийн нөлөө, алдааны залруулга | J18: =+C18+D18+E18+F18+G18+H18+I18 -> 0
A19: 11 | B19: Залруулсан үлдэгдэл | C19: =+C17+C18 -> 89362999 | D19: =+D17+D18 -> 0 | E19: =+E17+E18 -> 0 | F19: =+F17+F18 -> 78920257 | G19: =+G17+G18 -> 0 | H19: =+H17+H18 -> 0 | I19: =+I17+I18 -> -2.0541872e+09 | J19: =+C19+D19+E19+F19+G19+H19+I19 -> -1.8859039e+09
A20: 12 | B20: Тайлант үеийн цэвэр ашиг (алдагдал) | I20: =+'Guilgee balance'!G137-'Guilgee balance'!F137 -> -1.2501265e+09 | J20: =+C20+D20+E20+F20+G20+H20+I20 -> -1.2501265e+09
A21: 13 | B21: Бусад дэлгэрэнгүй орлого | J21: =+C21+D21+E21+F21+G21+H21+I21 -> 0
A22: 14 | B22: Өмчид гарсан өөрчлөлт | G22: 0 | J22: =+C22+D22+E22+F22+G22+H22+I22 -> 0
A23: 15 | B23: Зарласан ногдол ашиг | D23: 0 | F23: 0 | H23: 0 | I23: =+'CT-1'!E43-'CT-1'!D43 -> 0 | J23: =+C23+D23+E23+F23+G23+H23+I23 -> 0
A24: 16 | B24: Дахин үнэлгээний нэмэгдлийн хэрэгжсэн дүн | I24: 0 | J24: =+C24+D24+E24+F24+G24+H24+I24 -> 0
A25: 17 | B25: 2025 оны 12-р сарын 31-ний үлдэгдэл | C25: =+C19+C20+C21+C22+C23+C24 -> 89362999 | D25: =+D19+D20+D21+D22+D23+D24 -> 0 | E25: =+E19+E20+E21+E22+E23+E24 -> 0 | F25: =+F19+F20+F21+F22+F23+F24 -> 78920257 | G25: =+G19+G20+G21+G22+G23+G24 -> 0 | H25: =+H19+H20+H21+H22+H23+H24 -> 0 | I25: =+I19+I20+I21+I22+I23+I24 -> -3.3043137e+09 | J25: =+C25+D25+E25+F25+G25+H25+I25 -> -3.1360304e+09 | K25: 0
D27: =+Nuur!A79 -> ГҮЙЦЭТГЭХ ЗАХИРАЛ. . . . . . . . . . . ................ .(Д.ЭРДЭНЭБИЛЭГ)
C29: Ерөнхий нягтлан бодогч ___________________ (Э. ОЮУНЦЭЦЭГ)

Sheet CT-4
A1: МӨНГӨН ГҮЙЛГЭЭНИЙ ТАЙЛАН
B2: ='CT-3'!B3 -> ''БҮТЭЭЛЧ ҮЙЛС"ХК | D2: =+'CT-2'!F3 -> 2025 оны 12 сарын 31 өдөр
A3: ='CT-3'!A4 -> ( Аж ахуйн нэгжийн нэр )
A4: Мөрийн дугаар | B4: ҮЗҮҮЛЭЛТ | C4: 45657 | D4: 46022
A5: 1 | B5: Үндсэн үйл ажиллагааны мөнгөн гүйлгээ
A6: 1.1 | B6: Мөнгөн орлогын дүн (+) | C6: =+C7+C8+C9+C10+C11+C12 -> 1.0336039e+09 | D6: =+D7+D8+D9+D10+D11+D12 -> 1.2664228e+09
B7: Бараа борлуулсан, үйлчилгээ үзүүлсэний орлого | C7: 1.0336039e+09 | D7: 1.2664228e+09
B8: Эрхийн шимтгэл, хураамж, төлбөрийн орлого
B9: Даатгалын нөхвөрөөс хүлээн авсан мөнгө
B10: Буцаан авсан албан татвар
B11: Татаас санхүүжилтийн орлого
B12: Бусад мөнгөн орлого
A13: 1.2 | B13: Мөнгөн зарлагын дүн (-) | C13: =+C14+C15+C16+C17+C18+C19+C20+C21+C22 -> 1.4949558e+09 | D13: =+D14+D15+D16+D17+D18+D19+D20+D21+D22 -> 2.7099302e+09
B14: Ажиллагчдад төлсөн | C14: 86540190 | D14: 104557965
B15: Нийгмийн даатгалын байгууллагд төлсөн | C15: 24669700 | D15: 31284560
B16: Бараа материал худалдан авахад төлсөн | C16: 1.0879853e+08 | D16: 6.535808e+08
B17: Ашиглалтын зардалд төлсөн | C17: 52924860 | D17: 82086686
B18: Түлш шатахуун, тээврийн хөлс, сэлбэг хэрэгсэлд төлсөн | C18: 54921480 | D18: 13053545
B19: Хүүний төлбөрт төлсөн | C19: 8.3232389e+08 | D19: 1.6137316e+09
B20: Татварын байгууллагад төлсөн | C20: 86594676 | D20: 1.6475426e+08
B21: Даатгалын төлбөрт төлсөн
B22: Бусад мөнгөн зарлага | C22: 2.4818244e+08 | D22: 46880787
A23: 1.3 | B23: Үндсэн үйл ажиллагааны цэвэр мөнгөн гүйлгээний дүн | C23: =+C6-C13 -> -4.613519e+08 | D23: =+D6-D13 -> -1.4435074e+09
A24: 2 | B24: Хөрөнгө оруулалтын үйл ажиллагааны мөнгөн гүйлгээ
A25: 2.1 | B25: Мөнгөн орлогын дүн (+) | C25: 895005.42 | D25: =+D31 -> 63949.57
B26: Үндсэн хөрөнгө борлуулсны орлого
B27: Биет бус хөрөнгө борлуулсны орлого
B28: Хөрөнгө оруулалт борлуулсны орлого
B29: Бусад урт хугацаат хөрөнгө борлуулсны орлого
B30: Бусдад олгосон зээл, мөнгөн урьдчилгааны буцаан төлөлт
B31: Хүлээн авсан хүүний орлого | C31: 895005.42 | D31: 63949.57
B32: Хүлээн авсан ногдол ашиг
A34: 2.2 | B34: Мөнгөн зарлагын дүн (-) | C34: 0 | D34: 0
B35: Үндсэн хөрөнгө олж эзэмшихэд төлсөн | C35: 0 | D35: 0
B36: Биет бус хөрөнгө олж эзэмшихэд төлсөн | C36: 0 | D36: 0
B37: Хөрөнгө оруулалт олж эзэмшихэд төлсөн | C37: 0 | D37: 0
B38: Бусад урт хугацаат хөрөнгө олж эзэмшихэд төлсөн | C38: 0 | D38: 0
B39: Бусдад олгосон зээл болон урьдчилгаа | C39: 0 | D39: 0
A41: 2.3 | B41: Хөрөнгө оруулалтын үйл ажиллагааны цэвэр мөнгө гүйлгээний дүн | C41: =+C25+C34 -> 895005.42 | D41: =+D25+D34 -> 63949.57
A42: 3 | B42: Санхүүгийн үйл ажиллагааны мөнгөн гүйлгээ | C42: 0 | D42: 0
A43: 3.1 | B43: Мөнгөн орлогын дүн (+) | C43: =+C44+C45+C46+C47 -> 1.1235663e+10 | D43: =+D44+D45+D46+D47 -> 1.5026803e+10
B44: Зээл авсан, өрийн үнэт цаас гаргаснаас хүлээн авсан | C44: 11235663000 | D44: 15026798043
B45: Хувьцаа болон өмчийн бусад үнэт цаас гаргаснаас хүлээн авсан
B46: Төрөл бүрийн хандив
B47: Гадаад валютын ханшийн зөрүүний олз | C47: 154.86 | D47: 4618.64
A48: 3.2 | B48: Мөнгөн зарлагын дүн (-) | C48: =+C49+C50+C51+C52+C53 -> 8.6492874e+09 | D48: =+D49+D50+D51+D52+D53 -> 1.4865718e+10
B49: Зээл, өрийн үнэт цаасны төлбөрт төлсөн мөнгө | C49: 8.5576964e+09 | D49: 14717948043
B50: Санхүүгийн түрээсийн өглөгт төлсөн | C50: 91590001 | D50: 147768673
B51: Хувьцаа буцаан худалдаж авахад төлсөн
B52: Төлсөн ногдол ашиг
B53: Гадаад валютын ханшийн зөрүүний гарз | C53: 1037.34 | D53: 1000.44
A54: 3.3 | B54: Санхүүгийн үйл ажиллагааны цэвэр мөнгөн гүйлгээний дүн | C54: =+C43-C48 -> 2.5863757e+09 | D54: =+D43-D48 -> 1.6108495e+08
A55: 4 | B55: Бүх цэвэр мөнгөн гүйлгээ | C55: =+C23+C41+C54 -> 2.1259188e+09 | D55: =+D23+D41+D54 -> -1.2823585e+09
A56: 5 | B56: Мөнгө, түүнтэй адилтгах хөрөнгийн эхний үлдэгдэл | C56: 3.7088656e+08 | D56: 2.4968054e+09
A57: 6 | B57: Мөнгө, түүнтэй адилтгах хөрөнгийн эцсийн үлдэгдэл | C57: 2.4968054e+09 | D57: 1.2144469e+09
A60: Çàõèðàë _______________________________ (..............................) | B60: =+Nuur!A79 -> ГҮЙЦЭТГЭХ ЗАХИРАЛ. . . . . . . . . . . ................ .(Д.ЭРДЭНЭБИЛЭГ)
A62: Ерөнхий нягтлан бодогч ___________________ (Э. ОЮУНЦЭЦЭГ)

Sheet D1
A1: САНХҮҮГИЙН ТАЙЛАНГИЙН
A2: ТОДРУУЛГА
A4: =+Nuur!A22 -> ''БҮТЭЭЛЧ ҮЙЛС"ХК | I4: =+Nuur!D5 -> 2025779
A5: ( Аж ахуйн нэгж, байгууллагын нэр )
B8: 6. | C8: Үндсэн үйл ажиллагааны чиглэл /төрөл/ :
B10: (а) | C10: Хувцас үйлдвэрлэл худалдаа
B11: (б)
B12: (в)
B14: 7. | C14: Туслах үйл ажиллагааны чиглэл /төрөл/ :
B16: (а) | H16: (г)
B17: (б) | H17: (д)
B18: (в)
B20: 8. | C20: Салбар, төлөөлөгчийн газрын нэр байршил :
B22: (а)
B23: (б)
B24: (в)
B25: (г)
E28: 1.Тайлан бэлтгэх үндэслэл
B29: 1 | C29: Нягтлан бодох бүртгэлээ НББОУС-ын дагуу аккурэл сууриар хөтөлдөг
B30: 2 | C30: Санхүүгийн тайланд өр, төлбөрийг Монгол улсын төгрөгөөр илэрхийлсэн
B31: 3 | C31: Хөрөнгөө түүхэн өртөгөөр үнэлсэн
B32: 4 | C32: Үндсэн хөрөнгийн элэгдэлийг татварын зорилгоор ашиглах жилийг тодорхойлсон
B33: ......................................................................................................................................................... | C33: ба шулуун шугамын аргаар элэгдлээ байгуулсан
B34: 5 | C34: Орлогоо үйлчлүүлэгчид үйлчилгээ үзүүлсэн үедээ хүлээн зөвшөөрсөн
B35: 6 | C35: Зардлаа орлого зардал уялдах зарчмын дагуу хүлээн зөвшөөрсөн
B36: 7 | C36: Татварын тооцооллыг Монгол улсын татварын багц хуулийн дагуу тодорхойлсон
B37: .........................................................................................................................................................
B38: .........................................................................................................................................................
B39: .........................................................................................................................................................
B40: .........................................................................................................................................................
E41: 2.Нягтлан бодох бүртгэлийн бодлогын өөрчлөлт
B42: .........................................................................................................................................................
B43: .........................................................................................................................................................
B44: .........................................................................................................................................................
B45: .........................................................................................................................................................
B46: .........................................................................................................................................................
B47: .........................................................................................................................................................
B48: .........................................................................................................................................................
B49: .........................................................................................................................................................
B50: .........................................................................................................................................................
B51: .........................................................................................................................................................
B52: .........................................................................................................................................................
B53: .........................................................................................................................................................
... B58: .........................................................................................................................................................

Sheet D2
A1: 3. МӨНГӨ БА ТҮҮНТЭЙ АДИЛТГАХ ХӨРӨНГӨ
A3: Касс дахь мөнгө | K3: (төгрөг/валют)
A5: № | B5: Төрөл | F5: Эхний үлдэгдэл | J5: Эцсийн үлдэгдэл
F6: Валютаар | H6: Төгрөгөөр | J6: Валютаар | L6: Төгрөгөөр
A7: 1 | B7: Кассад байгаа бэлэн мөнгө | F7: 0 | H7: =+'Guilgee balance'!D8 -> 2.4919433e+09 | L7: =+'Guilgee balance'!H8 -> 1.2117864e+09
A8: 2 | B8: Банкин дахь мөнгө | H8: =+'Guilgee balance'!D14+'Guilgee balance'!D20 -> 119129.93 | L8: =+'Guilgee balance'!H14+'Guilgee balance'!H17+'Guilgee balance'!H18+'Guilgee balance'!H20+'Guilgee balance'!H21+'Guilgee balance'!H23 -> 1320366
A9: 3 | B9: Мөнгө түүнтэй адилтгах
B10: Дүн | F10: =SUM(F7:G9) -> 0 | H10: =SUM(H7:I9) -> 2.4920625e+09 | J10: =SUM(J7:K9) -> 0 | L10: =SUM(L7:M9) -> 1.2131068e+09
A11: Тэмдэглэл: | D11: (Мөнгө, түүнтэй адилтгах хөрөнгөтэй холбоотой тайлбар, тэмдэглэлийг хийнэ).
A12: ......................................................................................................................................................
A13: ......................................................................................................................................................
A14: ......................................................................................................................................................
A15: 4. ДАНСНЫ БОЛОН БУСАД АВЛАГА
A17: 4.1 Дансны авлага
A19: № | B19: Авлагын ангилал | F19: Дансны авлага | I19: Найдваргүй авлагын хасагдуулга | K19: Дансны авлага /цэвэр/
A20: 1 | B20: Эхний үлдэгдэл | F20: =+'Guilgee balance'!D25+'Guilgee balance'!D26 -> 1500000 | K20: =+F20 -> 1500000
A21: 2 | B21: Нэмэгдсэн | F21: =+'Guilgee balance'!F24 -> 992750 | K21: =+F21 -> 992750
A22: 3 | B22: Хасагдсан | F22: =+F24+F23 -> 0 | K22: =+F22 -> 0
B23: Төлөгдсөн | F23: =+'Guilgee balance'!G24 -> 0 | K23: =+F23 -> 0
B24: Найдваргүй болсон | K24: =+F24 -> 0
A25: 4 | B25: Эцсийн үлдэгдэл | F25: =+F20+F21-F22 -> 2492750 | K25: =+K20+K21-K22 -> 2492750
A27: 4.2 Татвар, нийгмийн даатгалын шимтгэл (НДШ) - ийн авлага
A29: № | B29: Төрөл | H29: Эхний үлдэгдэл | K29: Эцсийн үлдэгдэл
A30: 1 | B30: ААНОАТ-н авлага | H30: =+'Guilgee balance'!D30 -> 0 | K30: =+'Guilgee balance'!H30 -> 0
A31: 2 | B31: НӨАТ-н авлга | H31: =+'Guilgee balance'!D35 -> 0 | K31: =+'Guilgee balance'!H35 -> 0
A32: 3 | B32: НДШ-н авлага | H32: =+'Guilgee balance'!D27 -> 0 | K32: =+'Guilgee balance'!H27 -> 7250
A33: 4 | B33: ХХОАТ авлага | H33: =+'Guilgee balance'!D31 -> 0 | K33: =+'Guilgee balance'!H31 -> 0
B34: Бусад татварын авлага | H34: =+'Guilgee balance'!D33 -> 0 | K34: =+'Guilgee balance'!H33 -> 0
A35: 5 | B35: Дүн | H35: =+H30+H31+H32+H33+H34 -> 0 | K35: =+K30+K31+K32+K33+K34 -> 7250
A37: 4.3 Бусад богино хугацаат авлага/ төрөлөөр/
A39: № | B39: Урьдчилгаа төлбөрийн ангилал | H39: Эхний үлдэгдэл | K39: Эцсийн үлдэгдэл
A40: 1 | B40: Холбоотой талаас авах авлага/ЭХ-н/
A41: 2 | B41: Ажиллагчдаас авах авлага
A42: 3 | B42: Ногдол ашгийн авлага
A43: 4 | B43: Хүүний авлага
A44: 5 | B44: Богино хугацаат авлагын бичиг
A45: 6 | B45: Бусад талуудаас авах авлага
A46: 7 | B46: Бусад авлага | H46: =+'Guilgee balance'!D37 -> 0 | K46: =+'Guilgee balance'!H37 -> 0
A47: 8 | B47: Дүн | H47: =+H40+H41+H42+H43+H44+H45+H46 -> 0 | K47: =+K40+K41+K42+K43+K44+K45+K46 -> 0
A49: Тэмдэглэл. (Дансны авлагыг төлөгдөх хугацаандаа байгаа, хугацаа хэтэрсэн, төлөгдөх найдваргүй гэж ангилна. Найдваргүй авлагын хасагдуулга байгуулсан арга, гадаад валютаар илэрхийлэгдсэн авлагын талаар болон бусад тайлбар, тэмдэглэлийг хийнэ).
A52: ............................................................................................................................................................
A53: ............................................................................................................................................................
A54: ............................................................................................................................................................

Sheet D3
A1: 5.БУСАД САНХҮҮГИЙН ЭХ ҮҮСВЭР
A2: № | B2: Төрөл | F2: Эхний үлдэгдэл | J2: Эцсийн үлдэгдэл
A3: 1
A4: 2
A5: 3 | B5: Нийт | F5: =+F3+F4 -> 0 | J5: =+J3+J4 -> 0
A7: 6. БАРАА МАТЕРИАЛ | B7: БАРАА МАТЕРИАЛ
A9: № | B9: Үзүүлэлтүүд | D9: Бараа материалын төрөл | M9: Нийт
D10: Түүхий эд материал | E10: Дуусаагүй үйлдвэрлэл | G10: Бэлэн бүтээгдэхүүн | I10: Бараа | K10: Хангамжийн материал
A11: 1 | B11: Эхний үлдэгдэл/өртөг/ | D11: =+'Guilgee balance'!D43 -> 1.2451797e+08 | G11: =+'Guilgee balance'!D48 -> 28043222 | K11: =+'Guilgee balance'!D50 -> 0 | M11: =+D11+E11+G11+I11+K11 -> 1.5256119e+08
A12: 2 | B12: Нэмэгдсэн дүн | D12: =+'Guilgee balance'!F43 -> 1.160904e+09 | G12: =+'Guilgee balance'!F48 -> 3.2199003e+08 | K12: =+'Guilgee balance'!F50 -> 0 | M12: =+D12+E12+G12+I12+K12 -> 1.482894e+09
A13: 3 | B13: Хасагдсан дүн | D13: =+'Guilgee balance'!G43 -> 6.2342719e+08 | G13: =+'Guilgee balance'!G48 -> 3.020832e+08 | K13: =+'Guilgee balance'!G50 -> 0 | M13: =+D13+E13+G13+I13+K13 -> 9.2551039e+08
A14: 4 | B14: Эцсийн үлдэгдэл | D14: =+'Guilgee balance'!H43 -> 6.6199478e+08 | G14: =+'Guilgee balance'!H48 -> 47950055 | K14: =+'Guilgee balance'!H50 -> 0 | M14: =+D14+E14+G14+I14+K14 -> 7.0994484e+08
A15: 5 | B15: Үнийн бууралтын гарз | M15: =+D15+E15+G15+I15+K15 -> 0
A16: 6 | B16: Үнийн бууралтын буцаалт | M16: =+D16+E16+G16+I16+K16 -> 0
A17: 7 | B17: Дансны цэвэр дүн | M17: =+D17+E17+G17+I17+K17 -> 0
A18: 8 | B18: Эхний үлдэгдэл | D18: =+D14 -> 6.6199478e+08 | G18: =+G14 -> 47950055 | K18: =+K14 -> 0 | M18: =+D18+E18+G18+I18+K18 -> 7.0994484e+08
A19: 9 | B19: Эцсийн үлдэгдэл | D19: =+D18 -> 6.6199478e+08 | G19: =+G18 -> 47950055 | K19: =+K18 -> 0 | M19: =+D19+E19+G19+I19+K19 -> 7.0994484e+08
A21: *Дансны цэвэр дүнгийн эхний, эцсийн үлдэгдлийн нийт дүн нь санхүүгийн байдлын тайлан дахь бараа материалын дансны эхний, эцсийн үлдэгдлийн дүнтэй тэнцүү байна.
A23: Тэмдэглэл. (Бараа материалын өртгийг тодорхойлоход ашигласан арга, бараа материалын бүртгэлийн систем, өртөг болон цэвэр боломжит үнийн аль багыг сонгох аргын талаар тайлбар, тэмдэглэл хийнэ).
A26: .............................................................................................................................................................................................................
A27: .............................................................................................................................................................................................................
A28: .............................................................................................................................................................................................................
A29: 7.БОРЛУУЛАХ ЗОРИЛГООР ЭЗЭМШИЖ БУЙ ЭРГЭЛТИЙН БУС ХӨРӨНГӨ (ЭСВЭЛ БОРЛУУЛАХ БҮЛЭГ ХӨРӨНГӨ) БОЛОН ӨР ТӨЛБӨР
A31: Тэмдэглэл. (Борлуулах зорилгоор эзэмшиж буй эргэлтийн бус хөрөнгө (эсвэл борлуулах бүлэг хөрөнгө) болон өр төлбөрийн тодорхойлолт, хэмжилтийн суурь, борлуулалт хийгдсэн аль эсвэл хийгдэхэд хүргэсэн нөхцөл байдал, борлуулах арга, хугацаа, хүлээн зөвшөөрсөн олз ба гарз болон бусад тайлбар, тэмдэглэлийг хийнэ).
A33: .............................................................................................................................................................................................................
A34: .............................................................................................................................................................................................................
A35: .............................................................................................................................................................................................................
A37: 8. УРЬДЧИЛЖ ТӨЛСӨН ЗАРДАЛ/ТООЦОО
A39: № | B39: Малын төрөл | F39: Эхний үлдэгдэл | J39: Эцсийн үлдэгдэл
A41: 1 | B41: Урьдчилж төлсөн зардал | F41: =+'Guilgee balance'!D58 -> 0 | J41: =+'Guilgee balance'!H58 -> 0
A42: 2 | B42: Урьдчилж төлсөн түрээс, даатгал
A43: 3 | B43: Бэлтгэн нийлүүлэгчид төлсөн урьдчилгаа
A44: 4 | B44: Урьдчилж төлсөн тооцоо | F44: =+'Guilgee balance'!D53 -> 1.9119352e+09 | J44: =+'Guilgee balance'!H53 -> 1.6413938e+09
A45: 5 | B45: Нийт | F45: =+F41+F42+F43+F44 -> 1.9119352e+09 | J45: =+J41+J42+J43+J44 -> 1.6413938e+09

Sheet D4
B1: 9. Үндсэн хөрөнгө ба элэгдэл
A3: № | B3: Үзүүлэлт | C3: Газрын сайжируулалт | D3: Барилга байгууламж | E3: Машин тоног төхөөрөмж | F3: Тээврийн хэрэгсэл | G3: Тавилга эд хогшил | H3: Компьютер, дагалдах хэрэгсэл | I3: Бусад | J3: Бүгд
A4: 1 | B4: Үндсэн хөрөнгийн өртөг
A5: 1.1 | B5: Эхний үлдэгдэл | C5: =+'Guilgee balance'!D62 -> 0 | D5: =+'Guilgee balance'!D64 -> 3.6224335e+08 | E5: =+'Guilgee balance'!D72 -> 40290000 | F5: =+'Guilgee balance'!D76 -> 22000000 | G5: =+'Guilgee balance'!D68 -> 0 | H5: =+'Guilgee balance'!D86 -> 0 | I5: =+'Guilgee balance'!D80 -> 0 | J5: =SUM(C5:I5) -> 4.2453335e+08
A6: 1.2 | B6: Нэмэгдсэн: | C6: =SUM(C7:C10) -> 0 | D6: =SUM(D7:D10) -> 0 | E6: =SUM(E7:E10) -> 0 | F6: =SUM(F7:F10) -> 0 | G6: =+G7+G8+G9+G10 -> 0 | H6: =+H7+H8+H9+H10 -> 0 | I6: =SUM(I7:I10) -> 0 | J6: =SUM(C6:I6) -> 0
B7: Өөрөө үйлдвэрлэсэн | J7: =SUM(C7:I7) -> 0
B8: Худалдаж авсан | C8: =+'Guilgee balance'!F62 -> 0 | D8: =+'Guilgee balance'!F64 -> 0 | E8: =+'Guilgee balance'!F72 -> 0 | F8: =+'Guilgee balance'!F76 -> 0 | G8: =+'Guilgee balance'!F68 -> 0 | H8: =+'Guilgee balance'!F86 -> 0 | I8: =+'Guilgee balance'!F80 -> 0 | J8: =SUM(C8:I8) -> 0
B9: Үнэ төлбөргүй авсан | J9: =SUM(C9:I9) -> 0
B10: Дахин үнэлгээний нэмэгдэл | J10: =SUM(C10:I10) -> 0
A11: 1.3 | B11: Хасагдсан: | C11: =SUM(C12:C15) -> 0 | D11: =SUM(D12:D15) -> 0 | E11: =SUM(E12:E15) -> 0 | F11: =SUM(F12:F15) -> 0 | G11: =SUM(G12:G15) -> 0 | H11: =SUM(H12:H15) -> 0 | I11: =SUM(I12:I15) -> 0 | J11: =SUM(C11:I11) -> 0
B12: Худалдсан | C12: =+'Guilgee balance'!G62 -> 0 | D12: =+'Guilgee balance'!G64 -> 0 | E12: =+'Guilgee balance'!G72 -> 0 | F12: =+'Guilgee balance'!G76 -> 0 | G12: =+'Guilgee balance'!G68 -> 0 | H12: =+'Guilgee balance'!G86 -> 0 | I12: =+'Guilgee balance'!G80 -> 0 | J12: =SUM(C12:I12) -> 0
B13: Үнэгүй шилжүүлсэн | J13: =SUM(C13:I13) -> 0
B14: Акталж, устгасан | J14: =SUM(C14:I14) -> 0
B15: Бусад | J15: =SUM(C15:I15) -> 0
A16: 1.4 | B16: Үндсэн хөрөнгө дахин ангилсан
A17: 1.5 | B17: Үндсэн хөрөнгө, ХОЗҮХХ хооронд дахин ангилсан
A18: 1.6 | B18: Эцсийн үлдэгдэл | C18: =C5+C6-C11 -> 0 | D18: =D5+D6-D11 -> 3.6224335e+08 | E18: =E5+E6-E11 -> 40290000 | F18: =F5+F6-F11 -> 22000000 | G18: =+'Guilgee balance'!H68 -> 0 | H18: =+'Guilgee balance'!H86 -> 0 | I18: =+'Guilgee balance'!H80 -> 0 | J18: =SUM(C18:I18) -> 4.2453335e+08
A19: 2 | B19: Хуримтлагдсан элэгдэл
A20: 2.1 | B20: Эхний үлдэгдэл | D20: =+'Guilgee balance'!E66 -> 1.235056e+08 | E20: =+'Guilgee balance'!E74 -> 38324943 | F20: =+'Guilgee balance'!E78 -> 22000000 | G20: =+'Guilgee balance'!E70 -> 0 | H20: =+'Guilgee balance'!E88 -> 0 | I20: =+'Guilgee balance'!E82 -> 0 | J20: =SUM(C20:I20) -> 1.8383054e+08
A21: 2.2 | B21: Нэмэгдсэн дүн:
B22: Байгуулсан элэгдэл | D22: =+'Guilgee balance'!G66 -> 9056084.3 | E22: =+'Guilgee balance'!G74 -> 1965057.1 | F22: =+'Guilgee balance'!G78 -> 0 | G22: =+'Guilgee balance'!G70 -> 0 | H22: =+'Guilgee balance'!G88 -> 0 | I22: =+'Guilgee balance'!G83 -> 0 | J22: =SUM(C22:I22) -> 11021141
B23: Дахин үнэлгээгээр нэмэгдсэн | J23: =SUM(C23:I23) -> 0
B24: Үнэ цэнийн бууралтын буцаалт | J24: =SUM(C24:I24) -> 0
A25: 2.3 | B25: Хасагдсан дүн: | J25: =SUM(C25:I25) -> 0
B26: Данснаас хасагдсан хөрөнгийн элэгдэл | D26: =+'Guilgee balance'!F66 -> 0 | E26: =+'Guilgee balance'!F74 -> 0 | F26: =+'Guilgee balance'!F78 -> 0 | G26: =+'Guilgee balance'!F70 -> 0 | H26: =+'Guilgee balance'!F92 -> 0 | I26: =+'Guilgee balance'!F82 -> 0 | J26: =SUM(C26:I26) -> 0
B27: Дахин үнэлгээгээр хасагдсан | J27: =SUM(C27:I27) -> 0
B28: Үнэ цэнийн бууралт | J28: =SUM(C28:I28) -> 0
A29: 2.4 | B29: Эцсийн үлдэгдэл | D29: =+'Guilgee balance'!I66 -> 1.3256168e+08 | E29: =+'Guilgee balance'!I74 -> 40290000 | F29: =+'Guilgee balance'!I78 -> 22000000 | G29: =+'Guilgee balance'!I70 -> 0 | H29: =+'Guilgee balance'!I88 -> 0 | I29: =+'Guilgee balance'!I82 -> 0 | J29: =SUM(C29:I29) -> 1.9485168e+08
A30: 3 | B30: Дансны цэвэр дүн
A31: 3.1 | B31: Эхний үлдэгдэл /1.1-2.1/ | C31: =+C5-C20 -> 0 | D31: =+D5-D20 -> 2.3873775e+08 | E31: =+E5-E20 -> 1965057.1 | F31: =+F5-F20 -> 0 | G31: =+G5-G20 -> 0 | H31: =+H5-H20 -> 0 | I31: =+I5-I20 -> 0 | J31: =+J5-J20 -> 2.4070281e+08
A32: 3.2 | B32: Эцсийн үлдэгдэл /1.6-2.4/ | C32: =+C18-C29 -> 0 | D32: =+D18-D29 -> 2.2968167e+08 | E32: =+E18-E29 -> 0 | F32: =+F18-F29 -> 0 | G32: =+G18-G29 -> 0 | H32: =+H18-H29 -> 0 | I32: =+I18-I29 -> 0 | J32: =+J18-J29 -> 2.2968167e+08
A33: Тэмдэглэл. (Үндсэн хөрөнгийн анги бүрийн хувьд ашигласан хэмжилтийн суурь; элэгдэл тооцох арга; ашиглалтын хугацаа; дахин үнэлсэн бол дахин үнэлгээ хүчинтэй болсон хугацаа, хараат бус үнэлгээчин үнэлсэн эсэх талаар; үндсэн хөрөнгийн дахин ангилал, түүний шалтгаан; бусад тайлбар тэмдэглэлийг хийнэ).Тэмдэглэл. (Үндсэн хөрөнгийн анги бүрийн хувьд ашигласан хэмжилтийн суурь; элэгдэл тооцох арга; ашиглалтын хугацаа; дахин үнэлсэн бол дахин үнэлгээ хүчинтэй болсон хугацаа, хараат бус үнэлгээчин үнэлсэн эсэх талаар; үндсэн хөрөнгийн дахин ангилал, түүний шалтгаан; бусад тайлбар эмдэглэлийг хийнэ).
A35: ..........................................................................................................................................................................................................................................................................................................................
A36: ..........................................................................................................................................................................................................................................................................................................................
A37: ..........................................................................................................................................................................................................................................................................................................................

Sheet D5
B1: 10.Биет бус хөрөнгө
A3: № | B3: Үзүүлэлт | C3: Зохиогчийн эрх | D3: Компьютерын програм хангамж | E3: Патент | F3: Барааны тэмдэг | G3: Тусгай зөвшөөрөл | H3: Газар эзэмших эрх | I3: Бусад | J3: Бүгд
A4: 1 | B4: Үндсэн хөрөнгийн өртөг
A5: 1.1 | B5: Эхний үлдэгдэл | D5: =+'Guilgee balance'!D90 -> 0 | F5: 0 | G5: =+'Guilgee balance'!D94 -> 0 | H5: 0 | I5: 0 | J5: =SUM(C5:I5) -> 0
A6: 1.2 | B6: Нэмэгдсэн: | C6: =SUM(C7:C10) -> 0 | D6: =SUM(D7:D10) -> 0 | E6: =SUM(E7:E10) -> 0 | F6: =SUM(F7:F10) -> 0 | G6: =+G7+G8+G9+G10 -> 0 | H6: =+H7+H8+H9+H10 -> 0 | I6: =SUM(I7:I10) -> 0 | J6: =SUM(C6:I6) -> 0
B7: Өөрөө үйлдвэрлэсэн | J7: =SUM(C7:I7) -> 0
B8: Худалдаж авсан | D8: =+'Guilgee balance'!F90 -> 0 | E8: 0 | F8: 0 | G8: =+'Guilgee balance'!F94 -> 0 | H8: 0 | I8: 0 | J8: =SUM(C8:I8) -> 0
B9: Үнэ төлбөргүй авсан | J9: =SUM(C9:I9) -> 0
B10: Дахин үнэлгээний нэмэгдэл | J10: =SUM(C10:I10) -> 0
A11: 1.3 | B11: Хасагдсан: | C11: =SUM(C12:C15) -> 0 | D11: =SUM(D12:D15) -> 0 | E11: =SUM(E12:E15) -> 0 | F11: =SUM(F12:F15) -> 0 | G11: =SUM(G12:G15) -> 0 | H11: =SUM(H12:H15) -> 0 | I11: =SUM(I12:I15) -> 0 | J11: =SUM(C11:I11) -> 0
B12: Худалдсан | D12: =+'Guilgee balance'!G90 -> 0 | E12: 0 | F12: 0 | G12: =+'Guilgee balance'!G94 -> 0 | H12: 0 | I12: 0 | J12: =SUM(C12:I12) -> 0
B13: Үнэгүй шилжүүлсэн | J13: =SUM(C13:I13) -> 0
B14: Акталж, устгасан | J14: =SUM(C14:I14) -> 0
B15: Бусад | J15: =SUM(C15:I15) -> 0
A16: 1.4 | B16: Үндсэн хөрөнгө дахин ангилсан
A17: 1.5 | B17: Үндсэн хөрөнгө, ХОЗҮХХ хооронд дахин ангилсан
A18: 1.6 | B18: Эцсийн үлдэгдэл | C18: =C5+C6-C11 -> 0 | D18: =D5+D6-D11 -> 0 | E18: =E5+E6-E11 -> 0 | F18: =F5+F6-F11 -> 0 | G18: =G5+G6-G11 -> 0 | H18: =H5+H6-H11 -> 0 | I18: =I5+I6-I11 -> 0 | J18: =SUM(C18:I18) -> 0
A19: 2 | B19: Хуримтлагдсан хорогдол
A20: 2.1 | B20: Эхний үлдэгдэл | D20: =+'Guilgee balance'!E92 -> 0 | E20: 0 | F20: 0 | G20: 0 | H20: 0 | I20: 0 | J20: =SUM(C20:I20) -> 0
A21: 2.2 | B21: Нэмэгдсэн дүн:
B22: Байгуулсан хорогдол | D22: =+'Guilgee balance'!G92 -> 0 | E22: 0 | F22: 0 | G22: 0 | H22: 0 | I22: 0 | J22: =SUM(C22:I22) -> 0
B23: Дахин үнэлгээгээр нэмэгдсэн | E23: 0 | F23: 0 | G23: 0 | H23: 0 | I23: 0 | J23: =SUM(C23:I23) -> 0
B24: Үнэ цэнийн бууралтын буцаалт | C24: 0 | D24: 0 | E24: 0 | F24: 0 | G24: 0 | H24: 0 | I24: 0 | J24: =SUM(C24:I24) -> 0
A25: 2.3 | B25: Хасагдсан дүн:
B26: Данснаас хасагдсан хөрөнгийн хорогдол | D26: =+'Guilgee balance'!F92 -> 0
B27: Дахин үнэлгээгээр хасагдсан
B28: Үнэ цэнийн бууралт
A29: 2.4 | B29: Эцсийн үлдэгдэл | D29: =+'Guilgee balance'!I92 -> 0
A30: 3 | B30: Дансны цэвэр дүн
A31: 3.1 | B31: Эхний үлдэгдэл /1.1-2.1/ | C31: =+C5-C20 -> 0 | D31: =+D5-D20 -> 0 | E31: =+E5-E20 -> 0 | F31: =+F5-F20 -> 0 | G31: =+G5-G20 -> 0 | H31: =+H5-H20 -> 0 | I31: =+I5-I20 -> 0 | J31: =+J5-J20 -> 0
A32: 3.2 | B32: Эцсийн үлдэгдэл /1.6-2.4/ | C32: =+C18-C29 -> 0 | D32: =+D18-D29 -> 0 | E32: =+E18-E29 -> 0 | F32: =+F18-F29 -> 0 | G32: =+G18-G29 -> 0 | H32: =+H18-H29 -> 0 | I32: =+I18-I29 -> 0 | J32: =+J18-J29 -> 0
A33: Тэмдэглэл. (Биет бус хөрөнгийн анги бүрийн хувьд ашигласан хэмжилтийн суурь, хорогдол тооцох арга, ашиглалтын хугацаа, дахин үнэлсэн бол дахин үнэлгээ хүчинтэй болсон хугацаа, хараат бус үнэлгээчин үнэлсэн эсэх, бусад биет бус хөрөнгийн бүрэлдэхүүн болон бусад тайлбар тэмдэглэлийг хийнэ)
A35: ..........................................................................................................................................................................................................................................................................................................................
A36: ..........................................................................................................................................................................................................................................................................................................................
A37: ..........................................................................................................................................................................................................................................................................................................................

Sheet D6
A1: 11.ДУУСААГҮЙ БАРИЛГА
A3: № | B3: Дуусаагүй барилгын нэр | C3: Эхэлсэн он | D3: Дуусгалтын хувь | E3: Нийт төсөвт өртөг | F3: Ашиглалтад орох
A5: 1
A6: 2
A7: 3
A9: 12.БИОЛОГИЙН ХӨРӨНГӨ
A11: № | B11: Биологын хөрөнгийн нэр | C11: Эхний үлдэгдэл | E11: Эцсийн үлдэгдэл
C12: Тоо | D12: Дансны үнэ | E12: Тоо | F12: Дансны үнэ
A13: 1
A14: 2
A15: 3
A16: Тэмдэглэл. (Биологийн хөрөнгийн хэмжилтийн суурь болон бусад тайлбар, тэмдэглэлийг хийнэ).
A17: ...................................................................................................................................................................................................
A18: ...................................................................................................................................................................................................
A19: ...................................................................................................................................................................................................
A21: 13.УРТ ХУГАЦААТ ХӨРӨНГӨ ОРУУЛАЛТ
A23: № | B23: Урт хугацаат хөрөнгийн нэр | C23: Эхний үлдэгдэл | E23: Эцсийн үлдэгдэл
C24: ХО-н хувь | D24: ХО-н дүн | E24: ХО-н хувь | F24: ХО-н дүн
A25: 1
A26: 2
A27: 3
A28: Тэмдэглэл. ( Урт хугацаат хөрөнгө оруулалттай холбоотой бий болсон олз, гарзын дүн, бүртгэсэн аргыг тодруулна. Охин компани, хамтын хяналттай аж ахуйн нэгж, хараат компанид оруулсан хөрөнгө оруулалтыг НББОУС 27 Нэгтгэсэн болон тусдаа санхүүгийн тайлан – ийн дагуу тодруулна).
A31: ...................................................................................................................................................................................................
A32: ...................................................................................................................................................................................................
A33: ...................................................................................................................................................................................................
A35: 14.ХӨРӨНГӨ ОРУУЛАЛТЫН ЗОРИУЛАЛТТАЙ ҮЛ ХӨДЛӨХ ХӨРӨНГӨ
A36: Тэмдэглэл. (Хөрөнгө оруулалтын зориулалттай үл хөдлөх хөрөнгийн хувьд ашигласан хэмжилтийн суурь; бодит үнэ цэнийн загвар ашигладаг бол бодит үнэ цэнийг тодорхойлоход ашигласан арга, бодит үнэ цэнийн тохируулгаас үүссэн олз, гарз; хэрэв түрээслэдэг бол түрээсийн орлого, түрээслэсэн хөрөнгөтэй холбоотой гарсан зардлууд. Хэрэв өртгийн загвар ашигладаг бол хөрөнгийн ашиглалтын хугацаа, элэгдэл тооцох арга болон НББОУС 40 Хөрөнгө оруулалтын зориулалттай үл хөдлөх хөрөнгө – д заасны дагуу бусад тодруулгыг хийнэ).
A41: ...................................................................................................................................................................................................
A42: ...................................................................................................................................................................................................
A43: ...................................................................................................................................................................................................
A44: ...................................................................................................................................................................................................
A45: 15.БУСАД ЭРГЭЛТИЙН БУС ХӨРӨНГӨ
A47: № | B47: Урт хугацаат хөрөнгийн нэр | C47: Эхний үлдэгдэл | E47: Эцсийн үлдэгдэл
A49: 1
A50: 2
A51: 3
A52: Тэмдэглэл. ( Бусад эргэлтийн бус хөрөнгийн төрөл тус бүрээр тайлбар, тэмдэглэлийг хийнэ. Урт хугацаат авлагыг тодруулна).

Sheet D7
A1: 16.ӨР ТӨЛБӨР
B2: 16.1 Дансны өглөг
A3: № | B3: Ангилал | D3: Эхний үлдэгдэл | F3: Эцсийн үлдэгдэл
A4: 1 | B4: Хугацаандаа байгаа | D4: =+'Guilgee balance'!E98 -> 1156088532 | F4: =+'Guilgee balance'!I98 -> 1131088532
A5: 2 | B5: Хугацаа хэтэрсэн
A6: 3
A7: 4 | B7: Нийт | D7: =+D4+D5+D6 -> 1156088532 | F7: =+F4+F5+F6 -> 1131088532
B9: 16.2 Татварын өр
A10: № | B10: Татварын өрийн төрөл | D10: Эхний үлдэгдэл | F10: Эцсийн үлдэгдэл
A11: 1 | B11: ААНОАТ | D11: =+'Guilgee balance'!E110 -> 0 | F11: =+'Guilgee balance'!I110 -> 0
A12: 2 | B12: НӨАТ | D12: =+'Guilgee balance'!E108 -> 43270932 | F12: =+'Guilgee balance'!I108 -> 4170606
A13: 3 | B13: ХХОАТ | D13: =+'Guilgee balance'!E105 -> 3423840 | F13: =+'Guilgee balance'!I105 -> 1600455
A14: 4 | B14: ОАТ
A15: 5 | B15: Бусад татварын өр | D15: =+'Guilgee balance'!E103 -> 0 | F15: =+'Guilgee balance'!I103 -> 0
A16: 6 | B16: НДШ өр | D16: =+'Guilgee balance'!E112 -> 2199000 | F16: =+'Guilgee balance'!I112 -> 2599790
A17: 7 | B17: Нийт өр | D17: =+D11+D12+D13+D14+D15+D16 -> 48893772 | F17: =+F11+F12+F13+F14+F15+F16 -> 8370851
B19: 16.3 Богино хугацаат зээл
A20: № | B20: Ангилал | D20: Эхний үлдэгдэл | F20: Эцсийн үлдэгдэл
D21: Төгрөг | E21: Валют | F21: Төгрөг | G21: Валют
A22: 2 | B22: Төлөх хугацаандаа байгаа | D22: =+'Guilgee balance'!E114 -> 0 | F22: =+'Guilgee balance'!I114 -> 0
A23: 3 | B23: Хугацаа хэтэрсэн
A25: 4 | B25: Нийт | D25: =+D22+D23+D24 -> 0 | E25: =+E22+E23+E24 -> 0 | F25: =+F22+F23+F24 -> 0 | G25: =+G22+G23+G24 -> 0
B27: 16.4 Богино хугацаат нөөц /өр төлбөр/
A28: № | B28: Нөөцийн төрөл | C28: Эхний үлдэгдэл | D28: Нэмэгдсэн | E28: Хасагдсэн | F28: Ашиглаагүй | G28: Эцсийн үлдэгдэл
A29: 1 | B29: Баталгаат засвар
A30: 2 | B30: Нөхөн сэргээлт
A31: 3
A32: 4 | B32: Нийт
A33: Тэмдэглэл. (Урт хугацаат нөөцийн дүнг тодруулна. Нөөцийн төрлөөр тайлбар, тэмдэглэл хийнэ)
A34: .............................................................................................................................................................
B36: 16.5 Бусад богино хугацаат өр төлбөр
A37: № | B37: Төрөл | D37: Эхний үлдэгдэл | F37: Эцсийн үлдэгдэл
A38: 1 | B38: Бусад богино хугацаат өглөг | D38: =+'Guilgee balance'!E122 -> 0 | F38: =+'Guilgee balance'!I122 -> 0
A39: 2 | B39: Хүүгийн өглөг | D39: =+'Guilgee balance'!E118 -> 0 | F39: =+'Guilgee balance'!I118 -> 0
A40: 3 | B40: Нийт | D40: =+D38+D39 -> 0 | F40: =+F38+F39 -> 0
A41: Тэмдэглэл. (Гадаад валютаар илэрхийлэгдсэн богино хугацаат өр төлбөрийн дүнг тусад нь тодруулна).
A42: ............................................................................................................................................................
B43: 16.6 Урт хугацаат зээл болон бусад урт хугацаат өр төлбөр
A44: № | B44: Ангилал | D44: Эхний үлдэгдэл | F44: Эцсийн үлдэгдэл
D45: Төгрөг | E45: Валют | F45: Төгрөг | G45: Валют
A46: 1 | B46: Урт хугацаат зээлийн дүн
B47: Гадаад байгуулгаас шууд авсан
B48: Гадаад байгууллагаас дамжуулсан
B49: Дотоодын эх үүсвэрээс | D49: =+'Guilgee balance'!E124+'Guilgee balance'!E128 -> 5420000000 | F49: =+'Guilgee balance'!I124+'Guilgee balance'!I128 -> 5728850000
A50: 2 | B50: Бусад урт хугацаат өр төлбөрийн дүн, ГД, ДТ-н бонд, өрийн бичгийн дүн
A52: 3
A53: Тэмдэглэл. (Урт хугацаат зээл болон бусад урт хугацаат өр төлбөрийн төрлөөр тайлбар, тэмдэглэл хийнэ).
A54: ............................................................................................................................................................

Sheet D8
A1: 17.ЭЗДИЙН ӨМЧ
A3: 17.1 Өмч
A4: № | B4: Үзүүлэлт | C4: Эргэлтэд байгаа бүрэн төлөгдсөн энгийн хувьцаа | E4: Давуу эрхтэй хувьцаа | G4: Өмчийн дүн/Төг/
C6: Тоо ширхэг | D6: Дүн /Төг/ | E6: Тоо ширхэг | F6: Дүн /Төг/
A7: 1 | B7: Эхний үлдэгдэл | G7: =+'Guilgee balance'!E131 -> 89362999
A8: 2 | B8: Нэмэгдсэн | G8: =+'Guilgee balance'!G131 -> 0
A9: 3 | B9: Хасагдсан | G9: =+'Guilgee balance'!F131 -> 0
A10: 4 | B10: Эцсийн үлдэгдэл | D10: =+D7 -> 0 | G10: =+G7+G8-G9 -> 89362999
A12: 17.2 Хөрөнгийн дахин үнэлгээний нэмэгдэл
A14: № | B14: Үзүүлэлт | C14: Үндсэн хөрөнгийн дахин үнэлгээний нэмэгдэл | E14: Биет бус хөрөнгийн дахин үнэлгээний нэмэгдэл | G14: Нийт дүн
A16: 1 | B16: Эхний үлдэгдэл | G16: =+C16 -> 0
A17: 2 | B17: Нэмэгдсэн
B18: *ДҮ-нэмэгдлийн зөрүү
B19: *ДҮХ-н ҮЦБ-н гарзын буцаалт
A21: 3 | B21: Хасагдсан
B22: *ДҮ-нэмэгдлийн зөрүү
B23: *ДҮ-нэмэгдлийн хэрэгжсэн дүн
B25: *ДҮ-н хөрөнгийн үнэ цэнийн бууралтын гарз
A27: 4 | B27: Эцсийн үлдэгдэл | C27: =+C16 -> 0 | G27: =+C27 -> 0
A29: 17.3 Гадаад валютын хөрвүүлэлтийн нөөц
A31: № | B31: Үзүүлэлт | D31: Эхний үлд | E31: Нэмэгдсэн | F31: Хасагдсан | G31: Эцсийн үлдэгдэл
A32: 1 | B32: Гадаад Ү/А-н хөрвүүлэлтийн зөрүү
A33: 2 | B33: Бүртгэлийн валютыг толилуулгын валютад хөрвүүлсэний зөрүү
A35: 3 | B35: Бусад
A36: 4 | B36: Нийт
A38: 17.4 Эздийн өмчийн бусад хэсэг
A40: Тэмдэглэл. (Эздийн өмчийн бусад хэсгийн бүрэлдэхүүн тус бүрээр тодруулж тайлбар, тэмдэглэл хийнэ).
B41: Эзэмшигчийн өмчийн бусад хэсэг
A42: ....................................................................................................................................................
A43: ....................................................................................................................................................
A44: ....................................................................................................................................................
A45: ....................................................................................................................................................
A46: ....................................................................................................................................................
A47: ....................................................................................................................................................
A48: ....................................................................................................................................................
A49: ....................................................................................................................................................
A50: ....................................................................................................................................................
A51: ....................................................................................................................................................
A52: ....................................................................................................................................................
A53: ....................................................................................................................................................
A54: ....................................................................................................................................................

Sheet D9
A1: 18.БОРЛУУЛАЛТЫН ОРЛОГО БОЛОН БОРЛУУЛАЛТЫН ӨРТӨГ
A3: № | B3: Үзүүлэлт | C3: Өмнөх оны дүн | D3: Тайлант оны дүн
A4: 1 | B4: Борлуулалтын орлого | D4: =+'Guilgee balance'!G140 -> 1.1501143e+09
A5: 1.1 | B5: Бараа, бүтээгдэхүүн борлуулсны орлого
A7: 1.2 | B7: Ажил, үйлчилгээ борлуулсны орлого
A9: 1.3 | B9: Нийт борлуулалтын орлого | D9: =+D4 -> 1.1501143e+09
A10: 2 | B10: Борлуулалтын буцаалт, хөнгөлөлт, үнийн бууралт - | D10: =+'Guilgee balance'!F144+'Guilgee balance'!F146 -> 0
A11: 3 | B11: Цэвэр борлуулалт
A12: 4 | B12: Борлуулалтын өртөг | D12: =+'Guilgee balance'!F152 -> 3.0220183e+08
A13: 4.1 | B13: Борлуулсан бараа, бүтээгдэхүүний өртөг
A15: 4.2 | B15: Борлуулсан ажил, үйлчилгээний өртөг
A17: 4.3 | B17: Нийт борлуулалтын өртөг | D17: =+D12 -> 3.0220183e+08
A19: 19. БУСАД ОРЛОГО, ОЛЗ/ГАРЗ, АШИГ/АЛДАГДАЛ
A21: 19.1 Бусад орлого
A23: № | B23: Орлогын төрөл | C23: Өмнөх оны дүн | D23: Тайлант оны дүн
A24: 1 | B24: Хүү ногдол ашгийн орлого | D24: =+'Guilgee balance'!G159+'Guilgee balance'!G161 -> 63949.57
A25: 2 | B25: Бусад орлого | D25: =+'Guilgee balance'!G163 -> 0
A26: 3 | B26: Нийт дүн | C26: =+C24+C25 -> 0 | D26: =+D24+D25 -> 63949.57
A28: 19.2 Гадаад валютын ханшийн зөрүүний олз, гарз
A30: № | B30: Төрөл | C30: Өмнөх оны дүн | D30: Тайлант оны дүн
A31: 1 | B31: МХ-н үлдэгдэлд хийсэн ханшийн зөрүү | D31: =+'Guilgee balance'!G251-'Guilgee balance'!F247 -> 0
A32: 2 | B32: Эргэлтийн авлага, өрийн ханшийн зөрүү
A33: 3 | B33: Эргэлтийн бус авлага, өрийн ханшийн зөрүү
A34: 4 | B34: Валют арилжааны үүссэн олз/гарз | D34: =+'Guilgee balance'!G249-'Guilgee balance'!F245 -> 3618.2
A35: 5 | B35: Нийт дүн | D35: =+D31+D32+D33+D34 -> 3618.2
A37: 19.3 Бусад ашиг/алдагдал
A39: № | B39: Ашиг/алдагдал | C39: Өмнөх оны дүн | D39: Тайлант оны дүн
A40: 1 | B40: Хөрөнгийн үнэ цэнийн бууралтын
A41: 2 | B41: ХОЗҮХХ-н бодит үнэ цэнийн өөрчлөлтийн олз, гарз
A42: 3 | B42: ХОЗҮХХ-н данснаас хассаны олз, гарз
A43: 4 | B43: Хөрөнгийн дахин үнэлгээний олз, гарз
A44: 5 | B44: Хөрөнгийн үнэ цэнийн бууралтын гарз/гарзын буцаалт
A45: 6
A46: 7 | B46: Нийт дүн

Sheet D10
A1: 20.ЗАРДАЛ
A3: 20.1 Борлуулалт маркетингийн болон ерөнхий удирдлагын зардалууд
A4: № | B4: Зардлын төрөл | C4: Өмнөх оны дүн | E4: Тайлант оны дүн
C5: Бор/Мар | D5: Ер/Уд | E5: Бор/Мар | F5: Ер/Уд
A6: 1 | B6: Ажиллагчдын цалингийн зардал | F6: =+'Guilgee balance'!F173 -> 128010000
A7: 2 | B7: ААН-с төлсөн НДШ-н зардал | F7: =+'Guilgee balance'!F175 -> 16972050
A8: 3 | B8: Албан татвар, Төлбөр, Хураамжийн
A9: 4 | B9: Томилолтын зардал
A10: 5 | B10: Бичиг хэргийн зардал | F10: 0
A11: 6 | B11: Шуудан холбооны зардал | F11: =+'Guilgee balance'!F198 -> 3021470
A12: 7 | B12: Мэргэжлийн үйлчилгээний зардал | F12: 0
A13: 8 | B13: Сургалтын зардал
A14: 9 | B14: Сонин сэтгүүл захиалгын зардал | F14: =+'Guilgee balance'!F213 -> 2817181.8
A15: 10 | B15: Даатгалын зардал | F15: =+'Guilgee balance'!F214+'Guilgee balance'!F215 -> 0
A16: 11 | B16: Ашиглалтын зардал | F16: =+'Guilgee balance'!F180 -> 82086686
A17: 12 | B17: Засварын зардал | F17: =+'Guilgee balance'!F177 -> 0
A18: 13 | B18: Элэгдэл, хорогдлын зардал | F18: =+'Guilgee balance'!F194 -> 11021141
A19: 14 | B19: Түрээсийн зардал | F19: =+'Guilgee balance'!F182 -> 1.5699668e+08
A20: 15 | B20: Харуул хамгаалалтын зардал | F20: =+'Guilgee balance'!F210 -> 0
A21: 16 | B21: Цэвэрлэгээ үйлчилгээний зардал | F21: =+'Guilgee balance'!F181 -> 0
A22: 17 | B22: Тээврийн зардал | F22: =+'Guilgee balance'!F186 -> 0
A23: 18 | B23: Шатахууны зардал | F23: =+'Guilgee balance'!F201 -> 13053545
A24: 19 | B24: Хүлээн авалтын зардал
A25: 20 | B25: Зар сурталчилгааны зардал | E25: =+'Guilgee balance'!F171+'Guilgee balance'!F196 -> 0 | F25: =+'Guilgee balance'!F197 -> 0
A26: 21 | B26: Бусад зардал | F26: =+'Guilgee balance'!F209-6400000+118181.82 -> 30620544
A27: 22 | B27: Түүхий эд материалын зардал | F27: =+'Guilgee balance'!F188 -> 33551493
A28: 23 | B28: Зээлийн хүүгийн зардал | F28: =+'Guilgee balance'!F233 -> 1.6137316e+09
A29: 24 | B29: Нийд дүн | E29: =SUM(E6:E27) -> 0 | F29: =SUM(F6:F28) -> 2.0918824e+09
A31: 20.2 Бусад зардал
A32: № | B32: Зардлын төрөл | C32: Өмнөх оны дүн | E32: Тайлант оны дүн
A33: 1 | B33: Алданги, торгуулийн зардал | E33: =+'Guilgee balance'!F241 -> 2910000
A34: 2 | B34: Хандивын зардал | E34: =+'Guilgee balance'!F239 -> 0
A35: 3 | B35: Найдваргүй авлагын зардал | E35: =+'Guilgee balance'!F202 -> 0
A36: 4 | B36: Бусад | E36: =+'Guilgee balance'!F237+'Guilgee balance'!F243 -> 0
A37: 5 | B37: Нийт дүн | E37: =+E33+E34+E35+E36 -> 2910000
A39: 20.3 Цалингийн зардал
A40: Ангилал | C40: Ажилчдын дундаж тоо | E40: Цалингийн зардлын дүн
E41: Өмнөх оны | F41: Тайлант оны
A42: Үйлдвэрлэл, үйлчилгээ
A44: Борлуулалт, Маркетингийн
A46: Ерөнхий ба удирдлагын | C46: 28 | F46: =+'Guilgee balance'!F173 -> 128010000
A48: Нийт дүн | C48: =+C42+C43+C44+C45+C46+C47 -> 28 | F48: =+F46+F42+F43+F44+F45+F47 -> 128010000
A50: 21.ОРЛОГЫН ТАТВАРЫН ЗАРДАЛ
A51: № | B51: Үзүүлэлт | C51: Өмнөх оны дүн | E51: Тайлант оны дүн
A52: 1 | B52: Тайлант үеийн орлогы татварын зардал | E52: =+'CT-2'!H26 -> 0
A53: 2 | B53: Хойшлогдсон татварын зардал/орлого
A54: 3 | B54: Орлогын татварын зардал/орлого нийт | E54: =+E52+E53 -> 0
A55: Тэмдэглэл: Орлогын татварын зардал, орлого бүрэлдэхүүн тус бүрээр тэмдэглэл хийнэ
A56: ...........................................................................................................................................................
A57: ...........................................................................................................................................................

Sheet D11
A1: 22.ХОЛБООТОЙ ТАЛУУДЫН ТОДОРУУЛГА
A3: 22.1 Толгой компани, хамгийн дээд хяналт тавигч компани, хувь хүний талаарх мэдээлэл
A4: Үзүүлэлт | C4: Толгой компани | D4: Хамгийн дээд хяналт тавигч толгой компани | E4: Хамгийн дээд хяналт тавигч хувь хүн | F4: Тайлбар
A5: Нэр
A6: Бүртгэгдсэн /оршин суугаа/ улс
A7: Эзэмшлийн хувь
A9: 22.2 Тэргүүлэх удирдлагын бүрэлдэхүүнд олгосон нөхөн олговорын тухай мэдээлэл
A10: Тэргүүлэх удирдлага гэдэгт...........................................................................................................
A12: № | B12: Нөхөн олговрын нэр | E12: Өмнөх оны дүн | F12: Тайлант оны дүн
A13: 1 | B13: Богино болон урт хугацаат тэтгэмж
A14: 2 | B14: Ажил эрхлэлтийн дараах, ажлаас халагдсаны тэтгэмж
A15: 3 | B15: Хувьцаанд суурилсан төлбөр
A16: 4 | B16: Нийт дүн | E16: =+E13+E14+E15 -> 0 | F16: =+F13+F14+F15 -> 0
A18: 22.3 Холбоотой талуудтай хийсэн ажил гүйлгээ
A20: № | B20: Холбоотой талын нэр | D20: Ажил гүйлгээний утга | E20: Дүн | F20: Тайлбар
A21: 1
A22: 2
A24: 23.БОЛЗОШГҮЙ ХӨРӨНГӨ БА ӨР ТӨЛБӨР
A26: Тэмдэглэл: Болзошгүй хөрөнгө ба өр төлбөрийн мөн чанар, хэрэв практик боломжтой бол тэдгээрийн санхүүгийн нөлөөний тооцоооллыг тодоруулна
A28: ..........................................................................................................................................................
A29: ..........................................................................................................................................................
A30: ..........................................................................................................................................................
A31: ..........................................................................................................................................................
A32: ..........................................................................................................................................................
A33: ..........................................................................................................................................................
A34: ..........................................................................................................................................................
A35: ..........................................................................................................................................................
A38: 24.ТАЙЛАГНАЛЫН ҮЕИЙН ДАРААХ ҮЙЛ ЯВДАЛ
A40: Тэмдэглэл: Тайлагналын өдрийн дараах үл залруулагдах үйл явдлын материаллаг ангилал тус бүрийн хувьд мөн чанар, санхүүгийн нөлөөллийн тооцоолол зэргийг тодоруулж бусад тайлбар, тэмдэглэл хийнэ
... A50: ..........................................................................................................................................................

Sheet D12
A1: 25.ХӨРӨНГӨ ОРУУЛАЛТ
A3: № | B3: Үзүүлэлт | C3: Эхний үлдэгдэл | D3: Тайлант хугацаанд хийгдсэн хөрөнгө оруулалт/төгрөгөөр/ | N3: Эцсийн үлдэгдэл
D4: Аж ахуйн нэгжийн өөрийн хөрөнгөөр | E4: Улсын төсвийн хөрөнгөө | F4: Орон нутгийн төсвийн хөрөнгөөр | G4: Банкны зээл | H4: Гадаадын шууд хөрөнгө оруулалт | I4: Гадаадын зээл | J4: Гадаадын буцалтгүй тусламж | K4: Төсөл хөтөлбөр хандив | L4: Бусад эх үүсвэр | M4: Дүн
A5: 1 | B5: Биет хөрөнгө | M5: =+D5+E5+F5+G5+H5+I5+J5+K5+L5 -> 0 | N5: =+C5+M5 -> 0
A6: 1.1 | B6: Газрын сайжруулалт | M6: =+D6+E6+F6+G6+H6+I6+J6+K6+L6 -> 0 | N6: =+C6+M6 -> 0
A7: 1.2 | B7: Барилга, байгууламж | M7: =+D7+E7+F7+G7+H7+I7+J7+K7+L7 -> 0 | N7: =+C7+M7 -> 0
A8: 1.2.1 | B8: Үүнээс:Îðîí ñóóöíû áàðèëãà | M8: =+D8+E8+F8+G8+H8+I8+J8+K8+L8 -> 0 | N8: =+C8+M8 -> 0
A9: 1.2.2 | B9: Àâòî çàì | M9: =+D9+E9+F9+G9+H9+I9+J9+K9+L9 -> 0 | N9: =+C9+M9 -> 0
A10: 1.3 | B10: Ìàøèí, òîíîã òºõººðºìæ | M10: =+D10+E10+F10+G10+H10+I10+J10+K10+L10 -> 0 | N10: =+C10+M10 -> 0
A11: 1.4 | B11: Òýýâðèéí õýðýãñýë | M11: =+D11+E11+F11+G11+H11+I11+J11+K11+L11 -> 0 | N11: =+C11+M11 -> 0
A12: 1.5 | B12: Òàâèëãà ýä õîãøèë | M12: =+D12+E12+F12+G12+H12+I12+J12+K12+L12 -> 0 | N12: =+C12+M12 -> 0
A13: 1.6 | B13: Êîìïüþòåð, áóñàä õýðýãñýë | M13: =+D13+E13+F13+G13+H13+I13+J13+K13+L13 -> 0 | N13: =+C13+M13 -> 0
A14: 1.7 | B14: Бèîëîãèéí õºðºíãº | M14: =+D14+E14+F14+G14+H14+I14+J14+K14+L14 -> 0 | N14: =+C14+M14 -> 0
A15: 1.8 | B15: Áóñàä áèåò õºðºíãº | M15: =+D15+E15+F15+G15+H15+I15+J15+K15+L15 -> 0 | N15: =+C15+M15 -> 0
A16: 1.9 | B16: ¯¿íýýñ; ÕÎÇ¯ÕÕ | M16: =+D16+E16+F16+G16+H16+I16+J16+K16+L16 -> 0 | N16: =+C16+M16 -> 0
A17: 1.10 | B17: Áèåò õºðºíãèéí ä¿í | C17: =+C6+C7+C8+C9+C10+C11+C12+C13+C14+C15+C16 -> 0 | D17: =+D6+D7+D8+D9+D10+D11+D12+D13+D14+D15+D16 -> 0 | E17: =+E6+E7+E8+E9+E10+E11+E12+E13+E14+E15+E16 -> 0 | F17: =+F6+F7+F8+F9+F10+F11+F12+F13+F14+F15+F16 -> 0 | G17: =+G6+G7+G8+G9+G10+G11+G12+G13+G14+G15+G16 -> 0 | H17: =+H6+H7+H8+H9+H10+H11+H12+H13+H14+H15+H16 -> 0 | I17: =+I6+I7+I8+I9+I10+I11+I12+I13+I14+I15+I16 -> 0 | J17: =+J6+J7+J8+J9+J10+J11+J12+J13+J14+J15+J16 -> 0 | ... N17: =+N6+N7+N8+N9+N10+N11+N12+N13+N14+N15+N16 -> 0
A18: 2 | B18: Áèåò áóñ õºðºíãº: | M18: =+D18+E18+F18+G18+H18+I18+J18+K18+L18 -> 0 | N18: =+C18+M18 -> 0
A19: 2.1 | B19: Зохиогчийн эрх | M19: =+D19+E19+F19+G19+H19+I19+J19+K19+L19 -> 0 | N19: =+C19+M19 -> 0
A20: 2.2 | B20: Компьютер программ хангамж | M20: =+D20+E20+F20+G20+H20+I20+J20+K20+L20 -> 0 | N20: =+C20+M20 -> 0
A21: 2.2.1 | B21: ¯¿íýýñ: Ïðîãðàìì õàíãàìæ | M21: =+D21+E21+F21+G21+H21+I21+J21+K21+L21 -> 0 | N21: =+C21+M21 -> 0
A22: 2.2.2 | B22: Ìýäýýëëèéí ñàí | M22: =+D22+E22+F22+G22+H22+I22+J22+K22+L22 -> 0 | N22: =+C22+M22 -> 0
A23: 2.3 | B23: Ïàòåíò | M23: =+D23+E23+F23+G23+H23+I23+J23+K23+L23 -> 0 | N23: =+C23+M23 -> 0
A24: 2.4 | B24: Áàðààíû òýìäýã | M24: =+D24+E24+F24+G24+H24+I24+J24+K24+L24 -> 0 | N24: =+C24+M24 -> 0
A25: 2.5 | B25: Òóñãàé çºâøººðºë | M25: =+D25+E25+F25+G25+H25+I25+J25+K25+L25 -> 0 | N25: =+C25+M25 -> 0
A26: 2.6 | B26: Ãàçàð ýçýìøèõ ýðõ | M26: =+D26+E26+F26+G26+H26+I26+J26+K26+L26 -> 0 | N26: =+C26+M26 -> 0
A27: 2.7 | B27: Áóñàä áèåò áóñ õºðºíãº | M27: =+D27+E27+F27+G27+H27+I27+J27+K27+L27 -> 0 | N27: =+C27+M27 -> 0
A28: 2.7.1 | B28: Үүнээс: Зураг төсвийн ажил, ТЭЗҮ боловсоруулах, туршилт судалгаа | M28: =+D28+E28+F28+G28+H28+I28+J28+K28+L28 -> 0 | N28: =+C28+M28 -> 0
A29: 2.8 | B29: Биет бус хөрөнгийн дүн | C29: =+C18+C19+C20+C21+C22+C23+C24+C25+C26+C27+C28 -> 0 | D29: =+D18+D19+D20+D21+D22+D23+D24+D25+D26+D27+D28 -> 0 | E29: =+E18+E19+E20+E21+E22+E23+E24+E25+E26+E27+E28 -> 0 | F29: =+F18+F19+F20+F21+F22+F23+F24+F25+F26+F27+F28 -> 0 | G29: =+G18+G19+G20+G21+G22+G23+G24+G25+G26+G27+G28 -> 0 | H29: =+H18+H19+H20+H21+H22+H23+H24+H25+H26+H27+H28 -> 0 | I29: =+I18+I19+I20+I21+I22+I23+I24+I25+I26+I27+I28 -> 0 | J29: =+J18+J19+J20+J21+J22+J23+J24+J25+J26+J27+J28 -> 0 | ... N29: =+N18+N19+N20+N21+N22+N23+N24+N25+N26+N27+N28 -> 0
A30: 3 | B30: Хайгуул үнэлгээний хөрөнгө | M30: =+D30+E30+F30+G30+H30+I30+J30+K30+L30 -> 0 | N30: =+C30+M30 -> 0
A31: 3.1 | B31: Үүнээс:Биет хөрөнгө | M31: =+D31+E31+F31+G31+H31+I31+J31+K31+L31 -> 0 | N31: =+C31+M31 -> 0
A32: 3.2 | B32: Биет бус хөрөнгө | M32: =+D32+E32+F32+G32+H32+I32+J32+K32+L32 -> 0 | N32: =+C32+M32 -> 0
A33: 4 | B33: Нийт дүн | C33: =+C17+C29+C30+C31+C32 -> 0 | D33: =+D17+D29+D30+D31+D32 -> 0 | E33: =+E17+E29+E30+E31+E32 -> 0 | F33: =+F17+F29+F30+F31+F32 -> 0 | G33: =+G17+G29+G30+G31+G32 -> 0 | H33: =+H17+H29+H30+H31+H32 -> 0 | I33: =+I17+I29+I30+I31+I32 -> 0 | J33: =+J17+J29+J30+J31+J32 -> 0 | ... N33: =+N17+N29+N30+N31+N32 -> 0

Sheet TM11.04
A1: ¯ÒÅÃ-ûí äàðãûí 2002 îíû 129 òîîò òóøààëûí 05 äóãààð õàâñðàëòààð áàòëàâ
A6: Ìàÿãò ÒT-11 | H6: ¯íäýñíèé Òàòâàðûí Àëáà
A9: Öàëèí, õºäºëìºðèéí õºëñ áîëîí òýäãýýðòýé àäèëòãàõ
G10: îðëîãîîñ ñóóòãàñàí àëáàí òàòâàðûí òàéëàí
A11: 1 | B11: ÒÒÄ : | E11: =+Nuur!D5 -> 2025779 | U11: Çºâõºí òàòâàðûí àëáàíû àæëûí õýðýãöýýíä:
U12: ÁÒÄ:
A14: 2 | B14: Íýð : | D14: =+Nuur!A22 -> ''БҮТЭЭЛЧ ҮЙЛС"ХК | U14: Òàòâàðûí áàéöààã÷ | AG14: Òýìäýã
U16: Õ¿ëýýí àâñàí îí, ñàð, ºäºð:
A17: 3 | B17: Òàéëàíãèéí õóãàöàà : | J17: 2 | K17: 0 | L17: 1 | M17: 8 | O17: Óëèðàë | R17: 0 | S17: 4
AC19: Ä¿í ( òîî )
B20: (Òàéëàíãèéí ¿ç¿¿ëýëò¿¿äèéã îíû ýõíýýñ ºññºí ä¿íãýýð áºãëºíº ) | AC20: Ä¿í ( òîî )
B21: l.ØÓÓÄ ÎÐËÎÃÎ
B22: ¯ç¿¿ëýëò | Z22: Ìºð | AB22: Òàòâàð òºëºã÷èéí òîî | AF22: Ä¿í
A23: l | Z23: ll | AB23: lll
A24: 1.Öàëèí õºäºëìºðèéí õºëñ , øàãíàë , óðàìøóóëàë áîëîí òýäãýýðòýé àäèëòãàõ õºäºëìºð ýðõýëýëòèéí îðëîãî (2+3) | Z24: 1 | AB24: =+AB25+AB26 -> 28 | AF24: =+AF25 -> 128010000
B25: 1.1 Àæèë îëãîã÷òîé çààñàí õºäºëìºðèéí ãýðýíä çààñíû äàãóó àâ÷ áàéãàà ¿íäñýí öàëèí íýìýãäýë õºëñ ,íýìýãäýë øàãíàë ,óðàìøóóëàë ,àìðàëòûí íºõºí îëãîâîð ,òýòãýâýð òýòãýìæ òýäãýýðòýé àäèëòãàõ îðëîãî (ìÿí .òºã) | Z25: 2 | AB25: 28 | AF25: =+'Guilgee balance'!F173 -> 128010000 | AK25: СТ-2-н цалингийн зардал хэсгийн дүн /мянга/
B26: 1.2 ¯íäñýí àæëûí ãàçðààñ áóñàä õóóëèéí ýòãýýä áîëîí õóâü õ¿íòýé áàéãóóëñàí ãýðýýíèé ¿íäñýí äýýð àæèë , ¿¿ðýã ã¿éöýòãýæ àâñàí õºäºëìºðèéí õºëñ , øàãíàë , óðàìøóóëàë , òýäãýýðòýé àäèëòãàõ îðëîãî (ìÿí.òºã) | Z26: 3
A27: 2.Ýð¿¿ë ìýíäèéí äààòãàëûí øèìòãýëèéí ä¿í | Z27: 4 | AB27: =+AB24 -> 28 | AF27: =+'Guilgee balance'!G112-'Guilgee balance'!F175 -> 15713900 | AJ27: 0 | AK27: 310600 дансны дт талд цалингийн өр данстай харьцсан нийлбэр
A28: 3. òàòâàð íîãäóóëàõ îðëîãûí ä¿í (1-4) | Z28: 5 | AB28: =+AB24 -> 28 | AF28: =+AF25-AF27 -> 112296100
A29: 4.Íîãäóóëñàí òàòâàð (5*10 õóâü) | Z29: 6 | AB29: =+AB24 -> 28 | AF29: =+AF28*0.1 -> 11229610
A30: 5. Àæèë îëãîã÷îîñ àæèëòàí , ò¿¿íèé ãýð á¿ëèéí ãèø¿¿íä îëãîñîí òýòãýìæ áîëîí ò¿¿íòýé àäèëòãàõ áóñàä îðëîãîä íîãäóóëñàí òàòâàð (8*10 õóâü) | Z30: 7
B31: 5.1 Àæèë îëãîã÷îîñ àæèëòàí , ò¿¿íèé ãýð á¿ëèéí ãèø¿¿íä îëãîñîí òýòãýìæ áîëîí ò¿¿íòýé àäèëòãàõ áóñàä îðëîãî | Z31: 8
A32: 6.Àæèë îëãîã÷îîñ àæèëòàí ò¿¿íèé ãýð á¿ëèéí ãèø¿¿íä ºãñºí áýëãýíä íîãäóóëñàí òàòâàð | Z32: 9
B33: 6.1 Àæèë îëãîã÷îîñ àæèëòàí , ò¿¿íèé ãýð á¿ëèéí ãèø¿¿íä ºãñºí áýëýã | Z33: 10
A34: 7.Òºëººëºí óäèðäàõ çºâëºë , õÿíàëòûí çºâëºë îðîí òîîíû áóñ çºâëºë áîëîí áóñàä çºâëºë , õîðîî ,àæëûí õýñãèéí ãèø¿¿íèé öàëèí õºëñ , øàãíàë , óðàìøóóëàë , òýäãýýðòýé àäèëòãàõ îðëîãîä íîãäóóëñàí òàòâàð (12*10 õóâü) | Z34: 11
B35: 7.1 Òºëººëºí óäèðäàõ çºâëºë ,õÿíàëòûí çºâëºë îðîí òîîíû áóñ çºâëºë áîëîí áóñàä çºâëºë , õîðîî ,àæëûí õýñãèéíãèø¿¿íèé öàëèí õºëñ , øàãíàë ,óðàìøóóëàë , òýäãýýðòýé àäèëòãàõ îðëîãî | Z35: 12
A36: 8. Ãàäààä , äîòîîäûí àæ àõóéí íýãæ áàéãóóëàãà , èðãýí áîëîí áóñàä ýòãýýäýýñ ºãñºí ìá¿õ òºðëèéí øàãíàë ,óðàìøóóëàë(14*10õóâü) | Z36: 13 | AF36: 0
B37: 8.1 Ãàäààä , äîòîîäûí àæ àõóéí íýãæ áàéãóóëàãà , èðãýí áîëîí áóñàä ýòãýýäýýñ ºãñºí á¿õ òºðëèéí øàãíàë ,óðàìøóóëàë | Z37: 14
A38: 9.íîãäóóëñàí íèéò òàòâàðûí ä¿í (6+7+9+11+13) | Z38: 15 | AB38: =+AB24 -> 28 | AF38: =+AF29+AF30+AF32+AF34+AF36 -> 11229610 | AK38: 3953332.4
A39: 10.Õºíãºëºãäºõ òàòâàðûí ä¿í | Z39: 16 | AB39: =+AB38 -> 28 | AF39: 5140000 | AJ39: 299 | AK39: Ажилчдын тоо/Өссөн буюу давхардсан тоо/ Програмаар бодсон бол 1-12 сарын цалинг авч сүүлийн дугаарлалтаар авна
A40: 11. Ñóóòãàâàë çîõèõ íèéò òàòâàðûí ä¿í (15-16) | Z40: 17 | AB40: =+AB38 -> 28 | AF40: =+AF38-AF39 -> 6089610
A41: 12.Òàòâàðûí õºíãºëºëò ¿ç¿¿ëñíéè äàðàà òàòâàðààñ á¿ðýí ÷ºëººëºãäñºí èðãýäèéí òîî | Z41: 18
A42: ll ØÓÓÄ ÁÓÑ ÎÐËÎÃÎ
A43: 13.Òàòâàð íîãäîõ øóóä áóñ îðëîãûí íèéò ä¿í (19+20+21+22+23+24) (òàòâàð íîãäîõ øóóä áóñ îðëîãîä öàëèí , õºäºëìºðèéí õºëñ øàãíàë , óðàìøóóëàë äýýð àæèë îëãîã÷îîñ íýìæ îëãîæ áàéãàà òóõàíé àæèëòíààñ àëáàí ¿¿ðãýý ã¿éöýòãýõýä øóóä õîëáîãäîëã¿é äàðààõü áàðàà , ¿éë÷èëãýýíéè îðëîãûã õàìðóóëíà ) | Z43: 19 | AF43: =+AF44+AF45+AF46+AF47+AF48 -> 0
B44: 13.1 ¯íý òºëáºðã¿é ,ýñõ¿ë õºíãºëºëòòýé ¿íýýð òýýâðèéí õýðýãñëýýð ¿éë÷ëýõ , ò¿¿í÷ëýí óíààíû ìºíãèéã áýëíýýð îëãîõ | Z44: 20
B45: 13.2 Îðîí ñóóöíû àøèëàëòûí çàðäëûí òºëáºð , áàéðíû õºëñ , ò¿ëøíèé ìºíãèéã áýëíýýð îëãîõ | Z45: 21
B46: 13.3 Õîîëíû ìºíãèéã áýëíýýð îëãîõ , ¿çâýð ¿éë÷èëãýýíèé îëãîâîð | Z46: 22
B47: 13.4 àõóéí ¿éë÷ëýã÷ , æîëîî÷ , öýöýðëýã÷èéí áîëîí áóñàä ¿éë÷èëãýý ¿ç¿¿ëýõ | Z47: 23
B48: 13.5 àæèë îëãîã÷èä , ýñõ¿ë áóñàä ýòãýýäýä òºëºõ ºð áàðàãäóóëñíû òºëáºð 13.6 àðèëæààíû çýýëèéí õ¿¿ãýýñ äîîãóóð õ¿¿òýé îëãîñîí õ¿¿ãèéí çºð¿¿ | Z48: 24
B49: 13.7 àäèëòãàõ áóñàä îðëîãî | Z49: 25
A50: 14. Øóóä áóñ îðëîãîä íîãäóóëñàí òàòâàð (18*10) | Z50: 26
A51: 15.Ñóóòãàâàë çîõèõ íèéò òàòâàðûí ä¿í (17+25) | Z51: 27 | AB51: =+AF40+AB49 -> 6089610 | AJ51: =+AJ40 -> 0
A52: ll. ÒÀÒÂÀÐ ÒÎÎÖÎÎËÎË
A53: Óðüä òàéëàíãèéí ýöñèéí äóòóó /Äò /, èë¿¿ /Êò / | Z53: 28 | AB53: =+IF('Guilgee balance'!D31=0,'Guilgee balance'!E106,0) -> 3423840 | AF53: =+IF('Guilgee balance'!E106=0,'Guilgee balance'!D31,0) -> 0 | AJ53: =+IF('Guilgee balance'!E105<=0, 'Guilgee balance'!D31, 'Guilgee balance'!E105) -> 3423840 | AK53: СТ-1 ХХОАТ өр/кт/, авлага/дт/ эхний үлдэгдэл /мянга/
A54: Ñóóòãàí òîîöîæ òºñºâò øèëæ¿¿ëñýí òàòâàðûí ä¿í /Êò/ | Z54: 29 | AB54: 0 | AF54: 2463920 | AK54: 310500 дансны ДТдүнгийн касс, харилцахтай харьцсан дүнгийн нийлбэр
A55: Òàéëàíãèéí ýöñèéí èë¿¿ /Êò/ | Z55: 30 | AF55: =+IF((AF53+AF54)-(AB53+AB51)>0, (AF53+AF54)-(AB53+AB51), 0 ) -> 0 | AJ55: =+'Guilgee balance'!H32 -> 0 | AK55: СТ-1 ХХОАТ авлага эцсийн үлдэгдэл /мянга/
A56: Òºñºâò òºëºõ íèéò òºëáºðèéí ä¿í /Äò/ | Z56: 31 | AB56: =+IF((AB53+AB51)-(AF53+AF54)>0,(AB53+AB51)-(AF53+AF54),0) -> 7049530 | AJ56: =+'Guilgee balance'!I106 -> 1600455 | AK56: СТ-1 ХХОАТ өр эцсийн үлдэгдэл /мянга/
D58: Òàéëàíã ¿íýí çºâ ãàðãàñàí | Y58: Òàéëàí õ¿ëýýí àâñàí :
D59: Äàðãà /Çàõèðàë /; | M59: …………………….
Y60: Òàòâàðûí óëñûí áàéöààã÷.............
D61: Åðºíõèé íÿãòëàí áîäîã÷ ;……………………..
D63: Òàòâàðûí èòãýìæëýãäñýí
H64: íÿãòëàí áîäîã÷ ........................

Sheet tt02
AE1: Татварын Ерөнхий Газрын даргын 2013 оны 9 сарын
AE2: 10-ны өдрийí 669 дїгээр тушаалын хавсралт
A5: Ìàÿãò ÒÌ-02 | I5: ¯íäýñíèé Òàòâàðûí Àëáà
A7: Àæ àõóéí íýãæ, áàéãóóëëàãûí îðëîãûí àëáàí òàòâàðûí òàéëàí
A9: 1 | C9: ÒÒÄ | E9: =+Nuur!D5 -> 2025779 | O9: 2 | Q9: Íýð: | S9: =+Nuur!A22 -> ''БҮТЭЭЛЧ ҮЙЛС"ХК
A10: 3 | C10: Хариуцлагын хэлбэр: Хязгаарлагдмал хариуцлагатай компани
A11: 4 | C11: Ýðõëýõ ¿éë àæèëëàãàà : | K11: ¯íäñýí :
A13: 5 | C13: Òàéëàíò õóãàöàà : | I13: Îí | J13: 2 | K13: 0 | L13: 1 | M13: 8 | O13: Óëèðàë | R13: 4
C16: ( ) Òóõàéí òàéëàíãèéí õóãàöààíä ¿éëäâýðëýë ÿâóóëæ, áîðëóóëàëò õèéãýýã¿é áîë ( õ )-ýýð òýìäýãëýíý.
A18: l.Íèéòëýã õóâü õýìæýýãýýð íîãäóóëàõ òàòâàðûí òîîöîîëîë | AD18: \Төгрөгөөр\
A19: Үзүүлэлтүүд | AA19: Мөр | AB19: Татвар төлөгчийн тодорхойлсон | AE19: Татварын албан хүлээн авсан
A21: 1. Нийт орлогын дүн (мөр 2+3+4+5+6) | AA21: 1 | AB21: =+AB22+AB23+AB26+AB25+AB24 -> 1.1501829e+09
A22: үүнээс: | B22: 1.1. Татвараас чөлөөлөгдөх орлогын дүн (ТТ-02б маягтын А хэсгийн дүн) | AA22: 2 | AB22: =+'Guilgee balance'!F149 -> 0
B23: 1.2. Тусгай хувь хэмжээгээр татвар ногдох орлогын дүн (Хүс Б мөр 32+34+39+41+43) | AA23: 3 | AB23: =+AB56+AB58+AB63+AB65+AB67+AB71 -> 63949.57
B24: 1.3. Хуулийн дагуу бусдад татвар суутгуулсан орлогын дүн(Хүс В мөр 50+52+54+56) | AA24: 4 | AB24: =+AB76+AB80+AB82+AB78 -> 0
B25: 1.4, Бусад орлогын дүн | AA25: 5 | AB25: =+'Guilgee balance'!G252 -> 0
B26: 1.5. Нийтлэг хувь хэмжээгээр татвар ногдох орлогын дүн /мөр 7+8+...+17/ | AA26: 6 | AB26: =+AB27+AB28+AB29+AB30+AB31+AB32+AB33+AB34+AB35+AB36+AB37 -> 1.150119e+09
B27: үүнээс: | C27: Үндсэн үйлдвэрлэл, ажил үйлчилгээний борлуулалтын орлого | AA27: 7 | AB27: =+'Guilgee balance'!G139-'Guilgee balance'!G141-'Guilgee balance'!G144-'Guilgee balance'!G146 -> 1.1501143e+09
C28: Туслах үйлдвэрлэл, ажил үйлчилгээний борлуулалтын орлого | AA28: 8 | AB28: =+'Guilgee balance'!G164 -> 0
C29: Хувьцаа, үнэт цаас борлуулсны орлого | AA29: 9 | AB29: =+'Guilgee balance'!G165 -> 0
C30: Үнэ төлбөргүйгээр бусдаас авсан бараа, ажил, үйлчилгээ | AA30: 10 | AB30: =+'Guilgee balance'!G166 -> 0
C31: Биет бус хөрөнгө борлуулсны орлого | AA31: 11 | AB31: =+'Guilgee balance'!G167 -> 0
C32: Техникийн, удирдлагын зөвлөх болон бусад үйлчилгээний орлого | AA32: 12 | AB32: =+'Guilgee balance'!G141 -> 0
C33: Гэрээгээр хүлээсэн үүргээ биелүүлээгүй этгээдээс авсан хүү, анз /торгууль, алданги/, хохирлын нөхөн төлбөрийн орлого | AA33: 13 | AB33: =+'Guilgee balance'!G168 -> 0
C34: Гадаад валютын ханшны зөрүүгийн бодит орлого | AA34: 14 | AB34: =+'Guilgee balance'!G249 -> 4618.64
C35: Хөдлөх болон үл хөдлөх эд хөрөнгийн түрээсийн орлого | AA35: 15 | AB35: =+'Guilgee balance'!G157 -> 0
C36: Хөдлөх эд хөрөнгө борлуулсны орлого | AA36: 16 | AB36: =+'Guilgee balance'!G170 -> 0
C37: Албан татвар ногдох бусад орлого | AA37: 17 | AB37: =+'Guilgee balance'!G169 -> 0
A38: 2. Борлуулсан бүтээгдэхүүний өртөг | AA38: 18 | AB38: =+'Guilgee balance'!F152 -> 3.0220183e+08
A39: 3. Удирдлагын болон борлуулалтын үйл ажиллагааны зардал | AA39: 19 | AB39: =+'Guilgee balance'!F171+'Guilgee balance'!F173+'Guilgee balance'!F175+'Guilgee balance'!F177+'Guilgee balance'!F179+'Guilgee balance'!F182+'Guilgee balance'!F184+'Guilgee balance'!F186+'Guilgee balance'!F188+'Guilgee balance'!F194+'Guilgee balance'!F196+'Guilgee balance'!F198+'Guilgee balance'!F200+'Guilgee balance'!F202+'Guilgee balance'!F205+'Guilgee balance'!F207+'Guilgee balance'!F209+'Guilgee balance'!F233 -> 2.095347e+09 | AG39: =+AB39-'CT-2'!H10 -> 1.2472841e+09
A40: 4. Үндсэн бус үйл ажиллагааны алдагдал | AA40: 20 | AB40: =+'Guilgee balance'!F237+'Guilgee balance'!F239+'Guilgee balance'!F241+'Guilgee balance'!F243+'Guilgee balance'!F245+'Guilgee balance'!F247 -> 2911000.4 | AG40: =+AB21-AB38-AB39-AB40 -> -1.2502769e+09
A41: 5. Татварын өмнөх ашиг +, алдагдал- (мөр 1-18-19-20) | AA41: 21 | AB41: =+AB21-AB38-AB39-AB40 -> -1.2502769e+09 | AH41: =+AB41-'CT-2'!H25 -> -150444.46
A42: 6. Хуульд заасан татвар ногдох орлогоос хасагдахгүй зардлын дүн буюу “Санхүүгийн болон орлогын албан татварын тайлангийн үзүүлэлт хоорондын зөрүүг зохицуулах тайлан”-гийн А1, В3 мөрийн нийлбэр дүн /татварын өмнөх аш`гийг нэмэгдүүлэх дүн/ | AA42: 22 | AB42: =+zuruu!C40+zuruu!D54 -> 2910496.4
A43: 7. “Санхүүгийн болон орлогын албан татварын тайлангийн үзүүлэлт хоорондын зөрүүг зохицуулах тайлан”-гийн А2, В4 мөрийн дүн буюу татвар ногдуулах орлогыг бууруулах дүн | AA43: 23 | AB43: =+zuruu!I40+zuruu!J54 -> 63949.57
A44: 8. Татвар ногдуулах орлогын дүн (мөр 21+22-23) | AA44: 24 | AB44: =+AB41+AB42-AB43 -> -1.2474304e+09
A45: 9. Сайн дурын даатгалын хураамжийн хэтрэлт (“Санхүүгийн болон орлогын албан татварын тайлангийн үзүүлэлт хоорондын зөрүүг зохицуулах тайлан”-гийн 5.1 дэх мөрийн дүн) | AA45: 25 | AB45: =+zuruu!H59 -> 0
A46: 10. Зохицуулагдсан татвар ногдуулах орлогын дүн (мөр 24+25) | AA46: 26 | AB46: =+AB44+AB45 -> -1.2474304e+09
A47: 11. Өмнөх жилүүдийн татварын тайлангаар гарсан татварын албаар баталгаажуулсан алдагдлаас тайлант хугацаанд шилжүүлсэн дүн (ТТ-02в маягтын А хэсгийн 3-р мөрийн дүн) | AA47: 27 | AB47: 0
A48: 12. Нийтлэг хувь хэмжээгээр татвар ногдуулах орлогын дүн (мөр 26-27) | AA48: 28 | AB48: =+AB46-AB47 -> -1.2474304e+09
A49: 13. Ногдуулсан татвар (28х хуулийн 17.1-д заасан хувиар) | AA49: 29 | AB49: =+IF(AB48>0, AB48*0.1, 0) -> 0
A50: 14. Хөнгөлөгдөх татварын дүн (ТТ-02б маягтын Б хүснэгтийн дүн) | AA50: 30
A51: 15. НИЙТЛЭГ ХУВЬ ХЭМЖЭЭГЭЭР ТӨЛБӨЛ ЗОХИХ АЛБАН ТАТВАР (мөр 29-30) | AA51: 31 | AB51: =+AB49-AB50 -> 0
A53: Б. Тусгай хувь хэмжээгээр ногдуулах татварын тооцоолол:
A56: 16. Эротик хэвлэл, ном зохиол, дүрс бичлэг худалдсан буюу төлбөртэй ашиглуулсан, эротик тоглолт явуулсан үйлчилгээний орлого | AA56: 32 | AB56: 0
B57: Эротик хэвлэл, ном зохиол, дүрс бичлэг худалдсан буюу төлбөртэй ашиглуулсан, эротик тоглолт явуулсан үйлчилгээний орлогод ногдуулсан татвар (36х40%) | AA57: 33 | AB57: 0
A58: 17.Төлбөрт таавар, бооцоот тоглоом, эд мөнгөний хонжворт сугалааны орлого | AA58: 34 | AB58: 0
B59: Баримтаар нотлогдох зардал | AA59: 35 | AB59: 0
B60: Хонжворт олгосон мөнгө болон барааны үнэ | AA60: 36 | AB60: 0
B61: Татвар ногдуулах орлого (мөр 34-35-36) | AA61: 37 | AB61: =+AB58-AB59-AB60 -> 0
B62: Ногдуулсан татвар (37x40%) | AA62: 38 | AB62: =+AB61*0.4 -> 0
A63: 18.Хүүгийн орлого | AA63: 39 | AB63: =+'Guilgee balance'!G159 -> 63949.57
B64: Хүүгийн орлогод ногдуулсан татвар (39x 10%) | AA64: 40 | AB64: =+AB63*0.1 -> 6394.957
A65: 19 Үл хөдлөх хөрөнгө борлуулсны орлого | AA65: 41 | AB65: 0
B66: Үл хөдлөх хөрөнгө борлуулсны орлогод суутгуулсан татвар (мөр 52*2 хувь) | AA66: 42 | AB66: =+AB65*0.02 -> 0
A67: 20a. Давхар татварын гэрээтэй гадаад улсад олсон, ААНОАТ-н хуульд заасан тусгайлсан хувь хэмжээгээр албан татвар ногдох орлого | AA67: 43 | AB67: 0
B68: ААНОАТ-н хуульд заасан хувиар ногдуулах албан татварын дүн (мөр 43 x гэрээнд заасан хувиар) | AA68: 44 | AB68: 0
B69: Давхар татварын гэрээнд заасан хувиар гадаад улсад суутгуулсан албан татварын дүн /43*гэрээнд заасан хувь/ | AA69: 45 | AB69: 0
B70: Давхар татварын гэрээтэй гадаад улсад олсон олсон орлогоос МУ-д төлөх зохих татварын дүн /44-45/ | AA70: 46 | AB70: 0
A71: 20б. Давхар татварын гэрээгүй гадаад улсад олсон, ААНОАТ-н хуульд заасан тусгайлсан хувь хэмжээгээр албан татвар ногдох орлого | AA71: 47 | AB71: 0
B72: ААНОАТ-н хуульд заасан хувиар ногдуулах албан татварын дүн /47* хуульд заасан хувь/ | AA72: 48 | AB72: 0
A73: 21. ТУСГАЙ ХУВЬ ХЭМЖЭЭГЭЭР ТӨЛБӨЛ ЗОХИХ АЛБАН ТАТВАРЫН ДҮН | AA73: 49 | AB73: =+AB57+AB62+AB64+AB66+AB70+AB72 -> 6394.957
A74: (мөр 33+38+40+42+46+48) | AH74: Үл хөдлөх хөрөнгийн нийт борлуулалтын дүн мянгачилж оруулна
A75: В. Хуулийн дагуу суутгуулсан татварын тооцоолол:
A76: 22. Ногдол ашгийн орлого | AA76: 50 | AB76: =+'Guilgee balance'!G161 -> 0
B77: Ногдол ашгийн орлогод суутгуулсан татвар (мөр 46*10 хувь) | AA77: 51 | AB77: =+AB76*0.1 -> 0
A78: 23. Эрхийн шимтгэлийн орлого | AA78: 52 | AB78: 0
B79: Эрхийн шимтгэлийн орлогод суутгуулсан татвар (мөр 48*10 хувь) | AA79: 53 | AB79: =+AB78*0.1 -> 0
A80: 24. Эрх борлуулсны орлого | AA80: 54 | AB80: 0
B81: Эрх борлуусны орлогод суутгуулсан татвар (мөр 50*30 хувь) | AA81: 55 | AB81: =+AB80*0.3 -> 0
A82: 25. Үл хөдлөх хөрөнгө борлуулсны орлого | AA82: 56 | AB82: 0 | AG82: =+'Guilgee balance'!D29/1000 -> 0 | AH82: 120803 дансны эхний үлдэгдэл /мянга/
B83: Үл хөдлөх хөрөнгө борлуулсны орлогод суутгуулсан татвар (мөр 52*2 хувь) | AA83: 57 | AB83: =+AB82*0.02 -> 0 | AG83: =+'Guilgee balance'!E110/1000 -> 0 | AH83: 310300 дансны эхний үлдэгдэл /мянга/
A84: 26. Хуулийн дагуу бусдад суутгуулсан албан татварын дүн (мөр 51+53+55+57) | AA84: 58 | AB84: =+AB77+AB79+AB81+AB83 -> 0
AH85: 310300 дансны дт талд касс, харилцах данстай холбогдсон дүнгийн нийлбэр
A86: 27. НИЙТ ТӨЛБӨЛ ЗОХИХ ТАТВАРЫН ДҮН хүснэгт А, мөр 31+хүснэгт Б, мөр 45+маягт ТТ-13, мөр24 | AA86: 59 | AB86: =+AB51+AB73 -> 6394.957
B88: Г.Татварын тооцоолол
A90: Тайлангийн эхний үлдэгдэл | N90: Илүү | AA90: 56 | AB90: =+'Guilgee balance'!D29 -> 0 | AG90: =+'Guilgee balance'!D30 -> 0
N91: Дутуу | AA91: 57 | AE91: 2661.26 | AG91: =+'Guilgee balance'!E111 -> 0 | AH91: 120803 дансны эцсийн үлдэгдэл /мянга/
A92: Тайлант хугацаанд ногдуулсан татвар /мөр 59/ | N92: Илүү | AA92: 3 | AG92: =+'Guilgee balance'!I110/1000 -> 0 | AH92: 310300 дансны эцсийн үлдэгдэл /мянга/
N93: Дутуу | AA93: 4 | AE93: =+AB86 -> 6394.957
A94: Тайлант хугацаанд төлсөн | AA94: 5 | AB94: 2661.26
A95: Татварын алба болон татвар төлөгч хоорондын тооцоогоор төлсөн | AA95: 6 | AB95: 0
A96: Тайлант хугацаанд төсвөөс буцаан авсан | AA96: 7
A97: Тайлант хугацаанд хүлээн авсан үлдэгдэл | N97: Илүү | AA97: 8 | AB97: 0
N98: Дутуу | AA98: 9 | AE98: 0
A99: Тайлант хугацаанд шилжүүлсэн үлдэгдэл | N99: Илүү | AA99: 10 | AB99: 0
N100: Дутуу | AA100: 11 | AE100: 0
A101: Тайлант хугацаанд хүчингүй болсон | AA101: 12 | AB101: 0
A102: Суутган тооцоолсон | N102: Илүү | AA102: 13 | AB102: 0
N103: Дутуу | AA103: 14 | AE103: 0
A104: Тайлангийн эцсийн үлдэгдэл | N104: Илүү | AA104: 65 | AB104: =+IF(((AB90+AB94)-(AE93+AE91))>0,(AB90+AB94)-(AE93+AE91),0) -> 0 | AG104: =+'Guilgee balance'!H30 -> 0
N105: Дутуу | AA105: 66 | AE105: =+IF(((AE91+AE93)-(AB90+AB94))>0,(AE91+AE93)-(AB90+AB94),0) -> 6394.957 | AG105: =+'Guilgee balance'!I111 -> 0
B107: Тайланг үнэн зөв гаргасан: Тайланг хүлээн авсан:
B109: Дарга /Захирал/: | H109: . . . . . . . . . . . . . . Татварын улсын байцаагч: . . . . . . . . . . . . . . . .
B111: Ерөнхий нягтлан бодогч: . . . . . . . . . . . . . .
B113: 2015 оны сарын өдөр | R113: 2015 оны сарын өдөр

Sheet zuruu
A1: Сангийн сайдын 2010 оны 121 дүгээр
A2: тушаалын 2 дугаар хавсралт
A5: САНХҮҮГИЙН БОЛОН ОРЛОГЫН АЛБАН ТАТВАРЫН ТАЙЛАНГИЙН
A6: ҮЗҮҮЛЭЛТ ХООРОНДЫН ЗӨРҮҮГ ЗОХИЦУУЛАХ ТАЙЛАН
A8: 1. ТТД: | B8: =+Nuur!D5 -> 2025779 | D8: Нэр: | E8: =+Nuur!A22 -> ''БҮТЭЭЛЧ ҮЙЛС"ХК
A10: 3. Татвар төлөгчийн одоогийн хаяг : | C10: =+Nuur!B7 -> ……………………………………..
A12: |__|__| Аймаг, хот: Улаанбаатар хот_ Утас1: _________ Утас 2: _____________ | D12: =+Nuur!B9 -> 0
A13: |__|__| Сум, дүүрэг: .......... дуурэг____________ Факс : ___________________ | G13: =+Nuur!F9 -> 0
A14: |__|__| Баг, хороо: ______________________________ Шуудангийн хайрцаг No.: ___________________ | J14: =+Nuur!C8 -> 0
A15: |__|__|__| Гудамж, хороолол: _______________________ Е-mail хаяг: _____________________________
A16: |__|__|__| Байшин: _____________
A17: |__|__|__| Хашаа, хаалга: ________
A18: 4. Эрхлэх үйл ажиллагаа: | B18: Үндсэн: | C18: |__|__|__|__|__|__| - _________________________________
A19: 5. Тайлант хугацаа: он |_2_|_0_|_1_|_9 | улирал |_4_|
H21: =+'CT-2'!H25 -> -1.2501265e+09
A22: Санхүүгийн тайлангийн татварын өмнөх ашгийн дүн
A24: А | B24: БАЙНГЫН ЗӨРҮҮ
A25: 1 | B25: Нэмэгдүүлэх утга | C25: Дүн | E25: 2 | G25: Бууруулах утга | I25: Дүн
A26: 1.1 | B26: Хасагдахгүй зардал: | E26: 2.1 | G26: Чөлөөлөгдөх орлого | I26: =+'Guilgee balance'!G148 -> 0
B27: - албан татвар төлөгчийн буруутай үйл ажиллагааны улмаас төлсөн хүү, торгууль, нөхөн төлбөр | C27: =+'Guilgee balance'!F241 -> 2910000
B28: -Засгийн газрын баталснаас бусад хэвийн хорогдол | E28: 2.2 | G28: Хөнгөлөлт эдлэх орлого
B29: -Баримтаар нотлогдохгүй байгаа зардал | C29: =+'Guilgee balance'!F237 -> 0 | E29: 2.3 | G29: Тусгайлсан хувь хэмжээтэй орлого | I29: =+'Guilgee balance'!G159 -> 63949.57
B30: -хандив, хувийн хэрэглээний зардал | E30: 2.4 | G30: Татвар нь суутгагдсан орлого | I30: =+'Guilgee balance'!G150 -> 0
E31: 2.5
A32: 1.2 | B32: Хязгаарлалтаас хэтэрсэн зардал | E32: 2.6 | G32: Бусад
B33: - Томилолтын зардал
B34: -
A35: 1.3 | B35: Хүүгийн зардлаар хүлээн зөвшөөрөгдөхгүй зээлийн хүүгийн зардал
A36: 1.4 | B36: Харилцан хамаарал бүхий ажил гүйлгээ
A37: 1.5 | B37: Бараа материалын
A38: 1.6 | B38: Бусад | C38: =+'Guilgee balance'!F243 -> 0
A40: А1 | B40: Дүн | C40: =+C27+C38+C29+C30 -> 2910000 | E40: А2 | G40: Дүн | I40: =+I26+I28+I29+I30+I31+I32+I33+I34+I35+I36+I37+I38+I39 -> 63949.57
A41: Б | B41: Байнгын зөрүүгээр зохицуулагдсан дүн (санхүүгийн тайлангийн татварын өмнөх ашиг +А1-А2) | I41: =+H21+C40-I40 -> -1247280443
A42: Б1 | B42: Татварын зардал (0-3000000,0 бол 10%, 3000000,0-аас дээш дүнгийн 25% + 300000,0 хувиар тооцно) | I42: =+I41*10% -> -1.2472804e+08
A43: Б2 | B43: Нэмэх нь: Суутган тооцоололтоор төлөгдсөн татварын зардал
A44: Б3 | B44: Тайлант үеийн татварын зардал
A45: В | B45: ТҮР ЗӨРҮҮ
A46: 3 | B46: Нэмэгдүүлэх утга | D46: Дүн | F46: 4 | H46: Бууруулах утга | J46: Дүн
A47: 3.1 | B47: Элэгдлийн зардал – | F47: 4.1 | H47: Элэгдлийн зардал –Татварын тайлангийн
B48: Санхүүгийн тайлангийн
A49: 3.2 | B49: Валютын ханшийн зөрүүгийн бодит бус алдагдал | D49: 496.39 | F49: 4.2 | H49: Валютын ханшийн зөрүүгийн бодит бус ашиг | J49: =+'Guilgee balance'!G251 -> 0
A51: 3.3 | B51: Бусад | F51: 4.3 | H51: Бусад
A52: 3.4 | F52: 4.4
A53: 3.5 | F53: 4.5
A54: В3 | B54: Нийт дүн (3.1+3.2+3.3) | D54: =+D47+D49+D51+D52+D53 -> 496.39 | F54: В4 | H54: Нийт дүн (3.1+3.2+3.3) | J54: =+J47+J49+J51+J52+J53 -> 0
H55: Татвар ногдуулах | J55: ОАТатварын өглөг/Кт
H56: орлогын дүн
A57: 5. Нийтлэг хувь хэмжээгээр татвар ногдуулах орлого
A58: (Б + В3– В4) | H58: =+I41+D54-J54 -> -1.2472799e+09
A59: 5.1 Нэмэх нь: Сайн дурын даатгалын хэтрэлт
A60: 5.2 Хасах нь: Шилжүүлэх алдагдлын дүн
A61: 6. Татвар ногдуулах орлогын дүн (5+5.1-5.2) | H61: =+H58+H59-H60 -> -1.2472799e+09
A62: 7. Ногдуулсан татвар | H62: =+H61*10% -> -1.2472799e+08 | J62: =+IF(H61>0, H61*0.1, 0) -> 0
A63: (0-3000000,0 бол 10%, 3000000,0-аас дээш дүнгийн 25% + 300000,0)
A64: 8.Хөнгөлөгдөх татварын дүн
A65: ААНОАТ-ын хуулийн .... заалтын дагуу
A66: ААНОАТ-ын хуулийн .... заалтын дагуу
A67: 9. Тусгайлсан хувь хэмжээгээр татвар ногдуулах орлого, ногдох татвар
A68: 9.1 Хүүгийн орлого татварын хувь ..10.. | H68: =+I29 -> 63949.57 | J68: =+H68*0.1 -> 6394.957
A69: 9.2 татварын хувь ......
A70: 10. Нийт дүн (Татвар ногдуулах орлого 6+9), (Төлбөл зохих татвар 7-8+9) | H70: =+H61+H68 -> -1.247216e+09
H71: Дт | J71: Кт
A72: 11. Хойшлогдсон татварын хөрөнгө
A73: 12. Хойшлогдсон татварын өглөг
A77: Тайланг үнэн зөв гаргасан: | G77: Тайланг хүлээн авсан:
A79: Дарга /Захирал/……………………………………... | G79: Татварын улсын байцаагч: . . . . . . . . .
A81: Ерөнхий (ахлах) нягтлан бодогч: . . . . . . . . . . . . . .
A83: Татварын итгэмжлэгдсэн нягтлан бодогч: . . . . . . . . . . . . . .
A85: Огноо | B85: 20....... оны ......... р сарын .......... | E85: Огноо | H85: 20 ... оны ... р сарын ...

Sheet Guilgee balance
B1: =+Nuur!A22 -> ''БҮТЭЭЛЧ ҮЙЛС"ХК
B2: Гүйлгээ баланс
G3: Òàéëàíò ¿å: | H3: 43101 | I3: 43465
A5: № | B5: Дансны нэр | D5: Эхний үлдэгдэл | F5: Гүйлгээ | H5: Эцсийн үлдэгдэл
C6: Данс | D6: Дебет | E6: Кредит | F6: Дебет | G6: Кредит | H6: Дебет | I6: Кредит
B7: Кассад байгаа бэлэн мөнгө (төгрөг) | C7: Дүн | D7: =+D8 -> 2.4919433e+09 | E7: 0 | F7: =+F8+F9+F10 -> 8.4315631e+09 | G7: =+G8+G9+G10 -> 9.71172e+09 | H7: =+D7+F7-E7-G7 -> 1.2117864e+09 | I7: =+E7 -> 0
A8: 1 | B8: Кассад байгаа бэлэн мөнгө (төгрөг) | C8: 100100 | D8: 2.4919433e+09 | F8: 8.4315631e+09 | G8: 9.71172e+09 | H8: =+D8+F8-E8-G8 -> 1.2117864e+09 | I8: =+E8 -> 0
B9: Касс/доллар/ | H9: =+D9+F9-E9-G9 -> 0 | I9: =+E9 -> 0
B10: Касс /Евро/ | H10: =+D10+F10-E10-G10 -> 0 | I10: =+E10 -> 0
B11: Кассад байгаа бэлэн мөнгө (валют) | C11: Дүн | E11: 0 | F11: =+F12 -> 0 | G11: =+G12 -> 0 | H11: =+D11+F11-E11-G11 -> 0 | I11: =+E11 -> 0
A12: 2 | B12: Кассад байгаа бэлэн мөнгө (валют) | C12: 100200 | E12: 0 | F12: 0 | H12: =+D12+F12-E12-G12 -> 0 | I12: =+E12 -> 0
A13: Банкинд байгаа мөнгө (төгрөг) | C13: Дүн | D13: =+D14+D15+D16+D17++D18 -> 4730773.6 | E13: 0 | F13: =+F14+F15+F16+F17+F18 -> 2.1656255e+10 | G13: =+G14+G15+G16+G17+G18 -> 2.1658418e+10 | H13: =+H14+H15+H16+H18 -> 2567650.4 | I13: =+E13 -> 0
A14: 3 | B14: Голот банк 1102022969 (төгрөг) | D14: 37678.75 | G14: 11000 | H14: =+D14+F14-E14-G14 -> 26678.75 | I14: =+E14 -> 0
B15: Хаан банк 5749861189 (төгрөг) | D15: 94972 | F15: 12158298043 | G15: 12158383015 | H15: 10000 | I15: =+E15 -> 0
B16: Төрийн банк 104400737974 (төгрөг) | D16: 2622888 | F16: 1262013 | G16: 2573000 | H16: =+D16+F16-E16-G16 -> 1311901 | I16: =+E16 -> 0
B17: Худалдаа хөгжлийн банк 424024305 (төгрөг) | D17: 280413.52 | G17: 280413.52 | H17: =+D17+F17-E17-G17 -> 0 | I17: =+E17 -> 0
B18: МБанк 9002025779 (төгрөг) | D18: 1694821.4 | F18: 9.4966951e+09 | G18: 9.4971709e+09 | H18: =+D18+F18-E18-G18 -> 1219070.7 | I18: =+E18 -> 0
B19: Банкинд байгаа мөнгө (валют) | C19: Дүн | D19: =+D20+D22 -> 131267.88 | E19: =E20+E22+E21+E23 -> 0 | F19: =F20+F22+F21+F23 -> 4618.64 | G19: =G20+G22 -> 43058.05 | H19: =+D19+F19-E19-G19 -> 92828.47 | I19: =+E19 -> 0
A20: 4 | B20: /USD/ | C20: 110200 | D20: 81451.18 | F20: 4618.64 | G20: 11515.71 | H20: =+D20+F20-E20-G20 -> 74554.11 | I20: =+E20 -> 0
D21: 24.09 | G21: 3.11 | H21: =+D21+F21-E21-G21 -> 20.98 | I21: =+E21 -> 0
B22: CNY | D22: 49816.7 | G22: 31542.34 | H22: =+D22+F22-E22-G22 -> 18274.36 | I22: =+E22 -> 0
D23: 112.94 | G23: 71.51 | H23: =+D23+F23-E23-G23 -> 41.43 | I23: =+E23 -> 0
B24: Дансны авлага | C24: Дүн | D24: =+D25 -> 1500000 | E24: 0 | F24: =+F25+F26 -> 992750 | G24: =+G25+G26 -> 0 | H24: =+H25 -> 2492750 | I24: =+E24 -> 0
A25: 5 | B25: Дансны авлага | C25: 120100 | D25: 1500000 | F25: 992750 | H25: =+D25+992750 -> 2492750 | I25: =+E25 -> 0
H26: =+D26+F26-E26-G26 -> 0 | I26: =+E26 -> 0
B27: НДШ-н авлага | C27: Дүн | D27: =+D28 -> 0 | E27: 0 | F27: =+F28 -> 1007850 | G27: =+G28 -> 1000600 | H27: =+D27+F27-E27-G27 -> 7250 | I27: =+E27 -> 0
A28: 6 | B28: НДШ-н авлага | C28: 120801 | F28: 1007850 | G28: 1000600 | H28: =+D28+F28-E28-G28 -> 7250 | I28: =+E28 -> 0
B29: ААНОАТ авлага | C29: Дүн | E29: 0 | F29: =+F30 -> 0 | G29: =+G30 -> 0 | H29: =+D29+F29-E29-G29 -> 0 | I29: =+E29 -> 0
A30: 7 | B30: ААНОАТ авлага | C30: 120803 | E30: 0 | F30: 0 | G30: 0 | H30: =+D30+F30-E30-G30 -> 0 | I30: =+E30 -> 0
B31: ХХОАТ-н авлага | C31: Дүн | E31: 0 | F31: =+F32 -> 0 | G31: =+G32 -> 0 | H31: =+D31+F31-E31-G31 -> 0 | I31: =+E31 -> 0
A32: 8 | B32: ХХОАТ-н авлага | C32: 120802 | E32: 0 | F32: 0 | G32: 0 | H32: =+D32+F32-E32-G32 -> 0 | I32: =+E32 -> 0
B33: Бусад татварын авлага | C33: Дүн | E33: 0 | F33: =+F34 -> 0 | G33: =+G34 -> 0 | H33: =+D33+F33-E33-G33 -> 0 | I33: =+E33 -> 0
A34: 9 | B34: Бусад татварын авлага | C34: 120804 | E34: 0 | H34: =+D34+F34-E34-G34 -> 0 | I34: =+E34 -> 0
B35: НӨТ-н авлага | C35: Дүн | E35: 0 | F35: =+F36 -> 86231396 | G35: =+G36 -> 86231396 | H35: =+D35+F35-E35-G35 -> 0 | I35: =+E35 -> 0
A36: 10 | B36: НӨТ-н авлага | C36: 120805 | F36: 86231396 | G36: =+F36 -> 86231396 | H36: =+D36+F36-E36-G36 -> 0 | I36: =+E36 -> 0
B37: Бусад авлага | C37: Дүн | E37: 0 | F37: =+F38+F40+F41+F42+F39 -> 10150807 | G37: =+G38+G40+G41+G42+G39 -> 10150807 | H37: =+D37+F37-E37-G37 -> 0 | I37: =+E37 -> 0
A38: 11 | B38: Бусад авлага | C38: 120800 | H38: =+D38+F38-E38-G38 -> 0 | I38: =+E38 -> 0
B39: Байгууллага хоорондын тооцоо | C39: 120700 | F39: =3642107+6508700 -> 10150807 | G39: =+F39 -> 10150807 | H39: =+D39+F39-E39-G39 -> 0 | I39: =+E39 -> 0
B40: Дэлгүүрийн тооцоо | C40: 120806 | H40: =+D40+F40-E40-G40 -> 0 | I40: =+E40 -> 0
B41: Валютын тооцоо | C41: 120807 | H41: =+D41+F41-E41-G41 -> 0 | I41: =+E41 -> 0
B42: Ажилтанаас авах авлага | C42: 120808 | H42: =+D42+F42-E42-G42 -> 0 | I42: =+E42 -> 0
B43: Түүхий эд материал | C43: Дүн | D43: =+D44+D45+D46+D47 -> 1.2451797e+08 | E43: 0 | F43: =+F44+F45+F46+F47 -> 1.160904e+09 | G43: =+G44+G45+G46+G47 -> 6.2342719e+08 | H43: =+D43+F43-E43-G43 -> 6.6199478e+08 | I43: =+E43 -> 0
A44: 12 | B44: Түүхий эд материал | C44: 140100 | D44: 1.2451796e+08 | F44: 8.491904e+08 | G44: 3.1171359e+08 | H44: =+D44+F44-E44-G44 -> 6.6199477e+08 | I44: =+E44 -> 0
B45: ДҮ-ийн ШМЗ /Ажлын хувцас/ | H45: =+D45+F45-E45-G45 -> 0 | I45: =+E45 -> 0
B46: ДҮ-ийн ШМЗ /форм/ | F46: 2.6876638e+08 | G46: =+F46 -> 2.6876638e+08 | H46: =+D46+F46-E46-G46 -> 0 | I46: =+E46 -> 0
B47: ДҮ-ийн ШМЗ /Цамц/ | D47: 6.9 | F47: 42947210 | G47: =+F47 -> 42947210 | H47: =+D47+F47-E47-G47 -> 6.9 | I47: =+E47 -> 0
B48: Бараа, бэлэн бүтээгдхүүн | C48: Дүн | D48: =+D49+D50 -> 28043222 | E48: 0 | F48: =F49+F50 -> 3.2199003e+08 | G48: =G49+G50 -> 3.020832e+08 | H48: =+D48+F48-E48-G48 -> 47950055 | I48: =+E48 -> 0
A49: 13 | B49: Бараа, бэлэн бүтээгдхүүн | C49: 150100 | D49: 28043222 | F49: 3.2199003e+08 | G49: 3.020832e+08 | H49: =+D49+F49-E49-G49 -> 47950055 | I49: =+E49 -> 0
B50: ББ-н /Ажлын хувцас/ | H50: =+D50+F50-E50-G50 -> 0 | I50: =+E50 -> 0
B51: Хангамжийн материал /агуулах/ | C51: Дүн | H51: =+D51+F51-E51-G51 -> 0 | I51: =+E51 -> 0
A52: 14 | B52: Хангамжийн материал | C52: 160500 | H52: =+D52+F52-E52-G52 -> 0 | I52: =+E52 -> 0
B53: Урьдчилж төлсөн тооцоо | C53: Дүн | D53: =+D54 -> 1.9119352e+09 | E53: 0 | F53: =+F54+F55+F56+F57 -> 0 | G53: =+G54+G55+G56+G57 -> 2.7054139e+08 | H53: =+D53+F53-E53-G53 -> 1.6413938e+09 | I53: =+E53 -> 0
A54: 15 | B54: Урьдчилж төлсөн тооцоо | C54: 130100 | D54: 1.9119352e+09 | G54: 2.7054139e+08 | H54: =+D54+F54-E54-G54 -> 1.6413938e+09 | I54: =+E54 -> 0
A55: 16 | B55: Цалингийн урьдчилгаа | C55: 130101 | H55: =+D55+F55-E55-G55 -> 0 | I55: =+E55 -> 0
B56: Урьдчилж төлсөн тооцоо | C56: 130102 | H56: =+D56+F56-E56-G56 -> 0 | I56: =+E56 -> 0
H57: =+D57+F57-E57-G57 -> 0 | I57: =+E57 -> 0
B58: Урьдчилж гарсан зардал | C58: Дүн | H58: =+D58+F58-E58-G58 -> 0 | I58: =+E58 -> 0
A59: 17 | B59: Урьдчилж гарсан зардал | C59: 130200 | H59: =+D59+F59-E59-G59 -> 0 | I59: =+E59 -> 0
B60: Борлуулах бүлэг хөрөнгө | C60: Дүн | H60: =+D60+F60-E60-G60 -> 0 | I60: =+E60 -> 0
B61: Борлуулах бүлэг хөрөнгө | C61: 150101 | H61: =+D61+F61-E61-G61 -> 0 | I61: =+E61 -> 0
B62: Газар | C62: Дүн | D62: 0 | E62: 0 | F62: =+F63 -> 0 | G62: =+G63 -> 0 | H62: =+D62+F62-E62-G62 -> 0 | I62: =+E62 -> 0
A63: 18 | B63: Газар | C63: 200100 | D63: 0 | H63: =+D63+F63-E63-G63 -> 0 | I63: =+E63 -> 0
B64: Барилга байгууламж | C64: Дүн | D64: =+D65 -> 3.6224335e+08 | E64: 0 | F64: =+F65 -> 0 | G64: =+G65 -> 0 | H64: =+D64+F64-E64-G64 -> 3.6224335e+08 | I64: =+E64 -> 0
A65: 19 | B65: Барилга байгууламж | C65: 200200 | D65: 3.6224335e+08 | H65: =+D65+F65-E65-G65 -> 3.6224335e+08 | I65: =+E65 -> 0
B66: Барилга байгууламжийн хуримтлагдсан элэгдэл | C66: Дүн | D66: 0 | E66: =+E67 -> 1.235056e+08 | F66: =+F67 -> 0 | G66: =+G67 -> 9056084.3 | I66: =+E66+G66 -> 1.3256168e+08
A67: 20 | B67: Барилга байгууламжийн хуримтлагдсан элэгдэл | C67: 201200 | E67: 1.235056e+08 | G67: 9056084.3 | I67: =+I66 -> 1.3256168e+08
B68: Тавилга, эд хогшил, багаж хэрэгсэл | C68: Дүн | D68: 0 | E68: 0 | F68: =+F69 -> 0 | G68: =+G69 -> 0 | H68: =+D68+F68-E68-G68 -> 0 | I68: =+E68 -> 0
A69: 21 | B69: Тавилга, эд хогшил, багаж хэрэгсэл | C69: 200300 | D69: 0 | E69: 0 | F69: 0 | G69: 0 | H69: =+D69+F69-E69-G69 -> 0 | I69: =+E69 -> 0
B70: Хуримтлагдсан элэгдэл /Б,ЭХ,БХ/ | C70: Дүн | D70: 0 | E70: =+E71 -> 0 | F70: =+F71 -> 0 | G70: =+G71 -> 0 | H70: =+D70+F70-E70-G70 -> 0 | I70: =+E70 -> 0
A71: 22 | B71: Хуримтлагдсан элэгдэл /Т,ЭХ,БХ/ | C71: 201300 | H71: =+D71+F71-E71-G71 -> 0 | I71: =+E71 -> 0
B72: Машин, тоног төхөөрөмж | C72: Дүн | D72: =+D73 -> 40290000 | F72: =+F73 -> 0 | G72: =+G73 -> 0 | H72: =+D72+F72-E72-G72 -> 40290000 | I72: =+E72 -> 0
A73: 23 | B73: Машин, тоног төхөөрөмж | C73: 200400 | D73: 40290000 | H73: =+D73+F73-E73-G73 -> 40290000 | I73: =+E73 -> 0
B74: Хуримтлагдсан элэгдэл /М,ТТ/ | C74: Дүн | E74: =+E75 -> 38324943 | F74: =+F75 -> 0 | G74: =+G75 -> 1965057.1 | I74: =+I75 -> 40290000
A75: 24 | B75: Хуримтлагдсан элэгдэл /М,ТТ/ | C75: 201400 | E75: 38324943 | G75: 1965057.1 | I75: =+E75+G75 -> 40290000
B76: Тээврийн хэрэгсэл | C76: Дүн | D76: =+D77 -> 22000000 | F76: =+F77 -> 0 | G76: =+G77 -> 0 | H76: =+D76+F76-E76-G76 -> 22000000 | I76: =+E76 -> 0
A77: 25 | B77: Тээврийн хэрэгсэл | C77: 200500 | D77: 22000000 | H77: =+D77+F77-E77-G77 -> 22000000 | I77: =+E77 -> 0
B78: Хуримтлагдсан элэгдэл /ТХ/ | C78: Дүн | E78: =+E79 -> 22000000 | F78: =+F79 -> 0 | G78: =+G79 -> 0 | I78: =+E78 -> 22000000
A79: 26 | B79: Хуримтлагдсан элэгдэл /ТХ/ | C79: 201500 | E79: 22000000 | I79: =+E79 -> 22000000
B80: Бусад үндсэн хөрөнгө | C80: Дүн | D80: 0 | E80: 0 | F80: =+F81 -> 0 | G80: =+G81 -> 0 | H80: =+D80+F80-E80-G80 -> 0 | I80: =+E80 -> 0
A81: 27 | B81: Бусад үндсэн хөрөнгө | C81: 200600 | D81: 0 | E81: 0 | F81: 0 | G81: 0 | H81: =+D81+F81-E81-G81 -> 0 | I81: =+E81 -> 0
B82: Хуримтлагдсан элэгдэл /Бусда ҮХ/ | C82: Дүн | D82: 0 | E82: 0 | F82: =+F83 -> 0 | G82: =+G83 -> 0 | H82: =+D82+F82-E82-G82 -> 0 | I82: =+E82 -> 0
A83: 28 | B83: Хуримтлагдсан элэгдэл /Бусда ҮХ/ | C83: 201600 | D83: 0 | E83: 0 | F83: 0 | G83: 0 | H83: =+D83+F83-E83-G83 -> 0 | I83: =+E83 -> 0
B84: Дуусаагүй барилга | C84: Дүн | D84: 0 | E84: 0 | F84: =+F85 -> 0 | G84: =+G85 -> 0 | H84: =+D84+F84-E84-G84 -> 0 | I84: =+E84 -> 0
A85: 29 | B85: Дуусаагүй барилга | C85: 200700 | D85: 0 | E85: 0 | F85: 0 | G85: 0 | H85: =+D85+F85-E85-G85 -> 0 | I85: =+E85 -> 0
B86: Комьпютер, дагалдах хэрэгсэл | C86: Дүн | D86: 0 | E86: 0 | F86: =+F87 -> 0 | G86: =+G87 -> 0 | H86: =+D86+F86-E86-G86 -> 0 | I86: =+E86 -> 0
A87: 30 | B87: Комьпютер, дагалдах хэрэгсэл | C87: 201501 | D87: 0 | E87: 0 | F87: 0 | G87: 0 | H87: =+D87+F87-E87-G87 -> 0 | I87: =+E87 -> 0
B88: Комьпюте, дагалдах хэрэгслийн элэгдэл | C88: Дүн | D88: 0 | E88: 0 | F88: =+F89 -> 0 | G88: =+G89 -> 0 | H88: =+D88+F88-E88-G88 -> 0 | I88: =+E88 -> 0
A89: 31 | B89: Комьпютер, дагалдах хэрэгслийн элэгдэл | C89: 201502 | D89: 0 | E89: 0 | F89: 0 | G89: 0 | H89: =+D89+F89-E89-G89 -> 0 | I89: =+E89 -> 0
B90: Програм хангамж | C90: Дүн | D90: 0 | E90: 0 | F90: =+F91 -> 0 | G90: =+G91 -> 0 | H90: =+D90+F90-E90-G90 -> 0 | I90: =+E90 -> 0
A91: 32 | B91: Програм хангамж | C91: 210100 | D91: 0 | E91: 0 | F91: 0 | G91: 0 | H91: =+D91+F91-E91-G91 -> 0 | I91: =+E91 -> 0
B92: Програм хангамжын элэгдэл | C92: Дүн | D92: 0 | E92: 0 | F92: =+F93 -> 0 | G92: =+G93 -> 0 | H92: =+D92+F92-E92-G92 -> 0 | I92: =+E92 -> 0
A93: 33 | B93: Програм хангамжын элэгдэл | C93: 210201 | D93: 0 | E93: 0 | F93: 0 | G93: 0 | H93: =+D93+F93-E93-G93 -> 0 | I93: =+E93 -> 0
B94: Тусгай зөвшөөрөл | C94: Дүн | D94: 0 | E94: 0 | F94: =+F95 -> 0 | G94: =+G95 -> 0 | H94: =+D94+F94-E94-G94 -> 0 | I94: =+E94 -> 0
A95: 34 | B95: Тусгай зөвшөөрөл | C95: 210200 | D95: 0 | H95: =+D95+F95-E95-G95 -> 0 | I95: =+E95 -> 0
B96: Хойшлогдсон татварын хөрөнгө | C96: Дүн | D96: 0 | E96: 0 | F96: =+F97 -> 0 | G96: =+G97 -> 0 | H96: =+D96+F96-E96-G96 -> 0 | I96: =+E96 -> 0
A97: 35 | B97: Хойшлогдсон татварын хөрөнгө | C97: 201503 | D97: 0 | E97: 0 | F97: 0 | G97: 0 | H97: =+D97+F97-E97-G97 -> 0 | I97: =+E97 -> 0
B98: Дансны өглөг | C98: Дүн | D98: 0 | E98: =+E99 -> 1156088532 | F98: =+F99+F100 -> 25000000 | G98: =+G99+G100 -> 0 | I98: =+E98-F98 -> 1131088532
A99: 36 | B99: Дансны өглөг | C99: 310100 | E99: 1156088532 | F99: 25000000 | I99: =+I98 -> 1131088532
B100: Дансны өглөг Евро | C100: 310101 | E100: 0 | F100: 0 | G100: 0 | H100: =+D100+F100-E100-G100 -> 0 | I100: =+E100 -> 0
B101: Цалингийн өглөг | C101: Дүн | D101: 0 | E101: =+E102 -> 0 | F101: =+F102 -> 128010000 | G101: =+G102 -> 128010000 | H101: =+D101+F101-E101-G101 -> 0 | I101: =+E101 -> 0
...

Sheet Shalgah hus
K4: Мянгачилж шивнэ
D5: Шалгах хүснэгт | E5: Нөхөхгүй | F5: Нөхөхгүй | G5: Нөхөхгүй | K5: Нөхнө | L5: Нөхөхгүй | M5: Нөхнө | N5: Нөхөхгүй | O5: Эхний мөр нөх | P5: Нөхөхгүй
J6: НӨТ шалгах хүснэгт
C7: 1 | D7: Балансын эхний үлдэгдэл | E7: =+'CT-1'!D33 -> 4.8035046e+09 | F7: =+'CT-1'!D70 -> 4.8035046e+09 | G7: =+E7-F7 -> 0 | J7: Сар | K7: НӨТ 8-р мөр | L7: НӨТ | M7: Худ авалт | N7: Хас НӨТ | O7: НӨТ эх үлд | P7: НӨТ дутуу эц үл | Q7: НӨТ илүү үлд | R7: Төлөлт
C8: 2 | D8: Балансын эцсийн үлдэгдэл | E8: =+'CT-1'!E33 -> 3.7979672e+09 | F8: =+'CT-1'!E70 -> 3.7979672e+09 | G8: =+E8-F8 -> 0 | J8: 1 | K8: 38530419 | L8: =+K8*0.1 -> 3853041.9 | M8: 4687259.1 | N8: =+M8*0.1 -> 468725.91 | O8: 5095540.2 | P8: =+IF(((O8+L8)-(N8+R8))>0,(O8+L8)-(N8+R8),0) -> 3392856.2 | Q8: =+IF(((N8+R8)-(O8+L8))>0,(N8+R8)-(O8+L8),0) -> 0 | R8: 5087000
C9: 3 | D9: Баланс ашиг, = орлогын тайлан ашиг | E9: =+'CT-1'!E67-'CT-1'!D67 -> -1.2501265e+09 | F9: =+'CT-2'!H29 -> -1.2501265e+09 | G9: =+E9-F9 -> 0 | J9: 2 | K9: 1971090.9 | L9: =+K9*0.1 -> 197109.09 | M9: 6944699.9 | N9: =+M9*0.1 -> 694469.99 | O9: =+P8-Q8 -> 3392856.2 | P9: =+IF(((O9+L9)-(N9+R9))>0,(O9+L9)-(N9+R9),0) -> 2895495.3 | Q9: =+IF(((N9+R9)-(O9+L9))>0,(N9+R9)-(O9+L9),0) -> 0 | R9: 0
C10: 4 | D10: Баланс ашиг,= өмчийн ашиг | E10: =+'CT-1'!E67-'CT-1'!D67 -> -1.2501265e+09 | F10: =+'CT-3'!I20 -> -1.2501265e+09 | G10: =+E10-F10 -> 0 | J10: 3 | K10: 6547272.8 | L10: =+K10*0.1 -> 654727.28 | M10: 4847665 | N10: =+M10*0.1 -> 484766.5 | O10: =+P9-Q9 -> 2895495.3 | P10: =+IF(((O10+L10)-(N10+R10))>0,(O10+L10)-(N10+R10),0) -> 3065456.1 | Q10: =+IF(((N10+R10)-(O10+L10))>0,(N10+R10)-(O10+L10),0) -> 0 | R10: 0
C11: 5 | D11: Орлогын тайлан ашиг, = өмчийн ашиг | E11: =+'CT-2'!H29 -> -1.2501265e+09 | F11: =+'CT-3'!I20 -> -1.2501265e+09 | G11: =+E11-F11 -> 0 | H11: Залруулах бичилттэй | J11: 4 | K11: 8740818.3 | L11: =+K11*0.1 -> 874081.83 | M11: 10663686 | N11: =+M11*0.1 -> 1066368.6 | O11: =+P10-Q10 -> 3065456.1 | P11: =+IF(((O11+L11)-(N11+R11))>0,(O11+L11)-(N11+R11),0) -> 2873169.3 | Q11: =+IF(((N11+R11)-(O11+L11))>0,(N11+R11)-(O11+L11),0) -> 0 | R11: 0
C12: 6 | D12: Баланс мөнгөний эхний, = мөнгөн гүйлгээ эхний | E12: =+'CT-1'!D10 -> 2.4968054e+09 | F12: =+'CT-4'!D56 -> 2.4968054e+09 | G12: =+E12-F12 -> 0 | J12: 5 | K12: 4334818.3 | L12: =+K12*0.1 -> 433481.83 | M12: 13916389 | N12: =+M12*0.1 -> 1391638.9 | O12: =+P11-Q11 -> 2873169.3 | P12: =+IF(((O12+L12)-(N12+R12))>0,(O12+L12)-(N12+R12),0) -> 1915012.2 | Q12: =+IF(((N12+R12)-(O12+L12))>0,(N12+R12)-(O12+L12),0) -> 0 | R12: 0
C13: 7 | D13: Баланс мөнгөний Эцэс = мөнгөн гүйлгээ эцэс | E13: =+'CT-1'!E10 -> 1.2144469e+09 | F13: =+'CT-4'!D57 -> 1.2144469e+09 | G13: =+E13-F13 -> 0 | J13: 6 | K13: =3241818.19 -> 3241818.2 | L13: =+K13*0.1+7043123.08 -> 7367304.9 | M13: 8117496.5 | N13: =+M13*0.1 -> 811749.66 | O13: =+P12-Q12 -> 1915012.2 | P13: =+IF(((O13+L13)-(N13+R13))>0,(O13+L13)-(N13+R13),0) -> 8470567.5 | Q13: =+IF(((N13+R13)-(O13+L13))>0,(N13+R13)-(O13+L13),0) -> 0 | R13: 0
C14: 8 | D14: Баланс эхэн нийт хур ашиг, = өмчийн эхэн хур ашиг | E14: =+'CT-1'!D67 -> -2.0541872e+09 | F14: =+'CT-3'!I17 -> -2.0541872e+09 | G14: =+E14-F14 -> 0 | J14: 7 | K14: 17189918 | L14: =+K14*0.1 -> 1718991.8 | M14: 197665.45 | N14: =+M14*0.1 -> 19766.545 | O14: =+P13-Q13 -> 8470567.5 | P14: =+IF(((O14+L14)-(N14+R14))>0,(O14+L14)-(N14+R14),0) -> 10169793 | Q14: =+IF(((N14+R14)-(O14+L14))>0,(N14+R14)-(O14+L14),0) -> 0 | R14: 0
C15: 9 | D15: Баланс эцэс нийт хур ашиг,= өмчийн эцэс хур ашиг | E15: =+'CT-1'!E67 -> -3.3043137e+09 | F15: =+'CT-3'!I25 -> -3.3043137e+09 | G15: =+E15-F15 -> 0 | J15: 8 | K15: 3.7263764e+08 | L15: =+K15*0.1 -> 37263764 | M15: 11385558 | N15: =+M15*0.1 -> 1138555.8 | O15: =+P14-Q14 -> 10169793 | P15: =+IF(((O15+L15)-(N15+R15))>0,(O15+L15)-(N15+R15),0) -> 35326130 | Q15: =+IF(((N15+R15)-(O15+L15))>0,(N15+R15)-(O15+L15),0) -> 0 | R15: 10968870
C16: 10 | D16: СТ-04 НӨАТ-гүй орлого=CТ-02 орлого | E16: =+'CT-4'!D7/1.1 -> 1.1512934e+09 | F16: =+'CT-2'!H7 -> 1.1501462e+09 | G16: =+E16-F16 -> 1147284.3 | H16: 630620424 | J16: 9 | K16: 73103274 | L16: =+K16*0.1 -> 7310327.4 | M16: 5165801.7 | N16: =+M16*0.1 -> 516580.17 | O16: =+P15-Q15 -> 35326130 | P16: =+IF(((O16+L16)-(N16+R16))>0,(O16+L16)-(N16+R16),0) -> 42119878 | Q16: =+IF(((N16+R16)-(O16+L16))>0,(N16+R16)-(O16+L16),0) -> 0 | R16: 0
C17: 11 | D17: Баланс өмчийн эхэн, = өмчийн эхэн | E17: =+'CT-1'!D69 -> -1.8859039e+09 | F17: =+'CT-3'!J19 -> -1.8859039e+09 | G17: =+E17-F17 -> 0 | J17: 10 | K17: 8540091.1 | L17: =+K17*0.1 -> 854009.11 | M17: 6941619.7 | N17: =+M17*0.1 -> 694161.97 | O17: =+P16-Q16 -> 42119878 | P17: =+IF(((O17+L17)-(N17+R17))>0,(O17+L17)-(N17+R17),0) -> 42279725 | Q17: =+IF(((N17+R17)-(O17+L17))>0,(N17+R17)-(O17+L17),0) -> 0 | R17: 0
C18: 12 | D18: Баланс өмчийн эцэс, = өмчийн эцэс | E18: =+'CT-1'!E69 -> -3.1360304e+09 | F18: =+'CT-3'!J25 -> -3.1360304e+09 | G18: =+E18-F18 -> 0 | J18: 11 | K18: 62784833 | L18: =+K18*0.1 -> 6278483.3 | M18: 10197586 | N18: =+M18*0.1 -> 1019758.6 | O18: =+P17-Q17 -> 42279725 | P18: =+IF(((O18+L18)-(N18+R18))>0,(O18+L18)-(N18+R18),0) -> 43938449 | Q18: =+IF(((N18+R18)-(O18+L18))>0,(N18+R18)-(O18+L18),0) -> 0 | R18: 3600000
C19: 13 | D19: Мөнгөн гүйлгээний тэнцэл | E19: =+'CT-1'!E10-'CT-1'!D10 -> -1.2823585e+09 | F19: =+'CT-4'!D55 -> -1.2823585e+09 | G19: =+E19-F19 -> 0 | J19: 12 | K19: 19129000 | L19: =+K19*0.1 -> 1912900 | M19: 5996501.8 | N19: =+M19*0.1 -> 599650.18 | O19: =+P18-Q18 -> 43938449 | P19: =+IF(((O19+L19)-(N19+R19))>0,(O19+L19)-(N19+R19),0) -> 41651699 | Q19: =+IF(((N19+R19)-(O19+L19))>0,(N19+R19)-(O19+L19),0) -> 0 | R19: 3600000
C20: 14 | D20: Баланс үндсэн хөрөнгө,= тодоруулга Д-5 | E20: =+'CT-1'!E23 -> 2.2968167e+08 | F20: =+'D4'!J18-'D4'!J29 -> 2.2968167e+08 | G20: =+E20-F20 -> 0 | K20: =SUM(K8:K19) -> 6.1675099e+08 | L20: =SUM(L8:L19) -> 68718222 | M20: =SUM(M8:M19) -> 89061929 | N20: =SUM(N8:N19) -> 8906192.9
C21: 15 | D21: МБор=Бор+ДАБууралт-ДАӨсөлт=СТ-04 орлого | E21: =+'CT-4'!D7 -> 1.2664228e+09 | F21: =+'CT-2'!H7*1.1+(IF(('CT-1'!E11-'CT-1'!D11)>0,('CT-1'!E11-'CT-1'!D11),('CT-1'!D11-'CT-1'!E11))) -> 1.2661535e+09 | G21: =+E21-F21 -> 269262.74
C22: 16 | D22: Орлогын тайлан татвар, =тт-02 татварын дүн | E22: =+'CT-2'!H26 -> 0 | F22: =+'tt02'!AB86 -> 6394.957 | G22: =+E22-F22 -> -6394.957 | K22: =+K20*1.1 -> 6.7842609e+08
C23: 17 | D23: ААНОАТ татварын дүн,=зөрүүгийн тайлан татварын дүн | E23: =+'tt02'!AB86 -> 6394.957 | F23: =+zuruu!J70 -> 0 | G23: =+E23-F23 -> 6394.957
C24: 18 | D24: Орлогын тайлан ТӨАшиг,= ТТ-02 ТӨАшиг | E24: =+'CT-2'!H25 -> -1.2501265e+09 | F24: =+'tt02'!AB41 -> -1.2502769e+09 | G24: =+E24-F24 -> 150444.46 | L24: Нөхөхгүй | N24: Нөхнө | P24: Нөхөхгүй
C25: 19 | D25: ААНОАТ ТӨАшиг,= Зөрүүгийн тайлан ТӨАшиг | E25: =+'tt02'!AB41 -> -1.2502769e+09 | F25: =+zuruu!H21 -> -1.2501265e+09 | G25: =+E25-F25 -> -150444.46 | J25: Туслах журналын бүртгэл шалгах
C26: 20 | D26: ААНОАТ эхний авлага, = балансын эхний авлага | E26: =+'tt02'!AB90 -> 0 | F26: =+'Guilgee balance'!D29 -> 0 | G26: =+E26-F26 -> 0 | L26: Гүйлгээ баланс | N26: Товоо тайлан | P26: Зөрүү
C27: 21 | D27: ААНОАТ эцсийн авлага, = балансын эцсийн авлага | E27: =+'tt02'!AB104 -> 0 | F27: =+'Guilgee balance'!H29 -> 0 | G27: =+E27-F27 -> 0 | J27: 1 | K27: Касс төгрөг | L27: =+'Guilgee balance'!H8+'Guilgee balance'!H9+'Guilgee balance'!H10 -> 1.2117864e+09 | N27: 0 | P27: =+L27-N27 -> 1.2117864e+09
C28: 22 | D28: ААНОАТ эхний өр, = балансын эхний өр | E28: =+'tt02'!AE91 -> 2661.26 | F28: =+'Guilgee balance'!E110 -> 0 | G28: =+E28-F28 -> 2661.26 | J28: 2 | K28: Касс валют | L28: =+'Guilgee balance'!H12 -> 0 | N28: 0 | P28: =+L28-N28 -> 0
C29: 23 | D29: ААНОАТ эцсийэ өр, = балансын эцсийн өр | E29: =+'tt02'!AE105 -> 6394.957 | F29: =+'Guilgee balance'!I110 -> 0 | G29: =+E29-F29 -> 6394.957 | J29: 3 | K29: Харилцах төг | L29: =+'Guilgee balance'!H14+'Guilgee balance'!H17+'Guilgee balance'!H18 -> 1245749.5 | N29: 0 | P29: =+L29-N29 -> 1245749.5
C30: 24 | D30: ХХОАТ эхний авлага, = баланс эхний авлага | E30: =+'TM11.04'!AF53 -> 0 | F30: =+'Guilgee balance'!D31 -> 0 | G30: =+E30-F30 -> 0 | J30: 4 | K30: Харилцах вал | L30: =+'Guilgee balance'!H20+'Guilgee balance'!H21+'Guilgee balance'!H23 -> 74616.52 | N30: 0 | P30: =+L30-N30 -> 74616.52
C31: 25 | D31: ХХОАТ эцийн авлага, = баланс эцсийн авлага | E31: =+'TM11.04'!AF55 -> 0 | F31: =+'Guilgee balance'!H31 -> 0 | G31: =+E31-F31 -> 0 | J31: 5 | K31: Дансны авлага | L31: =+'Guilgee balance'!H25+'Guilgee balance'!H26 -> 2492750 | N31: 0 | P31: =+L31-N31 -> 2492750
C32: 26 | D32: ХХОАТ эцсийн өр,= баланс эцсийн өр | E32: =+'TM11.04'!AB56 -> 7049530 | F32: =+'Guilgee balance'!I106 -> 1600455 | G32: =+E32-F32 -> 5449075 | J32: 6 | K32: Бусад авлага | L32: =+'Guilgee balance'!H37 -> 0 | N32: 0 | P32: =+L32-N32 -> 0
C33: 27 | D33: ХХОАТ эхний өр,= баланс эхний өр | E33: =+'TM11.04'!AB53 -> 3423840 | F33: =+'Guilgee balance'!E106 -> 3423840 | G33: =+E33-F33 -> 0 | J33: 7 | K33: ТЭМ | L33: =+'Guilgee balance'!H44 -> 6.6199477e+08 | N33: 0 | P33: =+L33-N33 -> 6.6199477e+08
C34: 28 | D34: ХХОАТ-н НДШ-10+Гүйлгээ баланс НДШ зар = НДШ-кт | E34: =+'TM11.04'!AF27+'Guilgee balance'!F175 -> 32685950 | F34: =+'Guilgee balance'!G112 -> 32685950 | G34: =+E34-F34 -> 0 | J34: 8 | K34: ББүтээгдэхүүн | L34: =+'Guilgee balance'!H49 -> 47950055 | N34: 0 | P34: =+L34-N34 -> 47950055
C35: 29 | D35: ТТ-02 н ашиг алдагдал=Зөрүү тайлангын ашиг алдагдал | E35: =+'tt02'!AB86 -> 6394.957 | F35: =+zuruu!J70 -> 0 | G35: =+E35-F35 -> 6394.957 | J35: 9 | K35: УГарсан зар | L35: =+'Guilgee balance'!H59 -> 0 | N35: 0 | P35: =+L35-N35 -> 0
C36: 30 | D36: СТ-02-н орлого= НӨТ-н өглөгийн КТ*10 | E36: =+'CT-2'!H7 -> 1.1501462e+09 | F36: =+'Guilgee balance'!G108*10 -> 1.1501462e+09 | G36: =+E36-F36 -> 2.5699999 | H36: Залруулах бичилттэй | J36: 10 | K36: УТТооцоо | L36: =+'Guilgee balance'!H54+'Guilgee balance'!H55+'Guilgee balance'!H56+'Guilgee balance'!H57 -> 1.6413938e+09 | N36: 0 | P36: =+L36-N36 -> 1.6413938e+09
C37: 31 | D37: Гүйлгээ баланс-н цалин = НДШ-н цалингийн сан | E37: =+'Guilgee balance'!F173 -> 128010000 | F37: =+K64 -> 75840000 | G37: =+E37-F37 -> 52170000 | J37: 11 | K37: Тавилга | L37: =+'Guilgee balance'!H69 -> 0 | N37: 0 | P37: =+L37-N37 -> 0
C38: 32 | D38: ХХОАТ-н НДШ-н дүн= НД07-н даатгуулагч | E38: =+'TM11.04'!AF27 -> 15713900 | F38: =+M64 -> 8342400 | G38: =+E38-F38 -> 7371500 | J38: 12 | K38: МТТөхөөрөмж | L38: =+'Guilgee balance'!H73 -> 40290000 | N38: 0 | P38: =+L38-N38 -> 40290000
C39: 33 | D39: СТ-02 -н НДШ зардал= НД07-Ажил олгогч | E39: =+'Guilgee balance'!F175 -> 16972050 | F39: =+O64 -> 9100800 | G39: =+E39-F39 -> 7871250 | H39: ЖА эх | J39: 13 | K39: Тээврийн Хэр | L39: =+'Guilgee balance'!H77 -> 22000000 | N39: 0 | P39: =+L39-N39 -> 22000000
C40: 34 | D40: НӨТ-н 1-12 сарын орлого нийлбэр=СТ-02 орлого | E40: =+K20 -> 6.1675099e+08 | F40: =+'CT-2'!H7 -> 1.1501462e+09 | G40: =+E40-F40 -> -5.3339517e+08 | H40: Дэлхийн зөн | J40: 14 | K40: Комьпютер | L40: =+'Guilgee balance'!H81 -> 0 | N40: 0 | P40: =+L40-N40 -> 0
C41: 35 | D41: Тодоруулга нэр | E41: =+'D1'!A4 -> ''БҮТЭЭЛЧ ҮЙЛС"ХК | J41: 15 | K41: Бусад хөрөнгө | L41: =+'Guilgee balance'!H87 -> 0 | N41: 0 | P41: =+L41-N41 -> 0
C42: 36 | D42: Тодоруулга утас | E42: =+'D1'!J29 -> 0 | J42: 16 | K42: Барилга | L42: =+'Guilgee balance'!H65 -> 3.6224335e+08 | N42: 0 | P42: =+L42-N42 -> 3.6224335e+08
C43: 37 | D43: Тодоруулга байршил | E43: =+'D1'!#REF! -> #REF! | J43: 17 | K43: Дансны өглөг | L43: =+'Guilgee balance'!I99+'Guilgee balance'!I100 -> 1131088532 | N43: 0 | P43: =+L43-N43 -> 1131088532
C44: 38 | D44: Тодоруулга ү/а эхэлсэн огноо | E44: =+'D1'!#REF! -> #REF! | J44: 18 | K44: Бусад өглөг | L44: =+'Guilgee balance'!I115+'Guilgee balance'!I116+'Guilgee balance'!I117 -> 0 | N44: 0 | P44: =+L44-N44 -> 0
C45: 39 | D45: Тодоруулга ү/а ны чиглэл | E45: =+'D1'!C10 -> Хувцас үйлдвэрлэл худалдаа | J45: 19 | K45: УООрлого | L45: =+'Guilgee balance'!I119 -> 0 | N45: 0 | P45: =+L45-N45 -> 0
C46: 40 | D46: Захирал овог нэр | E46: =+'D1'!D30 -> 0 | J46: 20 | K46: Урт Х.Өглөг | L46: =+'Guilgee balance'!I129+'Guilgee balance'!I130 -> 0 | N46: 0 | P46: =+L46-N46 -> 0
C47: 41 | D47: Ажилтаны тоо | E47: =+#REF! -> #REF!
C48: 42 | D48: НӨТ-н эхэн авлага=баланс НӨТ авлага эхэн | E48: =+IF(O8<0, O8*-1000,0) -> 0 | F48: =+'Guilgee balance'!D35 -> 0 | G48: =+E48-F48 -> 0
C49: 43 | D49: НӨТ-н эхэн өглөг=баланс НӨТөглөг эхэн | E49: =+IF(O8>0, O8,0) -> 5095540.2 | F49: =+'Guilgee balance'!E108 -> 43270932 | G49: =+E49-F49 -> -38175391 | K49: НД-07, 08 тайлангаас нөхнө | M49: Нөхнө | O49: Нөхөхгүй | P49: Хувь нөхнө
C50: 44 | D50: НӨТ-н эцэс авлага=баланс НӨТ авлага эцэс | E50: =+Q19 -> 0 | F50: =+'Guilgee balance'!H35 -> 0 | G50: =+E50-F50 -> 0 | J50: НДШ шалгах хүснэгт | O50: АОлгогч хувь | P50: 12
C51: 45 | D51: НӨТ-н эцэс өглөг=баланс НӨТөглөг эцэс | E51: =+P19 -> 41651699 | F51: =+'Guilgee balance'!I108 -> 4170606 | G51: =+E51-F51 -> 37481093 | H51: =+G51*1.1*10 -> 4.1229203e+08 | K51: НДШ-н цалин сан | M51: НДШ 10 хувь | O51: НДШ /11-13/
C52: 46 | D52: ДА.С2=ДА.С1+Нийт борлуулалт-Бэлэн Борлуулалт | E52: =+'CT-1'!E11 -> 2492750 | F52: =+'CT-1'!D11+'CT-2'!H7-'CT-4'!D7 -> -1.1477663e+08 | G52: =+E52-F52 -> 1.1726938e+08 | J52: 1 | K52: 6360000 | M52: =+K52*11% -> 699600 | O52: =+K52*12% -> 763200
C53: 47 | D53: ААНОАТ | J53: 2 | K53: 6360000 | M53: =+K53*11% -> 699600 | O53: =+K53*12% -> 763200
C54: 48 | D54: ХХОАТ | J54: 3 | K54: 6360000 | M54: =+K54*11% -> 699600 | O54: =+K54*12% -> 763200
C55: 49 | D55: НӨАТ | J55: 4 | K55: 6120000 | M55: =+K55*11% -> 673200 | O55: =+K55*12% -> 734400
C56: 50 | D56: ҮХХАТ | J56: 5 | K56: 6360000 | M56: =+K56*11% -> 699600 | O56: =+K56*12% -> 763200
C57: 51 | D57: НӨАТ падаан | J57: 6 | K57: 6360000 | M57: =+K57*11% -> 699600 | O57: =+K57*12% -> 763200
C58: 52 | D58: Гаалийн мэдээ | J58: 7 | K58: 6360000 | M58: =+K58*11% -> 699600 | O58: =+K58*12% -> 763200
C59: 53 | D59: Төрийн сангийн гүйлгээ | J59: 8 | K59: 6360000 | M59: =+K59*11% -> 699600 | O59: =+K59*12% -> 763200
C60: 54 | D60: Баланс | J60: 9 | K60: 6360000 | M60: =+K60*11% -> 699600 | O60: =+K60*12% -> 763200
C61: 55 | D61: Бүртгэлийн өөрчлөлт | J61: 10 | K61: 6360000 | M61: =+K61*11% -> 699600 | O61: =+K61*12% -> 763200
C62: 56 | D62: НД-н тайлан | J62: 11 | K62: 6360000 | M62: =+K62*11% -> 699600 | O62: =+K62*12% -> 763200
C63: 57 | D63: НД-н төлөлт | J63: 12 | K63: 6120000 | M63: =+K63*11% -> 673200 | O63: =+K63*12% -> 734400
C64: 58 | D64: Бусад үзүүлэлт | K64: =+K52+K53+K54+K55+K56+K57+K58+K59+K60+K61+K62+K63 -> 75840000 | M64: =+M52+M53+M54+M55+M56+M57+M58+M59+M60+M61+M62+M63 -> 8342400 | O64: =+O52+O53+O54+O55+O56+O57+O58+O59+O60+O61+O62+O63 -> 9100800
