Workbook
Name \A: [1]A!#REF!
Name \B: [1]A!#REF!
Name \C: [1]A!#REF!
Name a: [1]A!#REF!
Name aa: '[2]SELBEG santehnik'!$A$7:$A$909
Name AANOAT_FP: #REF!
Name Actual: #REF!
Name ad: '[3]SAN orlogo 2009'!$E$2:$E$73
Name ae: [4]Sheet12!$B$52:$B$58
Name af: '[3]SAN orlogo 2009'!$H$2:$H$73
Name aq: [4]Sheet12!$B$60:$B$68
Name as: [4]ORLOGO!$E$1065:$E$1163
Name asa: [5]RefData!$B$3:$B$13
Name asdfsf: #REF!
Name Asset_Short_Descriptions: '[6]Book Asset Register'!$H$3606:$H$3623
Name at: [4]Sheet12!$B$44:$B$50
Name ay: [4]Sheet12!$G$44:$G$50
Name az: [4]Sheet12!$G$60:$G$68
Name bn: [4]Sheet2!$I$2:$I$360
Name CASH_BSCM: #REF!
Name CASH_BSPM: #REF!
Name CASH_CFCM: #REF!
Name CASH_CFPM: #REF!
Name CASH_NOCFCM: #REF!
Name CASH_NOCFPM: #REF!
Name CASH_WCCM: #REF!
Name CASH_WCPM: #REF!
Name cata: #REF!
Name cataa: #REF!
Name catal: #REF!
Name CC: [7]RefData!$F$3:$F$11
Name CITDeduct: [7]RefData!$E$3:$E$4
Name COA: #REF!
Name COA_BS: #REF!
Name COA_PL: #REF!
Name COGS: #REF!
Name Comparative: #REF!
Name Cost_Column: #REF!
Name da: [4]Sheet5!$B$690:$B$982
Name DATA1: #REF!
Name DATA10: '[8]Billable Exp Jul 09'!#REF!
Name DATA11: #REF!
Name DATA12: #REF!
Name DATA13: '[8]Billable Exp Jul 09'!#REF!
Name DATA14: #REF!
Name DATA15: #REF!
Name DATA16: #REF!
Name DATA17: #REF!
Name DATA2: #REF!
Name DATA3: #REF!
Name DATA4: #REF!
Name DATA5: #REF!
Name DATA6: #REF!
Name DATA7: #REF!
Name DATA8: #REF!
Name DATA9: '[9]Billable Exp Jul 09'!#REF!
Name dd: [4]ORLOGO!$B$105:$B$179
Name de: [4]Sheet5!$E$690:$E$982
Name df: [4]ORLOGO!$B$785:$B$989
Name dg: [4]ORLOGO!$E$785:$E$989

Sheet Journal

Sheet гүйлгээ баланс 
A2: Гүйлгээ баланс | D2: Стандарт Проперти Групп ХК
A5: Гүйлгээ баланс
A7: Тайлант үе: | J7: 2025/01/01 - 2025/12/31
A10: Дансны зориулалт | D10: Дансны | E10: Валютын | F10: Эхний үлдэгдэл | H10: Гүйлгээ | J10: Эцсийн үлдэгдэл
D11: дугаар | E11: төрөл | F11: Дебет | G11: Кредит | H11: Дебет | I11: Кредит | J11: Дебет | K11: Кредит
A12: Харилцахад байгаа мөнгө
A13: Төрийн банк / төгрөг харилцаах2025-07 сард нээгдсэн/ | D13: 1101-013 | E13: MNT | F13: 0 | G13: 0 | H13: 4.1304495e+09 | I13: 4.1303705e+09 | J13: 79019.85 | K13: 0
A14: Харилцахад байгаа бэлэн мөнгө (төгрөг)Голомт банк | D14: 1101-041 | E14: MNT | F14: 7000 | G14: 0 | H14: 0 | I14: 0 | J14: 7000 | K14: 0
A15: Бүлгийн дүн: | F15: 7000 | G15: 0 | H15: 4.1304495e+09 | I15: 4.1303705e+09 | J15: 86019.85 | K15: 0
A17: Дансны авлага
A18: Дансны авлага | D18: 1201-000 | E18: MNT | F18: 8600000 | G18: 0 | H18: 2593100000 | I18: 1628887800 | J18: 972812200 | K18: 0 | L18: =J18+J22+J26+J40 -> 1.01758e+10
A19: Бүлгийн дүн: | F19: 8600000 | G19: 0 | H19: 2593100000 | I19: 1628887800 | J19: 972812200 | K19: 0
A21: Хүмүүсээс авах авлага
A22: Ажилчидаас авах авлага | D22: 1205-000 | E22: MNT | F22: 23580762 | G22: 0 | H22: 0 | I22: 0 | J22: 23580762 | K22: 0
A23: Бүлгийн дүн: | F23: 23580762 | G23: 0 | H23: 0 | I23: 0 | J23: 23580762 | K23: 0
A25: Байгууллагаас авах авлага
A26: Компани хоорондын авлага | D26: 1207-000 | E26: MNT | F26: 8.996167e+09 | G26: 0 | H26: 0 | I26: 14507980 | J26: 8.981659e+09 | K26: 0
A27: Бүлгийн дүн: | F27: 8.996167e+09 | G27: 0 | H27: 0 | I27: 14507980 | J27: 8.981659e+09 | K27: 0
A29: Татварын авлага
A30: НӨАТ-ын авлага | D30: 1208-000 | E30: MNT | F30: 1.460432e+08 | G30: 0 | H30: 427272.73 | I30: 0 | J30: 1.4647048e+08 | K30: 0
A31: Бүлгийн дүн: | F31: 1.460432e+08 | G31: 0 | H31: 427272.73 | I31: 0 | J31: 1.4647048e+08 | K31: 0
A33: Татварын авлага
A34: ААНБОАТ-ын авлага | D34: 1209-000 | E34: MNT | F34: 1521681.8 | G34: 0 | H34: 0 | I34: 0 | J34: 1521681.8 | K34: 0
A35: НДШ-ийн авлага | D35: 1209-002 | E35: MNT | F35: 0 | G35: 0 | H35: 0.4 | I35: 0 | J35: 0.4 | K35: 0
A36: Суутгагч хуулийн этгээдэд олгосон орлогоос суутгасан татвар авлага | D36: 1209-005 | E36: MNT | F36: 1000000 | G36: 0 | H36: 0 | I36: 0 | J36: 1000000 | K36: 0
A37: Бүлгийн дүн: | F37: 2521681.8 | G37: 0 | H37: 0.4 | I37: 0 | J37: 2521682.2 | K37: 0 | L37: =J37+J31 -> 1.4899216e+08
A39: банкин дахь төлбөрийн барьцаа
A40: Барьцаа | D40: 1211-000 | E40: MNT | F40: 197748167 | G40: 0 | H40: 0 | I40: 0 | J40: 197748167 | K40: 0
A41: Бүлгийн дүн: | F41: 197748167 | G41: 0 | H41: 0 | I41: 0 | J41: 197748167 | K41: 0
A43: Дуусаагүй үйлдвэрлэлийн нэмэгдэл зардал
A44: Дэд бүтэц-Шинэ толгойт | D44: 1404-000 | E44: MNT | F44: 3.1759966e+08 | G44: 0 | H44: 0 | I44: 0 | J44: 3.1759966e+08 | K44: 0
A45: Бүлгийн дүн: | F45: 3.1759966e+08 | G45: 0 | H45: 0 | I45: 0 | J45: 3.1759966e+08 | K45: 0
A47: Бэлэн бүтээгдэхүүн
A48: ББүтээгдэхүүн үйчилгээний төв | D48: 1405-000 | E48: MNT | F48: 1270000000 | G48: 0 | H48: 0 | I48: 0 | J48: 1270000000 | K48: 0
A49: Бүлгийн дүн: | F49: 1270000000 | G49: 0 | H49: 0 | I49: 0 | J49: 1270000000 | K49: 0 | L49: =J48+J45 -> 1.5875997e+09
A51: Урьдчилж гарсан зардал
A52: Урьдчилж гарсан зардал | D52: 1802-000 | E52: MNT | F52: 0 | G52: 0 | H52: 1800000 | I52: 0 | J52: 1800000 | K52: 0 | L52: =J52 -> 1800000
A53: Бүлгийн дүн: | F53: 0 | G53: 0 | H53: 1800000 | I53: 0 | J53: 1800000 | K53: 0
A55: барилга байгууламж
A56: Барилга байгууламж | D56: 2002-000 | E56: MNT | F56: 20000000 | G56: 0 | H56: 0 | I56: 0 | J56: 20000000 | K56: 0
...

Sheet Face
D1: Сангийн сайдын 2017 оны
D2: ..... дүгээр тушаалын
D3: 2 дугаар хавсралт
A10: Регистрийн дугаар: | B10: 2010054
A12: Хаяг : ____Сонгинохайрхан Дүүрэг 2-р хороо Шинэ Толгойт Хороолол 102-1 тоот
A14: Шуудангийн хаяг : ______gantuya@spg.mn.
A16: Утас : _80160444. 99982321 Факс : ____________
A18: Өмчийн хэлбэр : | B18: Төрийн . . . . . хувь | C18: хувийн . . 100 хувь.
A31: "Стандарт Проперти Групп "ХК-ИЙН
A32: 2024 ОНЫ 4- улирал
A33: САНХҮҮГИЙН ТАЙЛАН
A42: Хянаж хүлээн авсан | B42: Сар, өдөр | C42: Гарын үсэг
A43: байгууллагын нэр

Sheet Letter
D5: Стандарт Проперти Групп ХК-ийн
D6: 2024 оны 4-р улирал санхүүгийн тайлангийн
D7: бодит байдлын тухай мэдэгдэл
C10: 2024 оны 12 -р сарын 31өдөр
A14: Захирал Б.Хуяг , ерөнхий нягтлан бодогч Ө.Пагваа бид манай аж ахуйн нэгжийн 2024 оны 12-р сарын 21ны өдрөөр тасалбар
A15: болгон гаргасан санхүүгийн тайланд тайлант хугацааны үйл ажиллагааны үр дүн,
A16: санхүүгийн байдлыг “Нягтлан бодох бүртгэлийн тухай” хуулийн 17.1 дэх заалтын дагуу үнэн зөв, бүрэн тусгасан болохыг баталж байна. Үүнд:
A17: 1. Бүх ажил гүйлгээ бодитоор гарсан бөгөөд холбогдох анхан шатны баримтыг үндэслэн нягтлан бодох бүртгэл, санхүүгийн тайланд үнэн зөв тусгасан
A18: 2. Санхүүгийн тайланд тусгагдсан бүх тооцоолол үнэн зөв хийгдсэн
A19: 3. Аж ахуйн нэгжийн үйл ажиллагааны эдийн засаг, санхүүгийн бүхий л үйл явцыг иж бүрэн хамарсан
A20: 4. Тайлант үеийн үр дүнд өмнөх оны ажил гүйлгээнээс шилжин тусгагдаагүй, мөн тайлант оны ажил гүйлгээнээс орхигдсон зүйл байхгүй
A21: 5. Бүх хөрөнгө, авлага, өр төлбөр, орлого, зардлыг холбогдох Санхүүгийн тайлагналын олон улсын стандартын дагуу үнэн зөв тусгасан
A22: 6. Энэ тайланд тусгагдсан бүхий л зүйл манай байгууллагын албан ёсны өмчлөлд байдаг бөгөөд орхигдсон зүйл үгүй болно.
A26: Захирал | C26: ________________ /..................................../
A28: Ерөнхий нягтлан бодогч | C28: ________________ /..................................../

Sheet Balance
A2: САНХҮҮГИЙН БАЙДЛЫН ТАЙЛАН
A3: "Стандарт Проперти Групп" ХК | D3: 2025 оны 12-р сарын 31
A4: ( Аж ахуйн нэгжийн нэр ) | C4: /төгрөгөөр/
A5: Мөрийн дугаар | B5: Үзүүлэлт
C6: өмнөх он | D6: тайлант он
A7: 1 | B7: ХӨРӨНГӨ
A8: 1.1 | B8: Эргэлтийн хөрөнгө
A9: 1.1.1 | B9: Мөнгө,түүнтэй адилтгах хөрөнгө | C9: 7000 | D9: ='гүйлгээ баланс '!J15 -> 86019.85 | E9: =D9-C9 -> 79019.85
A10: 1.1.2 | B10: Дансны авлага | C10: 9.2260959e+09 | D10: ='гүйлгээ баланс '!L18 -> 1.01758e+10 | E10: =D10-C10 -> 9.4970422e+08 | F10: =D10-'гүйлгээ баланс '!L18 -> 0
A11: 1.1.3 | B11: Татвар, НДШ – ийн авлага | C11: 1.4842497e+08 | D11: ='гүйлгээ баланс '!L37 -> 1.4899216e+08 | E11: =D11-C11 -> 567191.01 | F11: =D11-'гүйлгээ баланс '!L37 -> 0
A12: 1.1.4 | B12: Бусад авлага | E12: =D12-C12 -> 0
A13: 1.1.5 | B13: Бусад санхүүгийн хөрөнгө | E13: =D13-C13 -> 0
A14: 1.1.6 | B14: Бараа материал | C14: 1.5875997e+09 | D14: ='гүйлгээ баланс '!L49 -> 1.5875997e+09 | E14: =D14-C14 -> 0
A15: 1.1.7 | B15: Урьдчилж төлсөн зардал/тооцоо | D15: ='гүйлгээ баланс '!J52 -> 1800000 | E15: =D15-C15 -> 1800000
A16: 1.1.8 | B16: Бусад эргэлтийн хөрөнгө | E16: =D16-C16 -> 0
A17: 1.1.9 | B17: Борлуулах зорилгоор эзэмшиж буй эргэлтийн бус хөрөнгө (борлуулах бүлэг хөрөнгө) | E17: =D17-C17 -> 0
A18: 1.1.10 | E18: =D18-C18 -> 0
A19: 1.1.11 | B19: Эргэлтийн хөрөнгийн дүн | C19: 1.0962128e+10 | D19: =SUM(D9:D17) -> 1.1914278e+10 | E19: =D19-C19 -> 9.5215043e+08
A20: 1.2 | B20: Эргэлтийн бус хөрөнгө | E20: =D20-C20 -> 0
A21: 1.2.1 | B21: Үндсэн хөрөнгө | C21: 15028744 | D21: ='гүйлгээ баланс '!L69-'гүйлгээ баланс '!L85 -> 14506502 | E21: =D21-C21 -> -522241.99 | F21: =D21-('гүйлгээ баланс '!L69-'гүйлгээ баланс '!L85) -> 0
A22: 1.2.2 | B22: Биет бус хөрөнгө | C22: 903.39 | D22: ='гүйлгээ баланс '!L83 -> 0 | E22: =D22-C22 -> -903.39
A23: 1.2.3 | B23: Биологийн хөрөнгө | C23: 0 | D23: =C23 -> 0 | E23: =D23-C23 -> 0
A24: 1.2.4 | B24: Урт хугацаат хөрөнгө оруулалт | C24: 153000000 | D24: =C24 -> 153000000 | E24: =D24-C24 -> 0
A25: 1.2.5 | B25: Хайгуул ба үнэлгээний хөрөнгө | C25: 0 | D25: =C25 -> 0 | E25: =D25-C25 -> 0
A26: 1.2.6 | B26: Хойшлогдсон татварын хөрөнгө | C26: 0 | D26: =C26 -> 0 | E26: =D26-C26 -> 0
A27: 1.2.7 | B27: Хөрөнгө оруулалтын зориулалттай үл хөдлөх хөрөнгө | C27: 0 | D27: =C27 -> 0 | E27: =D27-C27 -> 0
A28: 1.2.8 | B28: Бусад эргэлтийн бус хөрөнгө | C28: 0 | D28: =C28 -> 0 | E28: =D28-C28 -> 0
A29: 1.2.9 | C29: 0 | D29: =C29 -> 0 | E29: =D29-C29 -> 0
A30: 1.2.10 | B30: Эргэлтийн бус хөрөнгийн дүн | C30: 1.6802965e+08 | D30: =SUM(D21:D29) -> 1.675065e+08 | E30: =D30-C30 -> -523145.38
A31: 1.3 | B31: НИЙТ ХӨРӨНГИЙН ДҮН | C31: 1.1130157e+10 | D31: =D19+D30 -> 1.2081784e+10 | E31: =D31-C31 -> 9.5162729e+08
A32: 2 | B32: ӨР ТӨЛБӨР БА ЭЗДИЙН ӨМЧ | E32: =D32-C32 -> 0
A33: 2.1 | B33: Өр төлбөр | E33: =D33-C33 -> 0
A34: 2.1.1 | B34: Богино хугацаат өр төлбөр | E34: =D34-C34 -> 0
A35: 2.1.1.1 | B35: Дансны өглөг | C35: 21869948 | D35: ='гүйлгээ баланс '!L96 -> 21920948 | E35: =D35-C35 -> 51000 | F35: =D35-'гүйлгээ баланс '!L96 -> 0
A36: 2.1.1.2 | B36: Цалингийн өглөг | C36: 3189777.2 | D36: ='гүйлгээ баланс '!L104 -> 14673958 | E36: =D36-C36 -> 11484181 | F36: =D36-'гүйлгээ баланс '!L104 -> 0
A37: 2.1.1.3 | B37: Татварын өр | C37: 85018145 | D37: ='гүйлгээ баланс '!L129 -> 84939746 | E37: =D37-C37 -> -78399.54 | F37: =D37-'гүйлгээ баланс '!L129 -> 0
A38: 2.1.1.4 | B38: НДШ - ийн өглөг | C38: 0 | E38: =D38-C38 -> 0
A39: 2.1.1.5 | B39: Богино хугацаат зээл | E39: =D39-C39 -> 0
A40: 2.1.1.6 | B40: Хүүний өглөг | C40: 3.8237121e+09 | D40: ='гүйлгээ баланс '!K120 -> 1600000000 | E40: =D40-C40 -> -2.2237121e+09
A41: 2.1.1.7 | B41: Ногдол ашгийн өглөг | E41: =D41-C41 -> 0
...

Sheet IS
A1: ОРЛОГЫН ДЭЛГЭРЭНГҮЙ ТАЙЛАН
A3: =Balance!A3 -> "Стандарт Проперти Групп" ХК | D3: =+Balance!D3 -> 2025 оны 12-р сарын 31
A4: ( Аж ахуйн нэгжийн нэр )
A5: Мөрийн дугаар | B5: Үзүүлэлт | C5: Өмнөх он | D5: Тайлант үеийн дүн | H5: 2432390
H6: 14250764
A7: 1 | B7: Борлуулалтын орлого (цэвэр) | C7: 0 | D7: 0 | H7: 12944243
A8: 2 | B8: Борлуулалтын өртөг | C8: 0 | D8: 0 | H8: 9884474.6
A9: 3 | B9: Нийт ашиг ( алдагдал) | C9: 0 | D9: 0 | H9: 7694220.9
A10: 4 | B10: Түрээсийн орлого | C10: 0 | D10: 0 | H10: 5359471.8
A11: 5 | B11: Хүүний орлого | C11: 0 | D11: ='гүйлгээ баланс '!I193 -> 155577.61 | H11: =SUM(H5:H10) -> 52565564
A12: 6 | B12: Ногдол ашгийн орлого | C12: 0 | D12: 0 | H12: =#REF! -> #REF!
A13: 7 | B13: Эрхийн шимтгэлийн орлого | H13: =H12-H11 -> #REF!
A14: 8 | B14: Бусад орлого
A15: 9 | B15: Борлуулалт, маркетингийн зардал
A16: 10 | B16: Ерөнхий ба удирдлагын зардал | C16: 29380172 | D16: ='гүйлгээ баланс '!L163-100-15557.76-140017.89+100 -> 24126116 | E16: =D16-9945000 -> 14181116 | F16: =E16-9945000 -> 4236116.1 | G16: 6197772.7
A17: 11 | B17: Санхүүгийн зардал
A18: 12 | B18: Бусад зардал
A19: 13 | B19: Гадаад валютын ханшийн зөрүүний олз (гарз)
A20: 14 | B20: Үндсэн хөрөнгө данснаас хассаны олз (гарз)
A21: 15 | B21: Биет бус хөрөнгө данснаас хассаны олз (гарз)
A22: 16 | B22: Хөрөнгө оруулалт борлуулснаас үүссэн олз (гарз)
A23: 17 | B23: Бусад ашиг ( алдагдал)
A24: 18 | B24: Татвар төлөхийн өмнөх ашиг ( алдагдал) | C24: -29380172 | D24: =D11-D16 -> -23970538 | E24: =D11-D16 -> -23970538
A25: 19 | B25: Орлогын татварын зардал | C25: 0 | D25: 15557.76
A26: 20 | B26: Татварын дараах ашиг (алдагдал) | C26: -29380172 | D26: =D24-D25 -> -23986096
A27: 21 | B27: Зогсоосон үйл ажиллагааны татварын дараах ашиг (алдагдал)
A28: 22 | B28: Тайлант үеийн цэвэр ашиг ( алдагдал)
A29: 23 | B29: Бусад дэлгэрэнгүй орлого
B30: Хөрөнгийн дахин үнэлгээний нэмэгдлийн зөрүү
B31: Гадаад валютын хөрвүүлэлтийн зөрүү
B32: Бусад олз (гарз)
A33: 24 | B33: Орлогын нийт дүн | C33: -29380172 | D33: =D26 -> -23986096
A34: 25 | B34: Нэгж хувьцаанд ногдох суурь ашиг (алдагдал)
B40: Захирал __________________ (…...........................)
B42: Ерөнхий нягтлан бодогч ___________________ (…...........................)

Sheet Equity
C1: ӨМЧИЙН ӨӨРЧЛӨЛТИЙН ТАЙЛАН
A2: =IS!A3 -> "Стандарт Проперти Групп" ХК | I2: =+Balance!D3 -> 2025 оны 12-р сарын 31
A3: ( Аж ахуйн нэгжийн нэр )
A4: № | B4: ҮЗҮҮЛЭЛТ | C4: Өмч | D4: Халаасны хувьцаа | E4: Нэмж төлөгдсөн капитал | F4: Хөрөнгийн дахин үнэлгээний нэмэгдэл | G4: Гадаад валютын хөрвүүлэлтийн нөөц | H4: Эздийн өмчийн бусад хэсэг | I4: Хуримтлагдсан ашиг | J4: Нийт
J5: дүн
A6: 1 | B6: 2024оны 01-р сарын 01-ний үлдэгдэл | C6: 162780700 | H6: 37507700 | I6: -4.8819597e+09 | J6: =SUM(C6:I6) -> -4.6816713e+09
A7: 2 | B7: Нягтлан бодох бүртгэлийн бодлогын өөрчлөлтийн нөлөө, алдааны залруулга | I7: 0
A8: 3 | B8: Залруулсан үлдэгдэл | C8: =C6 -> 162780700 | H8: =H6 -> 37507700 | I8: =I6+I7 -> -4.8819597e+09 | J8: =SUM(C8:I8) -> -4.6816713e+09
B9: Тайлант үеийн цэвэр ашиг (алдагдал) | I9: -29380172
B10: Бусад дэлгэрэнгүй орлого
B11: Өмчид гарсан өөрчлөлт
B12: Зарласан ногдол ашиг
A13: 4 | B13: Дахин үнэлгээний нэмэгдлийн хэрэгжсэн дүн
A14: 5 | B14: 2024оны 12-р сарын 31-ний үлдэгдэл | C14: 162780700 | H14: 37507700 | I14: =I8+I9 -> -4.9113399e+09 | J14: =SUM(C14:I14) -> -4.7110515e+09 | P14: =3128405.8-3157543.7 -> -29137.9
A15: 6 | B15: Нягтлан бодох бүртгэлийн бодлогын өөрчлөлтийн нөлөө, алдааны залруулга | J15: =SUM(C15:I15) -> 0
A16: 7 | B16: Залруулсан үлдэгдэл | C16: =C14 -> 162780700 | H16: =H14 -> 37507700 | I16: =I15+I14 -> -4.9113399e+09 | J16: =SUM(C16:I16) -> -4.7110515e+09
A17: 8 | B17: Тайлант үеийн цэвэр ашиг (алдагдал) | I17: =IS!D33 -> -23986096 | J17: =SUM(C17:I17) -> -23986096 | K17: =J17+-IS!D26 -> 0
A18: 9 | B18: Бусад дэлгэрэнгүй орлого | J18: =SUM(C18:I18) -> 0
A19: 10 | B19: Өмчид гарсан өөрчлөлт | J19: =SUM(C19:I19) -> 0
A20: 11 | B20: Зарласан ногдол ашиг | J20: =SUM(C20:I20) -> 0
A21: 12 | B21: Дахин үнэлгээний нэмэгдлийн хэрэгжсэн дүн | J21: =SUM(C21:I21) -> 0
A22: 13 | B22: 2025оны012р сарын 31-ний үлдэгдэл | C22: =SUM(C16:C21) -> 162780700 | D22: =SUM(D14:D21) -> 0 | E22: =SUM(E14:E21) -> 0 | F22: =SUM(F14:F21) -> 0 | G22: =SUM(G14:G21) -> 0 | H22: =SUM(H16:H21) -> 37507700 | I22: =SUM(I16:I21) -> -4.935326e+09 | J22: =SUM(C22:I22) -> -4.7350376e+09 | K22: =J22-Balance!D67 -> 0
I23: =I22-Balance!D65 -> 0 | J23: =J22-Balance!D67 -> 0
A25: Захирал ______________ (..........................)
A27: Ерөнхий нягтлан бодогч ______________ (..........................)

Sheet Cash flow
A1: МӨНГӨН ГҮЙЛГЭЭНИЙ ТАЙЛАН
A2: =Equity!A2 -> "Стандарт Проперти Групп" ХК | C2: =+Balance!D3 -> 2025 оны 12-р сарын 31
A3: ( Аж ахуйн нэгжийн нэр ) | E3: /төгрөгөөр/
A4: Мөрийн дугаар | B4: ҮЗҮҮЛЭЛТ | C4: Тайлант үеийн дүн | D4: Өмнөх он | E4: Тайлант үеийн дүн
A5: 1 | B5: Үндсэн үйл ажиллагааны мөнгөн гүйлгээ
A6: 1.1 | B6: Мөнгөн орлогын дүн (+)
B7: Бараа борлуулсан, үйлчилгээ үзүүлсний орлого
B8: Эрхийн шимтгэл, хураамж, төлбөрийн орлого
B9: Даатгалын нөхвөрөөс хүлээн авсан мөнгө
B10: Буцаан авсан албан татвар
B11: Татаас, санхүүжилтийн орлого
B12: Бусад мөнгөн орлого | E12: ='гүйлгээ баланс '!I193 -> 155577.61
A13: 1.2 | B13: Мөнгөн зарлагын дүн (-) | D13: 18920 | E13: =SUM(E14:E22) -> 14507980
B14: Ажиллагчдад төлсөн | D14: 0 | E14: 2500000
B15: Нийгмийн даатгалын байгууллагад төлсөн | D15: 0 | E15: ='гүйлгээ баланс '!H112 -> 3645782.6
B16: Бараа материал худалдан авахад төлсөн
B17: Ашиглалтын зардалд төлсөн | E17: =6500000+230000.4 -> 6730000.4 | F17: =14507980.37-E13 -> 0
B18: Түлш шатахуун, тээврийн хөлс, сэлбэг хэрэгсэлд төлсөн | D18: 0 | E18: 0
B19: Хүүний төлбөрт төлсөн
B20: Татварын байгууллагад төлсөн | D20: 0 | E20: ='гүйлгээ баланс '!H129 -> 1632197.4
B21: Даатгалын төлбөрт төлсөн
B22: Бусад мөнгөн зарлага | D22: 18920
A23: 1.3 | B23: Үндсэн үйл ажиллагааны цэвэр мөнгөн гүйлгээний дүн | D23: -18920 | E23: =E12-E13 -> -14352403
A24: 2 | B24: Хөрөнгө оруулалтын үйл ажиллагааны мөнгөн гүйлгээ
A25: 2.1 | B25: Мөнгөн орлогын дүн (+) | D25: 0 | E25: =SUM(E26:E32) -> 0
B26: Үндсэн хөрөнгө борлуулсны орлого
B27: Биет бус хөрөнгө борлуулсны орлого
B28: Хөрөнгө оруулалт борлуулсны орлого
B29: Бусад урт хугацаат хөрөнгө борлуулсны орлого
B30: Бусдад олгосон зээл, мөнгөн урьдчилгааны буцаан төлөлт
B31: Хүлээн авсан хүүний орлого
B32: Хүлээн авсан ногдол ашиг
A33: 2.2 | B33: Мөнгөн зарлагын дүн (-) | D33: 0 | E33: =SUM(E34:E38) -> 0
B34: Үндсэн хөрөнгө олж эзэмшихэд төлсөн | D34: 0 | E34: 0
B35: Биет бус хөрөнгө олж эзэмшихэд төлсөн
B36: Хөрөнгө оруулалт олж эзэмшихэд төлсөн
B37: Бусад урт хугацаат хөрөнгө олж эзэмшихэд төлсөн
B38: Бусдад олгосон зээл болон урьдчилгаа
A39: 2.3 | B39: Хөрөнгө оруулалтын үйл ажиллагааны цэвэр мөнгөн гүйлгээний дүн | D39: 0 | E39: =E25-E33 -> 0
A40: 3 | B40: Санхүүгийн үйл ажиллагааны мөнгөн гүйлгээ
...

Sheet тод-1-2
A1: САНХҮҮГИЙН ТАЙЛАНГИЙН
A2: ТОДРУУЛГА
A4: __Стандарт Проперти Групп ХК | F4: 2025 оны 12-р сарын 31ны өдөр
A5: ( Аж ахуйн нэгжийн нэр )
A8: Үндсэн үйл ажиллагааны чиглэл /төрөл/ :
A10: (а) | B10: __________Гадаад худалдаа_______________________________________________________
A11: (б) | B11: _____________________________________________________________________________
A12: (в) | B12: _____________________________________________________________________________
A14: Туслах үйл ажиллагааны чиглэл /төрөл/ :
A16: (а) | B16: ___________________________________ | D16: (б) __________________________________
A17: (в) | B17: ___________________________________
A18: Салбар, төлөөлөгчийн газрын нэр, байршил :
A20: (а) | B20: _____________________________________________________________________________
A21: (б) | B21: _____________________________________________________________________________
A22: (в) | B22: _____________________________________________________________________________
A24: 1. ТАЙЛАН БЭЛТГЭХ ҮНДЭСЛЭЛ
A26: Санхүүгийн Тайлагналын Олон Улсын Стандарт ба Монгол улсын холбогдох хууль тогтоомжийн дагуу
A30: 2. НЯГТЛАН БОДОХ БҮРТГЭЛИЙН БОДЛОГЫН ӨӨРЧЛӨЛТ
A32: Санхүүгийн тайлангаа бэлттгэхдээ түүхэн өртгийн , орлого тооцолтын , орлого зардал зохицох, тасралтгүй байх , нэмэлт тодруулгын гэсэн үндсэн зарчим бодлогыг баримталдаг

Sheet тод-3-4
A2: 3. МӨНГӨ, ТҮҮНТЭЙ АДИЛТГАХ ХӨРӨНГӨ
A3: № | B3: Мөнгөн хөрөнгийн зүйлс | C3: Эхний үлдэгдэл | D3: Эцсийн үлдэгдэл
A4: 1 | B4: Касс дахь мөнгө | C4: 0 | D4: 0
A5: 2 | B5: Банкин дахь мөнгө | C5: =Balance!C9 -> 7000 | D5: =Balance!D9 -> 86019.85
A6: 3 | B6: Мөнгөтэй адилтгах хөрөнгө | C6: 0 | D6: 0
A7: 4 | B7: Нийт дүн | C7: =SUM(C4:C6) -> 7000 | D7: =SUM(D4:D6) -> 86019.85
A10: Тэмдэглэл. (Мөнгө, түүнтэй адилтгах хөрөнгөтэй холбоотой тайлбар, тэмдэглэлийг хийнэ).
A11: Мөнгө түүнтэй адилгах хөрөнгөд бартерт авсан хашаа байшин машин бараа материал
A12: ..........байгаа энэхүү байрны төлбөрт авсан болно ............
A13: .......................................................................................................................................................................................
A15: 4. ДАНСНЫ БОЛОН БУСАД АВЛАГА
A17: 4.1 Дансны авлага
A19: № | B19: Үзүүлэлт | C19: Дансны авлага | D19: Найдваргүй авлагын хасагдуулга | E19: Дансны авлага (цэвэр дүнгээр)
A20: 1 | B20: Эхний үлдэгдэл | C20: =Balance!C10 -> 9.2260959e+09 | D20: 0 | E20: =C20-D20 -> 9.2260959e+09
A21: 2 | B21: Нэмэгдсэн | E21: =C21-D21 -> 0
A22: 3 | B22: Хасагдсан (-): | C22: =Balance!C10-Balance!D10 -> -9.4970422e+08 | E22: =C22 -> -9.4970422e+08
B23: -Төлөгдсөн | E23: =C23-D23 -> 0
B24: - Найдваргүй болсон | E24: =C24-D24 -> 0
A25: 4 | B25: Эцсийн үлдэгдэл | C25: =C20+C21-C22 -> 1.01758e+10 | E25: =E20+E21-E22 -> 1.01758e+10 | F25: =E25-Balance!D10 -> 0
A27: 1.2 Татвар, нийгмийн даатгалын шимтгэл (НДШ) - ийн авлага
A29: № | B29: Төрөл | C29: Эхний үлдэгдэл | D29: Эцсийн үлдэгдэл
A30: 1 | B30: ААНОАТ-ын авлага | C30: 1521681.8 | D30: =C30 -> 1521681.8
A31: 2 | B31: НӨАТ-ын авлага | C31: ='гүйлгээ баланс '!J30 -> 1.4647048e+08 | D31: =146470477.14+0.4 -> 1.4647048e+08
A32: 3 | B32: НДШ – ийн авлага
A33: 4 | B33: Бусад татвар авлага | C33: 1000000 | D33: 1000000
A34: 5 | B34: Нийт дүн | C34: =SUM(C30:C33) -> 1.4899216e+08 | D34: =SUM(D30:D33) -> 1.4899216e+08 | E34: =D34-Balance!D11 -> 0
A36: 1.3 Бусад богино хугацаат авлага (төрлөөр нь ангилна)
A38: № | B38: Төрөл | C38: Эхний үлдэгдэл | D38: Эцсийн үлдэгдэл
A39: 1 | B39: Холбоотой талаас авах авлага (эргэлтийн хөрөнгөнд хамаарах дүн)
A40: 2 | B40: Ажиллагчдаас авах авлага | D40: 0
A41: 3 | B41: Ногдол ашгийн авлага
A42: 4 | B42: Хүүний авлага
A43: 5 | B43: Богино хугацаат авлагын бичиг
A44: 6 | B44: Бусад талуудаас авах авлага
A45: 7
A46: 8 | B46: Нийт дүн | C46: =SUM(C39:C45) -> 0 | D46: =SUM(D39:D45) -> 0
A48: Тэмдэглэл. (Дансны авлагыг төлөгдөх хугацаандаа байгаа, хугацаа хэтэрсэн, төлөгдөх найдваргүй гэж ангилна. Найдваргүй авлагын хасагдуулга байгуулсан арга, гадаад валютаар илэрхийлэгдсэн авлагын талаар болон бусад тайлбар, тэмдэглэлийг хийнэ).
A50: .......................................................................................................................................................................................
A51: .......................................................................................................................................................................................
A52: .......................................................................................................................................................................................
...

Sheet тод-5-8
A1: 5. БУСАД САНХҮҮГИЙН ХӨРӨНГӨ
A5: № | B5: Төрөл | C5: Эхний үлдэгдэл | D5: Эцсийн үлдэгдэл
A6: 1 | C6: 0 | D6: 0
A7: 2
A8: 3 | B8: Нийт дүн | C8: 0 | D8: 0
A12: 6. БАРАА МАТЕРИАЛ
A15: № | B15: Үзүүлэлт | C15: Бараа материалын төрөл | I15: Нийт дүн
C17: Түүхий эд материал | D17: Дуусаагүй үйлдвэрлэл | E17: Бэлэн бүтээгдэхүүн | F17: Барилгын материал | G17: Хангамжийн материал
A18: 1 | B18: Эхний үлдэгдэл (өртгөөр) | D18: 3.1759966e+08 | E18: 1270000000 | I18: =SUM(C18:H18) -> 1.5875997e+09
A19: 2 | B19: Нэмэгдсэн дүн | C19: 0 | D19: 0 | I19: =SUM(C19:H19) -> 0
A20: 3 | B20: Хасагдсан дүн (-) | C20: 0 | I20: =SUM(C20:H20) -> 0
A21: 4 | B21: Эцсийн үлдэгдэл (өртгөөр) | C21: =C18+C19-C20 -> 0 | D21: =D18+D19-D20 -> 3.1759966e+08 | E21: =E18+E19-E20 -> 1270000000 | F21: =F18+F19-F20 -> 0 | G21: =G18+G19-G20 -> 0 | H21: =H18+H19-H20 -> 0 | I21: =SUM(C21:H21) -> 1.5875997e+09
A22: 5 | B22: Үнийн бууралтын гарз (-) | I22: =SUM(C22:H22) -> 0
A23: 6 | B23: Үнийн бууралтын буцаалт | I23: =SUM(C23:H23) -> 0
A24: 7 | B24: Дансны цэвэр дүн*: | C24: =C21-C22+C23 -> 0 | D24: =D21-D22+D23 -> 3.1759966e+08 | E24: =E21-E22+E23 -> 1270000000 | F24: =F21-F22+F23 -> 0 | G24: =G21-G22+G23 -> 0 | H24: =H21-H22+H23 -> 0 | I24: =SUM(C24:H24) -> 1.5875997e+09
A25: 7.1 | B25: Эхний үлдэгдэл | C25: =C18 -> 0 | D25: =D18 -> 3.1759966e+08 | E25: =E18 -> 1270000000 | F25: =F18 -> 0 | G25: =G18 -> 0 | H25: =H18 -> 0 | I25: =SUM(C25:H25) -> 1.5875997e+09
A26: 7.2 | B26: Эцсийн үлдэгдэл | C26: =C24 -> 0 | D26: =D24 -> 3.1759966e+08 | E26: =E24 -> 1270000000 | F26: =F24 -> 0 | G26: =G24 -> 0 | H26: =H24 -> 0 | I26: =SUM(C26:H26) -> 1.5875997e+09 | J26: =I26-Balance!D14 -> 0
A30: *Дансны цэвэр дүнгийн эхний, эцсийн үлдэгдлийн нийт дүн нь санхүүгийн байдлын тайлан дахь бараа материалын дансны эхний, эцсийн үлдэгдлийн дүнтэй тэнцүү байна.
A32: Тэмдэглэл. (Бараа материалын өртгийг тодорхойлоход ашигласан арга, бараа материалын бүртгэлийн систем, өртөг болон цэвэр боломжит үнийн аль багыг сонгох аргын талаар тайлбар, тэмдэглэл хийнэ).
A36: 7. БОРЛУУЛАХ ЗОРИЛГООР ЭЗЭМШИЖ БУЙ ЭРГЭЛТИЙН БУС ХӨРӨНГӨ (ЭСВЭЛ БОРЛУУЛАХ БҮЛЭГ ХӨРӨНГӨ) БОЛОН ӨР ТӨЛБӨР
A41: Тэмдэглэл. (Борлуулах зорилгоор эзэмшиж буй эргэлтийн бус хөрөнгө (эсвэл борлуулах бүлэг хөрөнгө) болон өр төлбөрийн тодорхойлолт, хэмжилтийн суурь, борлуулалт хийгдсэн аль эсвэл хийгдэхэд хүргэсэн нөхцөл байдал, борлуулах арга, хугацаа, хүлээн зөвшөөрсөн олз ба гарз болон бусад тайлбар, тэмдэглэлийг хийнэ).
A42: .......................................................................................................................................................................................
A43: .......................................................................................................................................................................................
A44: .......................................................................................................................................................................................
A46: 8. УРЬДЧИЛЖ ТӨЛСӨН ЗАРДАЛ/ТООЦОО
A47: № | B47: Төрөл | C47: Эхний үлдэгдэл | D47: Эцсийн үлдэгдэл
A48: 1 | B48: Урьдчилж төлсөн зардал
A49: 2 | B49: Урьдчилж төлсөн түрээс, даатгал
A50: 3 | B50: Бэлтгэн нийлүүлэгчдэд төлсөн урьдчилгаа төлбөр | D50: 0
A51: 4
A52: 5 | B52: Нийт дүн

Sheet тод-9
A1: 9. ҮНДСЭН ХӨРӨНГӨ
A3: № | B3: Үзүүлэлт | C3: Газрын сайжруулалт | D3: Барилга, байгууламж | E3: Машин, тоног төхөөрөмж | F3: Тээврийн хэрэгсэл | G3: Тавилга эд хогшил | H3: Компьютер, бусад хэрэгсэл | I3: Бусад | J3: Нийт дүн
I4: үндсэн хөрөнгө
A5: 1 | B5: ҮНДСЭН ХӨРӨНГӨ /ӨРТӨГ/ | C5: 0 | D5: 0 | E5: 0 | F5: 0 | G5: 0 | H5: 0 | I5: 0 | J5: =SUM(C5:I5) -> 0
A6: 1.1 | B6: Эхний үлдэгдэл | D6: 20000000 | F6: 16500000 | G6: =10022900-5986750 -> 4036150 | H6: 779000 | J6: =SUM(C6:I6) -> 41315150
A7: 1.2 | B7: Нэмэгдсэн дүн | C7: =C8+C9+C10+C11 -> 0 | D7: =D8+D9+D10+D11 -> 0 | E7: =E8+E9+E10+E11 -> 0 | F7: =F8+F9+F10+F11 -> 0 | G7: =G8+G9+G10+G11 -> 0 | H7: =H8+H9+H10+H11 -> 0 | I7: =I8+I9+I10+I11 -> 0 | J7: =SUM(C7:I7) -> 0
B8: Өөрөө үйлдвэрлэсэн | J8: =SUM(C8:I8) -> 0
B9: Худалдаж авсан | J9: =SUM(C9:I9) -> 0
B10: Үнэ төлбөргүй авсан | J10: =SUM(C10:I10) -> 0
B11: Дахин үнэлгээний нэмэгдэл | J11: =SUM(C11:I11) -> 0
A12: 1.3 | B12: Хасагдсан дүн (-) | C12: =C13+C14+C15+C16 -> 0 | D12: =D13+D14+D15+D16 -> 0 | E12: =E13+E14+E15+E16 -> 0 | F12: =F13+F14+F15+F16 -> 0 | H12: =H13+H14+H15+H16 -> 0 | I12: =I13+I14+I15+I16 -> 0 | J12: =SUM(C12:I12) -> 0
B13: Худалдсан | J13: =SUM(C13:I13) -> 0
B14: Үнэгүй шилжүүлсэн | J14: =SUM(C14:I14) -> 0
B15: Акталсан | F15: 0 | J15: =SUM(C15:I15) -> 0
J16: =SUM(C16:I16) -> 0
A17: 1.4 | B17: Үндсэн хөрөнгө дахин ангилсан | J17: =SUM(C17:I17) -> 0
A18: 1.5 | B18: Үндсэн хөрөнгө, ХОЗҮХХ[1] хооронд дахин ангилсан | J18: =SUM(C18:I18) -> 0
A19: 1.6 | B19: Эцсийн үлдэгдэл | C19: =C6+C7-C12 -> 0 | D19: =D6+D7-D12 -> 20000000 | E19: =E6+E7-E12 -> 0 | F19: =F6+F7-F12 -> 16500000 | G19: =G6+G7-G12 -> 4036150 | H19: =H6+H7-H12 -> 779000 | I19: =I6+I7-I12 -> 0 | J19: =SUM(C19:I19) -> 41315150
A20: 2 | B20: ХУРИМТЛАГДСАН ЭЛЭГДЭЛ | J20: =SUM(C20:I20) -> 0
A21: 2.1 | B21: Эхний үлдэгдэл | D21: ='гүйлгээ баланс '!G72 -> 4993839.8 | F21: ='гүйлгээ баланс '!G80 -> 16477416 | G21: ='гүйлгээ баланс '!G76 -> 4036150 | H21: 779000 | J21: =SUM(C21:I21) -> 26286406
A22: 2.2 | B22: Нэмэгдсэн дүн | C22: =C23+C24+C25 -> 0 | D22: =D23+D24+D25 -> 499657.77 | E22: =E23+E24+E25 -> 0 | F22: =F23+F24+F25 -> 22584.22 | G22: =G23+G24+G25 -> 0 | H22: =H23+H24+H25 -> 0 | I22: =I23+I24+I25 -> 0 | J22: =SUM(C22:I22) -> 522241.99
B23: Байгуулсан элэгдэл | D23: ='гүйлгээ баланс '!I72 -> 499657.77 | F23: ='гүйлгээ баланс '!I80 -> 22584.22 | H23: 0 | J23: =SUM(C23:I23) -> 522241.99
B24: Дахин үнэлгээгээр нэмэгдсэн | J24: =SUM(C24:I24) -> 0
B25: Үнэ цэнийн бууралтын буцаалт | J25: =SUM(C25:I25) -> 0
A26: 2.3 | B26: Хасагдсан дүн | C26: =C27-C28-C29 -> 0 | D26: =D27-D28-D29 -> 0 | E26: =E27-E28-E29 -> 0 | F26: =F27-F28-F29 -> 0 | G26: =G27-G28-G29 -> 0 | H26: =H27-H28-H29 -> 0 | I26: =I27-I28-I29 -> 0 | J26: =SUM(C26:I26) -> 0
B27: Данснаас хассан хөрөнгийн элэгдэл | J27: =SUM(C27:I27) -> 0
B28: Дахин үнэлгээгээр хасагдсан | J28: =SUM(C28:I28) -> 0
B29: Үнэ цэнийн бууралт | J29: =SUM(C29:I29) -> 0
A30: 2.4 | B30: Эцсийн үлдэгдэл | C30: =C21+C22-C26 -> 0 | D30: =D21+D22-D26 -> 5493497.5 | E30: =E21+E22-E26 -> 0 | F30: =F21+F22-F26 -> 16500000 | G30: =G21+G22-G26 -> 4036150 | H30: =H21+H22-H26 -> 779000 | I30: =I21+I22-I26 -> 0 | J30: =SUM(C30:I30) -> 26808648
A31: 3 | B31: ДАНСНЫ ЦЭВЭР ДҮН | J31: =SUM(C31:I31) -> 0
A32: 3.1 | B32: Эхний үлдэгдэл (1.1 - 2.1) | C32: =C6-C21 -> 0 | D32: =D6-D21 -> 15006160 | E32: =E6-E21 -> 0 | F32: =F6-F21 -> 22584.22 | G32: =G6-G21 -> 0 | H32: =H6-H21 -> 0 | J32: =SUM(C32:I32) -> 15028744 | K32: =J32-Balance!C21 -> 0
A33: 3.2 | B33: Эцсийн үлдэгдэл (1.6 - 2.4) | C33: =C19-C30 -> 0 | D33: =D19-D30 -> 14506502 | E33: =E19-E30 -> 0 | F33: =F19-F30 -> 0 | G33: =G19-G30 -> 0 | H33: =H19-H30 -> 0 | I33: =I19-I30 -> 0 | J33: =SUM(C33:I33) -> 14506502 | K33: =J33-Balance!D21 -> 0
A34: Тэмдэглэл. (Үндсэн хөрөнгийн анги бүрийн хувьд ашигласан хэмжилтийн суурь; элэгдэл тооцох арга; ашиглалтын хугацаа; дахин үнэлсэн бол дахин үнэлгээ хүчинтэй болсон хугацаа, хараат бус үнэлгээчин үнэлсэн эсэх талаар; үндсэн хөрөнгийн дахин ангилал, түүний шалтгаан; бусад тайлбар тэмдэглэлийг хийнэ).
A35: элэгдэл тооцсон арга шулуун шугамын аргаар ашиглалтын хугацааг хуульд заасан хугацааны дагуу
A36: .......................................................................................................................................................................................
A41: [1] Хөрөнгө оруулалтын зориулалттай үл хөдлөх хөрөнгө.

Sheet тод-10
A1: 10. Биет бус хөрөнгө
A3: № | B3: Үзүүлэлт | C3: Зохиогчийн эрх | D3: Компьютерийн программ хангамж | E3: Патент | F3: Барааны тэмдэг | G3: Тусгай зөвшөөрөл | H3: Газар эзэмших | I3: Бусад биет бус хөрөнгө | J3: Нийт дүн
H4: эрх
A5: 1 | B5: БИЕТ БУС ХӨРӨНГӨ /ӨРТӨГ/
A6: 1.1 | B6: Эхний үлдэгдэл | D6: 396939.52 | J6: =D6 -> 396939.52
A7: 1.2 | B7: Нэмэгдсэн дүн
B8: Өөрөө үйлдвэрлэсэн
B9: Худалдаж авсан
B10: Үнэ төлбөргүй авсан
B11: Дахин үнэлгээний нэмэгдэл
A12: 1.3 | B12: Хасагдсан дүн (-)
B13: Худалдсан
B14: Үнэгүй шилжүүлсэн
B15: Акталсан
A17: 1.4 | B17: Эцсийн үлдэгдэл | D17: =D6 -> 396939.52 | J17: =D17 -> 396939.52
A18: 2 | B18: ХУРИМТЛАГДСАН ХОРОГДОЛ
A19: 2.1 | B19: Эхний үлдэгдэл | D19: 396036.3
A20: 2.2 | B20: Нэмэгдсэн дүн | D20: =D21 -> 903.22 | E20: =E21 -> 0 | F20: =F21 -> 0 | G20: =G21 -> 0 | H20: =H21 -> 0 | I20: =I21 -> 0
B21: Байгуулсан хорогдол | D21: 903.22 | J21: =D21 -> 903.22
B22: Дахин үнэлгээгээр нэмэгдсэн | D22: 0
B23: Үнэ цэнийн бууралтын буцаалт
A24: 2.3 | B24: Хасагдсан:
B25: Данснаас хассан хөрөнгийн хорогдол
B26: Дахин үнэлгээгээр хасагдсан
B27: Үнэ цэнийн бууралт
A28: 2.4 | B28: Эцсийн үлдэгдэл | D28: =D19+D20 -> 396939.52
A29: 3 | B29: ДАНСНЫ ЦЭВЭР ДҮН
A30: 3.1 | B30: Эхний үлдэгдэл (1.1 - 2.1) | D30: =D6-D19 -> 903.22 | J30: =D30 -> 903.22 | K30: =J30-Balance!C22 -> -0.17
A31: 3.2 | B31: Эцсийн үлдэгдэл (1.4 - 2.4) | D31: =D17-D28 -> 0 | J31: =D31 -> 0 | K31: =J31-Balance!D22 -> 0
A32: 1. | J32: =J31-Balance!D22 -> 0
A33: 2.
A36: Тэмдэглэл. (Биет бус хөрөнгийн анги бүрийн хувьд ашигласан хэмжилтийн суурь, хорогдол тооцох арга, ашиглалтын хугацаа, дахин үнэлсэн бол дахин үнэлгээ хүчинтэй болсон хугацаа, хараат бус үнэлгээчин үнэлсэн эсэх, бусад биет бус хөрөнгийн бүрэлдэхүүн болон бусад тайлбар тэмдэглэлийг хийнэ)
A37: .......................................................................................................................................................................................
A38: .......................................................................................................................................................................................
A39: .......................................................................................................................................................................................
A40: .......................................................................................................................................................................................
A41: .......................................................................................................................................................................................
A42: .......................................................................................................................................................................................

Sheet тод11-14
A2: 11. Дуусаагүй барилга
A4: № | B4: Дуусаагүй барилгын | C4: Эхэлсэн он | D4: Дуусгалтын | E4: Нийт төсөвт өртөг | F4: Ашиглалтанд орох эцсийн хугацаа
B5: нэр | D5: Хувь
A6: 1 | B6: 103 блок | C6: 2015 | D6: 10
A7: 2
A8: 3 | B8: Нийт дүн
A10: 12 БИОЛОГИЙН ХӨРӨНГӨ
A12: № | B12: Биологийн хөрөнгийн төрөл | C12: Эхний үлдэгдэл | E12: Эцсийн үлдэгдэл
C13: тоо | D13: дансны үнэ | E13: тоо | F13: дансны үнэ
A14: 1
A15: 2 | B15: Нийт дүн
A17: Тэмдэглэл. (Биологийн хөрөнгийн хэмжилтийн суурь болон бусад тайлбар, тэмдэглэлийг хийнэ).
A21: 13. УРТ ХУГАЦААТ ХӨРӨНГӨ ОРУУЛАЛТ
A22: № | B22: Хөрөнгө оруулалтын төрөл | C22: Эхний үлдэгдэл | E22: Эцсийн үлдэгдэл
C23: Хөрөнгө оруулалтын хувь | D23: Хөрөнгө оруулалтын дүн | E23: Хөрөнгө оруулалтын хувь | F23: Хөрөнгө оруулалтын дүн
A24: 1
A25: 2
A26: 3
A27: 4 | B27: Нийт дүн
A29: Тэмдэглэл. ( Урт хугацаат хөрөнгө оруулалттай холбоотой бий болсон олз, гарзын дүн, бүртгэсэн аргыг тодруулна. Охин компани, хамтын хяналттай аж ахуйн нэгж, хараат компанид оруулсан хөрөнгө оруулалтыг НББОУС 27 Нэгтгэсэн болон тусдаа санхүүгийн тайлан – ийн дагуу тодруулна).
A32: 14. ХӨРӨНГӨ ОРУУЛАЛТЫН ЗОРИУЛАЛТТАЙ ҮЛ ХӨДЛӨХ ХӨРӨНГӨ
A34: Тэмдэглэл. (Хөрөнгө оруулалтын зориулалттай үл хөдлөх хөрөнгийн хувьд ашигласан хэмжилтийн суурь; бодит үнэ цэнийн загвар ашигладаг бол бодит үнэ цэнийг тодорхойлоход ашигласан арга, бодит үнэ цэнийн тохируулгаас үүссэн олз, гарз; хэрэв түрээслэдэг бол түрээсийн орлого, түрээслэсэн хөрөнгөтэй холбоотой гарсан зардлууд. Хэрэв өртгийн загвар ашигладаг бол хөрөнгийн ашиглалтын хугацаа, элэгдэл тооцох арга болон НББОУС 40 Хөрөнгө оруулалтын зориулалттай үл хөдлөх хөрөнгө – д заасны дагуу бусад тодруулгыг хийнэ).
A35: .......................................................................................................................................................................................
A36: .......................................................................................................................................................................................
A37: .......................................................................................................................................................................................
A38: .......................................................................................................................................................................................
A39: .......................................................................................................................................................................................
A40: .......................................................................................................................................................................................
A41: .......................................................................................................................................................................................

Sheet тод-15-16
A1: 15. БУСАД ЭРГЭЛТИЙН БУС ХӨРӨНГӨ
A3: № | B3: Төрөл | C3: Эхний үлдэгдэл | D3: Эцсийн үлдэгдэл
A4: 1
A5: 2
A6: 3 | B6: Нийт дүн
A8: Тэмдэглэл. ( Бусад эргэлтийн бус хөрөнгийн төрөл тус бүрээр тайлбар, тэмдэглэлийг хийнэ. Урт хугацаат авлагыг тодруулна).
A10: .......................................................................................................................................................................................
A11: .......................................................................................................................................................................................
A12: 16. ӨР ТӨЛБӨР
A13: 16.1 Дансны өглөг
A15: № | B15: Ангилал | C15: Эхний үлдэгдэл | D15: Эцсийн үлдэгдэл
A16: 1 | B16: - Төлөгдөх хугацаандаа байгаа | C16: =Balance!C35 -> 21869948 | D16: =Balance!D35 -> 21920948
A17: 2 | B17: - Хугацаа хэтэрсэн
A18: 3
A19: 4 | B19: Нийт дүн | C19: =SUM(C16:C18) -> 21869948 | D19: =SUM(D16:D18) -> 21920948 | E19: =D19-Balance!D35 -> 0
A21: 16.2 Татварын өр
A22: № | B22: Татварын өрийн төрөл | C22: Эхний үлдэгдэл | D22: Эцсийн үлдэгдэл
A23: 1 | B23: ААНОАТ өр
A24: 2 | B24: НӨАТ-ын өр | C24: 0
A25: 3 | B25: ХХОАТ-ын өр | C25: 403645.34 | D25: ='гүйлгээ баланс '!K129 -> 325245.8
A26: 4 | B26: ОАТ-ын өр | C26: 0 | D26: 0
A27: 5 | B27: Бусад татварын өр | C27: 84614500 | D27: ='гүйлгээ баланс '!K137 -> 84614500
A28: 6
A29: 7 | B29: Нийт дүн | C29: 85018145 | D29: =SUM(D23:D28) -> 84939746 | E29: =D29-Balance!D37 -> 0
A31: 16.3 Богино хугацаат зээл
E32: =E19 -> 0
A33: № | B33: Үзүүлэлт | C33: Эхний үлдэгдэл
C34: төгрөгөөр | D34: валютаар | E34: төгрөгөөр | F34: валютаар
A35: 1 | B35: - Төлөгдөх хугацаандаа байгаа
A36: 2 | B36: - Хугацаа хэтэрсэн
A37: 3
A38: 4 | B38: Нийт дүн
A39: 16.3 Богино хугацаат зээл
A41: 16.4 Богино хугацаат нөөц (өр төлбөр)
A43: № | B43: Нөөцийн төрөл | C43: Эхний үлдэгдэл | D43: Нэмэгдсэн | E43: Хасагдсан (ашигласан нөөц) (-) | F43: Ашиглаагүй буцаан бичсэн дүн | G43: Эцсийн үлдэгдэл
A44: 1 | B44: Баталгаат засварын
A45: 2 | B45: Нөхөн сэргээлтийн
A46: 3
A47: 4 | B47: Нийт дүн
A49: Тэмдэглэл. (Урт хугацаат нөөцийн дүнг тодруулна. Нөөцийн төрлөөр тайлбар, тэмдэглэл хийнэ).
...

Sheet тод-16-17
A2: 16.5 Бусад богино хугацаат өр төлбөр
A4: № | B4: Төрөл | C4: Эхний үлдэгдэл | D4: Эцсийн үлдэгдэл
A5: 1 | C5: =Balance!C44 -> 2.1856612e+08 | D5: =Balance!C44 -> 2.1856612e+08
A6: 2 | B6: Нийт дүн | C6: =SUM(C5) -> 2.1856612e+08 | D6: =SUM(D5) -> 2.1856612e+08 | E6: =Balance!C44-D6 -> 0
A7: Тэмдэглэл. (Гадаад валютаар илэрхийлэгдсэн богино хугацаат өр төлбөрийн дүнг тусад нь тодруулна).
A8: гадаад валютаар илэрхийлэгдсэн өр төлбөр байхгүй
A11: 16.6 Урт хугацаат зээл болон бусад урт хугацаат өр төлбөр
A13: № | B13: Төрөл | C13: Эхний үлдэгдэл | E13: Эцсийн үлдэгдэл
C14: төгрөгөөр | D14: валютаар | E14: төгрөгөөр | F14: валютаар
A15: 1 | B15: Урт хугацаат зээлийн дүн
B16: Гадаадын байгууллагаас шууд авсан зээл
B17: Гадаадын байгууллагаас дамжуулан авсан зээл
B18: Дотоодын эх үүсвэрээс авсан зээл
A19: 2 | B19: Бусад урт хугацаат өр төлбөрийн дүн (гадаад, дотоодын зах зээлд гаргасан бонд, өрийн бичиг | C19: =Balance!C49 -> 1.06726e+10 | E19: =Balance!D49 -> 9.1367564e+09 | G19: =E19-Balance!D49 -> 0
A20: 3
A21: Тэмдэглэл. (Урт хугацаат зээл болон бусад урт хугацаат өр төлбөрийн төрлөөр тайлбар, тэмдэглэл хийнэ).
A28: 17. ЭЗДИЙН ӨМЧ
A30: 17.1 Өмч
A32: № | B32: Үзүүлэлт | C32: Эргэлтэнд байгаа бүрэн төлөгдсөн энгийн хувьцаа | E32: Давуу эрхтэй хувьцаа | G32: Өмчийн дүн (төгрөгөөр)
C33: Тоо | D33: Дүн (төгрөгөөр) | E33: Тоо ширхэг | F33: Дүн (төгрөгөөр)
C34: ширхэг
A35: 1 | B35: Эхний үлдэгдэл | D35: 162780700 | G35: =D35 -> 162780700
A36: 2 | B36: Нэмэгдсэн
A37: 3 | B37: Хасагдсан (-)
A38: 4 | B38: Эцсийн үлдэгдэл

Sheet то-17-18
A1: 17.2 Хөрөнгийн дахин үнэлгээний нэмэгдэл
A2: № | B2: Үзүүлэлт | C2: Үндсэн хөрөнгийн дахин үнэлгээний нэмэгдэл | D2: Биет бус хөрөнгийн дахин үнэлгээний нэмэгдэл | E2: Нийт дүн
A3: 1 | B3: Эхний үлдэгдэл
A4: 2 | B4: Нэмэгдсэн дүн
B5: Дахин үнэлгээний нэмэгдлийн зөрүү
B6: Дахин үнэлгээний нэмэгдлийн зөрүү
B7: Дахин үнэлсэн хөрөнгийн үнэ цэнийн бууралтын гарзын буцаалт[1]
A8: 3 | B8: Хасагдсан дүн (-)
B9: Дахин үнэлгээний нэмэгдлийн зөрүү
B10: Дахин үнэлгээний нэмэгдлийн хэрэгжсэн дүн
B11: Дахин үнэлсэн хөрөнгийн үнэ цэнийн бууралтын гарз[2]
A12: 4 | B12: Эцсийн үлдэгдэл
A15: 17.3 Гадаад валютын хөрвүүлэлтийн нөөц
A17: № | B17: Үзүүлэлт | C17: Эхний үлдэгдэл | D17: Нэмэгдсэн | E17: Хасагдсан (-) | F17: Эцсийн үлдэгдэл
A18: 1 | B18: Гадаад үйл ажиллагааны хөрвүүлэлтээс үүссэн зөрүү
A19: 2 | B19: Бүртгэлийн валютыг толилуулгын валют руу хөрвүүлснээс үүссэн зөрүү
A20: 3 | B20: Бусад
A21: 4 | B21: Нийт дүн
A24: 17.4 Эздийн өмчийн бусад хэсэг
A26: Тэмдэглэл. (Эздийн өмчийн бусад хэсгийн бүрэлдэхүүн тус бүрээр тодруулж тайлбар, тэмдэглэл хийнэ).
A33: 18.БОРЛУУЛАЛТЫН ОРЛОГО БОЛОН БОРЛУУЛАЛТЫН ӨРТӨГ
A34: № | B34: Үзүүлэлт | C34: Өмнөх оны дүн | D34: Тайлант оны дүн
A35: 1 | B35: Борлуулалтын орлого:
A36: 1.1 | B36: Бараа, бүтээгдэхүүн борлуулсны орлого: | D36: 0
A38: 1.2 | B38: Ажил, үйлчилгээ борлуулсны орлого: | D38: 0
A40: 1.3 | B40: Нийт борлуулалтын орлого | D40: =D38+D36 -> 0
A41: 2 | B41: Борлуулалтын буцаалт, хөнгөлөлт, үнийн бууралт (-) | D41: 0
A42: 3 | B42: Цэвэр борлуулалт | D42: =D40-D41 -> 0
A45: [1] Дахин үнэлсэн хөрөнгийн өмнөх тайлант хугацаанд ашиг, алдагдлаар хүлээн зөвшөөрсөн үнэ цэнийн бууралтын гарзын дүнгээс хэтэрсэн дүн.
A46: [2] Дахин үнэлсэн хөрөнгийн үнэ цэнийн бууралтын гарз нь тухайн хөрөнгийн дахин үнэлгээний нэмэгдлийн дүнгээс хэтрэхгүй хэмжээ хүртэл байхаар дахин үнэлсэн хөрөнгийн үнэ цэнийн бууралтын гарзыг бусад дэлгэрэнгүй орлогод хүлээн зөвшөөрнө. Үлдсэн дүнг ашиг, алдагдлаар хүлээн зөвшөөрнө.

Sheet тод-18-20
A1: 4 | B1: Борлуулалтын өртөг:
A2: 4.1 | B2: Борлуулсан бараа, бүтээгдэхүүний өртөг | D2: 0
A4: 4.2 | B4: Борлуулсан ажил, үйлчилгээний өртөг | D4: 0
A6: 4.3 | B6: Нийт борлуулалтын өртөг | D6: =SUM(D2:D5) -> 0
A9: 19. БУСАД ОРЛОГО, ОЛЗ (ГАРЗ), АШИГ (АЛДАГДАЛ)
A10: 19.1 Бусад орлого
A12: № | B12: Орлогын төрөл | C12: Өмнөх оны дүн | D12: Тайлант оны дүн
A13: 1
A14: 2
A15: 3 | B15: Нийт дүн
A16: 19.2 Гадаад валютын ханшийн зөрүүний олз, гарз
A18: № | B18: Төрөл | C18: Өмнөх оны дүн | D18: Тайлант оны дүн
A19: 1 | B19: Мөнгөн хөрөнгийн үлдэгдэлд хийсэн ханшийн тэгшитгэлийн ханшийн зөрүү | D19: 0
A20: 2 | B20: Эргэлтийн авлага, өр төлбөртэй холбоотой үүссэн ханшийн зөрүү
A21: 3 | B21: Эргэлтийн бус авлага, өр төлбөртэй холбоотой үүссэн ханшийн зөрүү
A22: 4 | B22: Валютын арилжаанаас үүссэн олз/гарз | C22: =IS!C19 -> 0 | D22: =IS!D19 -> 0
A23: 5 | B23: Нийт дүн | C23: =SUM(C19:C22) -> 0 | D23: =SUM(D19:D22) -> 0
A24: 19.3 Бусад ашиг (алдагдал)
A26: № | B26: Ашиг (алдагдал) | C26: Өмнөх оны дүн | D26: Тайлант оны дүн
A27: 1 | B27: Хөрөнгийн үнэ цэнийн бууралтын гарз | D27: 0
A28: 2 | B28: ХОЗҮХХ[1]-ийн бодит үнэ цэнийн өөрчлөлтийн олз, гарз
A29: 3 | B29: ХОЗҮХХ данснаас хассаны олз, гарз
A30: 4 | B30: Хөрөнгийн дахин үнэлгээний олз, гарз
A31: 5 | B31: Хөрөнгийн үнэ цэнийн бууралтын гарз (гарзын буцаалт)
A32: 6
A33: 7 | B33: Нийт дүн | D33: 0
A35: 20. ЗАРДАЛ
A37: 20.1 Борлуулалт маркетингийн болон ерөнхий ба удирдлагын зардлууд
A38: № | B38: Зардлын төрөл | C38: Өмнөх оны дүн | E38: Тайлант оны дүн
C39: БорМар | D39: ЕрУд | E39: БорМар | F39: ЕрУд
A40: 1 | B40: Ажиллагчдын цалингийн зардал | D40: 18236842 | F40: ='гүйлгээ баланс '!I163 -> 17360870
A41: 2 | B41: Аж ахуйн нэгжээс төлсөн НДШ-ийн зардал | D41: 1914868.4 | F41: ='гүйлгээ баланс '!I167 -> 1822891.3 | H41: =F40+F41-IS!D16 -> -4942354.8
A42: 3 | B42: Албан татвар, төлбөр, хураамжийн зардал | D42: 137500
A43: 4 | B43: Томилолтын зардал | D43: 0 | F43: 0
A44: 5 | B44: Бичиг хэргийн зардал | F44: ='гүйлгээ баланс '!I180+'гүйлгээ баланс '!I175+'гүйлгээ баланс '!I176 -> 56500
A45: 6 | B45: Шуудан холбооны зардал
A46: 7 | B46: Мэргэжлийн үйлчилгээний зардал | D46: 6538681.8 | F46: {='гүйлгээ баланс '!I186:I187-140017.89} -> 4362709.4
F47: -140017.89
A49: [1] Хөрөнгө оруулалтын зориулалттай үл хөдлөх хөрөнгө.

Sheet тод20-21
A1: 8 | B1: Сургалтын зардал
A2: 9 | B2: Сонин сэтгүүл захиалгын зардал
A3: 10 | B3: Даатгалын зардал | D3: 0 | F3: 0
A4: 11 | B4: Ашиглалтын зардал | D4: 0 | F4: 0
A5: 12 | B5: Засварын зардал
A6: 13 | B6: Элэгдэл, хорогдлын зардал | D6: 2419723.8 | F6: ='гүйлгээ баланс '!I171 -> 523145.38
A7: 14 | B7: Түрээсийн зардал
A8: 15 | B8: Харуул хамгааллын зардал | D8: 0 | F8: 0
A9: 16 | B9: Цэвэрлэгээ үйлчилгээний зардал | D9: 0 | F9: 0
A10: 17 | B10: Тээврийн зардал | D10: 0 | F10: 0
A11: 18 | B11: Шатахууны зардал
A12: 19 | B12: Хүлээн авалтын зардал | D12: 0 | F12: 0
A13: 20 | B13: Зар сурталчилгааны зардал | D13: 113636.36
A14: 21 | B14: бусад зардал | D14: 18920
A15: 22 | B15: үл хадлах хөрөнгийн татвар зардал
A16: 23 | B16: Нийт дүн | C16: 0 | D16: =SUM('тод-18-20'!D40:D46)+SUM('тод20-21'!D1:D15) -> 29380172 | E16: =SUM('тод-18-20'!E40:E46)+SUM('тод20-21'!E1:E15) -> 0 | F16: =SUM('тод-18-20'!F40:F46)+SUM('тод20-21'!F1:F15) -> 24126116 | G16: =F16-IS!D16 -> 0
D17: =D16-IS!C16 -> 0
A18: 20.2 Бусад зардал
A20: № | B20: Зардлын төрөл | C20: Өмнөх оны дүн | D20: Тайлант оны дүн
A21: 1 | B21: Алданги, торгуулийн зардал | D21: 0
A22: 2 | B22: Хандивийн зардал | D22: 0
A23: 3 | B23: Найдваргүй авлагын зардал | D23: 0
A24: 4 | B24: бусап зардал | D24: 0
A25: 5 | B25: Нийт дүн | D25: =SUM(D21:D24) -> 0
A27: 20.3 Цалингийн зардал
A29: Ангилал | B29: Ажиллагчдын дундаж тоо | C29: Цалингийн зардлын дүн
C30: Өмнөх оны дүн | D30: Тайлант оны дүн
A31: Үйлдвэрлэл, үйлчилгээний
A33: Борлуулалт маркетингийн
A35: Ерөнхий ба удирдлагын | B35: 32400000 | D35: ='тод-18-20'!F40 -> 17360870
A37: Нийт дүн | B37: =SUM(B31:B36) -> 32400000 | C37: =SUM(C31:C36) -> 0 | D37: =SUM(D31:D36) -> 17360870
A40: 21. ОРЛОГЫН ТАТВАРЫН ЗАРДАЛ
A41: № | B41: Үзүүлэлт | C41: Өмнөх оны дүн | D41: Тайлант оны дүн
A42: 1 | B42: Тайлант үеийн орлогын татварын зардал | C42: 0
A43: 2 | B43: Хойшлогдсон татварын зардал (орлого)
A44: 3 | B44: Орлогын татварын зардал (орлого) – ын нийт дүн | D44: =D42 -> 0
A45: Тэмдэглэл. (Орлогын татварын зардал (орлого) - ын бүрэлдэхүүн тус бүрээр тайлбар, тэмдэглэл хийнэ).
A52: ЛУУД

Sheet тод22-24
A1: 22. ХОЛБООТОЙ ТАЛУУДЫН ТОДРУУЛГА
A3: 22.1 Толгой компани, хамгийн дээд хяналт тавигч компани, хувь хүний талаарх мэдээлэл[1]
A5: Үзүүлэлт | B5: Толгой компани | C5: Хамгийн дээд хяналт тавигч толгой компани | D5: Хамгийн дээд хяналт тавигч хувь хүн | E5: Тайлбар
A6: Нэр
A7: Бүртгэгдсэн (оршин суугаа) улс | B7: монгол
A8: Эзэмшлийн хувь
A10: 22.2 Тэргүүлэх удирдлагын бүрэлдэхүүнд олгосон нөхөн олговрын тухай мэдээлэл
A11: Тэргүүлэх удирдлага гэдэгт .................................................................................. бүрэлдэхүүнийг хамруулав.[2]
A12: № | B12: Нөхөн олговрын нэр | C12: Өмнөх оны дүн | D12: Тайлант оны дүн
A13: 1 | B13: Богино болон урт хугацааны тэтгэмж
A14: 2 | B14: Ажил эрхлэлтийн дараах, ажлаас халагдсаны тэтгэмж
A15: 3 | B15: Хувьцаанд суурилсан төлбөр
A16: 6 | B16: Нийт дүн
A18: 22.3 Холбоотой талуудтай хийсэн ажил гүйлгээ
A19: № | B19: Холбоотой талын нэр | C19: Ажил гүйлгээний утга | D19: Дүн | E19: Тайлбар
A20: 1
A21: 2
A23: 23. БОЛЗОШГҮЙ ХӨРӨНГӨ БА ӨР ТӨЛБӨР
A24: Тэмдэглэл. (Болзошгүй хөрөнгө ба өр төлбөрийн мөн чанар, хэрэв практик боломжтой бол тэдгээрийн санхүүгийн нөлөөний тооцооллыг тодруулна
A29: 24. ТАЙЛАГНАЛЫН ҮЕИЙН ДАРААХ ҮЙЛ ЯВДАЛ
A31: Тэмдэглэл. (Тайлагналын өдрийн дараах үл залруулагдах үйл явдлын материаллаг ангилал тус бүрийн хувьд мөн чанар, санхүүгийн нөлөөллийн тооцоолол зэргийг тодруулж бусад тайлбар, тэмдэглэл хийнэ).
A42: [1] НББОУС 24 Холбоотой талуудын тодруулга-д заасны дагуу тодруулна.
A43: [2] Тэргүүлэх удирдлагад ямар бүрэлдэхүүнийг хамруулснаа тодруулна. Тухайлбал, захирлуудын зөвлөл, удирдах зөвлөлийн гишүүд гэх мэт.

Sheet тод 25
A1: 25. ХӨРӨНГӨ ОРУУЛАЛТ
A2: № | B2: Үзүүлэлт | C2: Эхний үлдэгдэл | D2: Тайлант хугацаанд хийгдсэн хөрөнгө оруулалт (төгрөгөөр) | N2: Эцсийн үлдэгдэл
D3: Аж ахуйн нэгжийн өөрийн хөрөнгөөр | E3: Улсын төсвийн хөрөнгөөр | F3: Орон нутгийн төсвийн хөрөнгөөр | G3: Банкны зээл | H3: Гадаадын шууд хөрөнгө оруулалт | I3: Гадаадын зээл | J3: Гадаадын буцалтгүй тусламж | K3: Төсөл, хөтөлбөр, хандив | L3: Бусад эх үүсвэр | M3: Дүн
A4: 1 | B4: Биет хөрөнгө:
A5: 1.1 | B5: Газрын сайжруулалт
A6: 1.2 | B6: Барилга, байгууламж
A7: 1.2.1 | B7: Үүнээс: Орон сууцны барилга
A8: 1.2.2 | B8: Авто зам
A9: 1.3 | B9: Машин тоног, төхөөрөмж
A10: 1.4 | B10: Тээврийн хэрэгсэл
A11: 1.5 | B11: Тавилга эд хогшил
A12: 1.6 | B12: Компьютер, бусад хэрэгсэл
A13: 1.7 | B13: Биологийн хөрөнгө
A14: 1.8 | B14: Бусад биет хөрөнгө:
A15: 1.9 | B15: Үүнээс: ХОЗҮХХ
A16: 1.10 | B16: Биет хөрөнгийн дүн
A17: 2 | B17: Биет бус хөрөнгө:
A18: 2.1 | B18: Зохиогчийн эрх
A19: 2.2 | B19: Компьютерийн программ хангамж
A20: 2.2.1 | B20: Үүнээс: Программ хангамж
A21: 2.2.2 | B21: Мэдээллийн сан
A22: 2.3 | B22: Патент
A23: 2.4 | B23: Барааны тэмдэг
A24: 2.5 | B24: Тусгай зөвшөөрөл
A25: 2.6 | B25: Газар эзэмших эрх
A26: 2.7 | B26: Бусад биет бус хөрөнгө
A27: 2.7.1 | B27: Үүнээс: Зураг төсвийн ажил, ТЭЗҮ боловсруулах, туршилт судалгаа
A28: 2.8 | B28: Биет бус хөрөнгийн дүн
A29: 3 | B29: Хайгуул үнэлгээний хөрөнгө
A30: 3.1 | B30: Үүнээс: Биет хөрөнгө
A31: 3.2 | B31: Биет бус хөрөнгө
A32: 4 | B32: Нийт дүн
A33: ХОЗҮХХ – Хөрөнгө оруулалтын зориулалттай үл хөдлөх хөрөнгө

Sheet компан хоор өглөг авлагын тооцо
B3: Компани хоорондын авлага
B4: Стандарт Проперти ХХК | C4: 8.996167e+09
B5: нийт дүн | C5: 0
C6: 0
B7: Компани хоорондын өглөг
B8: Стандарт Инвестмент ХХК | C8: 47764314
B9: Финаншл групп ХХК | C9: 1.7080181e+08
B10: нийт дүн | C10: =SUM(C8:C9) -> 2.1856612e+08
C30: 0

Sheet  цалин
A2: БАТЛАВ.ЗАХИРАЛ
A4: "СТАНДАРТ ПРОПЕРТИ ГРУПП" ХК-2025
A7: Б. Хуяг
A8: Н.Баярсайхан
A9: Сар | B9: Батлагдсан цалин | C9: Эрүүл мэнд, нийгмийн даатгалын шимтгэл | E9: Татвар ноогдох орлого | F9: Нооглдуулсан татварын 10% | G9: 23.1-т заасан хөнгөлөлт | H9: Төлбөл зохих албан татвар | I9: гарт олгох
C10: НДШ-10.5% | D10: НДШ-10.5%
A11: 1-р сар | B11: 1500000 | C11: =B11*0.105 -> 157500 | D11: =B11*0.105 -> 157500 | E11: =B11-D11 -> 1342500 | F11: =E11*0.1 -> 134250 | G11: 0 | H11: =F11-G11 -> 134250 | I11: =B11-D11-H11 -> 1208250 | J11: =H11+D11 -> 291750
A12: 2-р сар | B12: 1500000 | C12: =B12*0.105 -> 157500 | D12: =B12*0.105 -> 157500 | E12: =B12-D12 -> 1342500 | F12: =E12*0.1 -> 134250 | G12: 0 | H12: =F12-G12 -> 134250 | I12: =B12-D12-H12 -> 1208250
A13: 3-р сар | B13: 1500000 | C13: =B13*0.105 -> 157500 | D13: =B13*0.105 -> 157500 | E13: =B13-D13 -> 1342500 | F13: =E13*0.1 -> 134250 | G13: 0 | H13: =F13-G13 -> 134250 | I13: =B13-D13-H13 -> 1208250
B14: =SUM(B11:B13) -> 4500000 | C14: =SUM(C11:C13) -> 472500 | D14: =SUM(D11:D13) -> 472500 | E14: =SUM(E11:E13) -> 4027500 | F14: =SUM(F11:F13) -> 402750 | G14: 0 | H14: =SUM(H11:H13) -> 402750 | I14: =SUM(I11:I13) -> 3624750
A15: 4-р сар | B15: 1500000 | C15: =B15*0.105 -> 157500 | D15: =B15*0.105 -> 157500 | E15: =B15-D15 -> 1342500 | F15: =E15*0.1 -> 134250 | G15: 0 | H15: =F15 -> 134250 | I15: =B15-D15-F15 -> 1208250
A16: 5-р сар | B16: 1500000 | C16: =B16*0.105 -> 157500 | D16: =B16*0.105 -> 157500 | E16: =B16-D16 -> 1342500 | F16: =E16*0.1 -> 134250 | G16: 0 | H16: =F16 -> 134250 | I16: =B16-D16-F16 -> 1208250
A17: 6-р сар | B17: 1500000 | C17: =B17*0.105 -> 157500 | D17: =B17*0.105 -> 157500 | E17: =B17-D17 -> 1342500 | F17: =E17*0.1 -> 134250 | G17: 0 | H17: =F17 -> 134250 | I17: =B17-D17-F17 -> 1208250
B18: =SUM(B15:B17) -> 4500000 | C18: =SUM(C15:C17) -> 472500 | D18: =B18*0.113 -> 508500 | E18: =SUM(E15:E17) -> 4027500 | F18: =SUM(F15:F17) -> 402750 | G18: =SUM(G15:G17) -> 0 | H18: =SUM(H15:H17) -> 402750 | I18: =SUM(I15:I17) -> 3624750 | J18: =SUM(J15:J17) -> 0
A19: 7-р сар | B19: 1500000 | C19: =B19*0.105 -> 157500 | D19: =B19*0.105 -> 157500 | E19: =B19-D19 -> 1342500 | F19: =E19*0.1 -> 134250 | G19: 0 | H19: =F19 -> 134250 | I19: =B19-D19-F19 -> 1208250
A20: 8-р сар | B20: 1500000 | C20: =B20*0.105 -> 157500 | D20: =B20*0.105 -> 157500 | E20: =B20-D20 -> 1342500 | F20: =E20*0.1 -> 134250 | G20: 0 | H20: =F20 -> 134250 | I20: =B20-D20-F20 -> 1208250
A21: 9-р сар | B21: 1500000 | C21: =B21*0.105 -> 157500 | D21: =B21*0.105 -> 157500 | E21: =B21-D21 -> 1342500 | F21: =E21*0.1 -> 134250 | G21: 0 | H21: =F21 -> 134250 | I21: =B21-D21-F21 -> 1208250
B22: =SUM(B19:B21) -> 4500000 | C22: =SUM(C19:C21) -> 472500 | D22: =SUM(D19:D21) -> 472500 | E22: =SUM(E19:E21) -> 4027500 | F22: =SUM(F19:F21) -> 402750 | G22: =SUM(G19:G21) -> 0 | H22: =SUM(H19:H21) -> 402750 | I22: =SUM(I19:I21) -> 3624750
A23: 10-р сар | B23: 1500000 | C23: =B23*0.105 -> 157500 | D23: =B23*0.105 -> 157500 | E23: =B23-D23 -> 1342500 | F23: =E23*0.1 -> 134250 | G23: 0 | H23: =F23-G23 -> 134250 | I23: =B23-D23-F23 -> 1208250
A24: 11-р сар | B24: 1500000 | C24: =B24*0.105 -> 157500 | D24: =B24*0.105 -> 157500 | E24: =B24-D24 -> 1342500 | F24: =E24*0.1 -> 134250 | G24: 0 | H24: =F24-G24 -> 134250 | I24: =B24-D24-F24 -> 1208250
A25: 12-р сар | B25: 860870 | C25: =B25*0.105 -> 90391.35 | D25: =B25*0.105 -> 90391.35 | E25: =B25-D25 -> 770478.65 | F25: =E25*0.1 -> 77047.865 | G25: 0 | H25: =F25-G25 -> 77047.865 | I25: =B25-D25-F25 -> 693430.79 | K25: =H25+D25 -> 167439.21
B26: =SUM(B23:B25) -> 3860870 | C26: =SUM(C23:C25) -> 405391.35 | D26: =SUM(D23:D25) -> 405391.35 | E26: =SUM(E23:E25) -> 3455478.6 | F26: =SUM(F23:F25) -> 345547.86 | G26: =SUM(G23:G25) -> 0 | H26: =SUM(H23:H25) -> 345547.86 | I26: =SUM(I23:I25) -> 3109930.8 | J26: =SUM(J23:J25) -> 0
B27: =B14+B18+B22+B26 -> 17360870 | C27: =C14+C18+C22+C26 -> 1822891.4 | D27: =D14+D18+D22+D26 -> 1858891.4 | E27: =E14+E18+E22+E26 -> 15537979 | F27: =F14+F18+F22+F26 -> 1553797.9 | G27: =G14+G18+G22+G26 -> 0 | H27: =H14+H18+H22+H26 -> 1553797.9 | I27: =I14+I18+I22+I26 -> 13984181 | J27: =10100000 -> 10100000
M29: уд

Sheet НӨАТ

Sheet  и баримт тулгалт 

Sheet Sheet2
