Workbook

Sheet Dans
N1: =SUM(N4:N10) -> 289154500 | O1: =SUM(O5:O10) -> 10500000 | P1: =SUM(P5:P10) -> 59764884 | Q1: =SUM(Q5:Q10) -> 17208000
A2: Хэрэглэгч: ЖИДАКС ХК Харилцах -MNT /2025 он/
A3: Орлого | B3: 1 сар | C3: 2 сар | D3: 3 сар | E3: 4 сар | F3: 5 сар | G3: 6 сар | H3: 7 сар | I3: 8 сар | J3: 9 сар | K3: 10 сар | L3: 11 сар | M3: 12 сар | N3: Хаан төгрөг | O3: ХХБанк төгрөг | P3: ХХБ-Доллар | Q3: Golomt | R3: Нийт | S3: Мөнгөн гүйлгээ
A4: Данс хооронд орлого | B4: 100000 | H4: 0 | I4: 0 | J4: 0 | K4: 0 | L4: 0 | M4: 0 | N4: =SUM(B4:M4) -> 100000 | O4: =+'[1]TDBM mnt'!N5 -> 47109400 | R4: =SUM(N4:Q4) -> 47209400
A5: Борлуулалтын орлого | B5: 58080000 | D5: 11020000 | E5: 34131500 | F5: 7970000 | G5: 27658000 | H5: 14350000 | I5: 21165000 | J5: 34350000 | K5: 18090000 | L5: =SUMIF('[1]khan10-12'!$G$18:$G$27,A5,'[1]khan10-12'!$H$18:$H$27) -> 14650000 | M5: 19290000 | N5: =SUM(B5:M5) -> 260754500 | Q5: =+[1]Golomt!G8+[1]Golomt!G12 -> 17208000 | R5: =SUM(N5:Q5) -> 277962500 | S5: Бараа борлуулсан, үйлчилгээ үзүүлсэний орлого
A6: Зээл төлөв. МДК-с | H6: 0 | I6: 0 | J6: 0 | K6: 0 | L6: =SUMIF('[1]khan10-12'!$G$18:$G$27,A6,'[1]khan10-12'!$H$18:$H$27) -> 0 | M6: 0 | N6: =SUM(B6:M6) -> 0 | R6: =SUM(N6:Q6) -> 0
A7: Зээл төлөв. Акататур-с | E7: 5000000 | H7: 0 | I7: 0 | J7: 0 | K7: 0 | L7: =SUMIF('[1]khan10-12'!$G$18:$G$27,A7,'[1]khan10-12'!$H$18:$H$27) -> 0 | M7: 0 | N7: =SUM(B7:M7) -> 5000000 | O7: 1000000 | R7: =SUM(N7:Q7) -> 6000000 | S7: Бусдад олгосон зээл, мөнгөн урьдчилгааны буцаан төлөлт
A8: Зээл төлөв. Их Бараат-с | H8: 0 | I8: 0 | J8: 0 | K8: 0 | L8: =SUMIF('[1]khan10-12'!$G$18:$G$27,A8,'[1]khan10-12'!$H$18:$H$27) -> 0 | M8: 0 | N8: =SUM(B8:M8) -> 0 | R8: =SUM(N8:Q8) -> 0
A9: Зээлдүүлэв. Лий-с | B9: 10000000 | D9: 2500000 | E9: 200000 | G9: 3800000 | H9: 1800000 | I9: 0 | J9: 0 | K9: 2000000 | L9: =SUMIF('[1]khan10-12'!$G$18:$G$27,A9,'[1]khan10-12'!$H$18:$H$27) -> 1000000 | M9: 2000000 | N9: =SUM(B9:M9) -> 23300000 | O9: =+'[1]TDBM mnt'!N9 -> 9500000 | R9: =SUM(N9:Q9) -> 32800000 | S9: Бусдад олгосон зээл, мөнгөн урьдчилгааны буцаан төлөлт
A10: БО Айти үйлчилгээний | H10: 0 | I10: 0 | J10: 0 | K10: 0 | L10: 0 | M10: 0 | N10: =SUM(B10:M10) -> 0 | P10: =+'[1]TDBM USD'!H11+'[1]TDBM USD'!H13+'[1]TDBM USD'!H16 -> 59764884 | R10: =SUM(N10:Q10) -> 59764884 | S10: Бусад мөнгөн орлого | T10: uoo
A11: Зарлага | H11: 0 | I11: 0 | J11: 0 | K11: 0 | L11: 0 | M11: 0 | N11: =SUM(B11:M11) -> 0 | R11: =SUM(N11:Q11) -> 0 | T11: =+R10+Bor!K19 -> 67334384
A12: Гаалийн татварт | E12: 5216837.5 | H12: 2132000 | I12: 10500.93 | J12: 0 | K12: 0 | L12: 10600 | M12: 0 | N12: =SUM(B12:M12) -> 7369938.5 | R12: =SUM(N12:Q12) -> 7369938.5 | S12: Бараа материал худалдан авахад төлсөн
A13: БМ:Цагаан будаа 20кг | B13: 5925360 | H13: 0 | I13: 0 | J13: 0 | K13: 0 | L13: 0 | M13: 0 | N13: =SUM(B13:M13) -> 5925360 | O13: =+'[1]TDBM mnt'!N17+'[1]TDBM mnt'!N18+'[1]TDBM mnt'!N20 -> 12126960 | R13: =SUM(N13:Q13) -> 18052320 | S13: Бараа материал худалдан авахад төлсөн
A14: Цалин | B14: 1180490.4 | D14: 1292475 | E14: 1899845.4 | F14: 1113795.1 | G14: 718344.07 | H14: 718344 | I14: 718344 | J14: 718344 | K14: 687112 | L14: 718344 | M14: 718344 | N14: =SUM(B14:M14) -> 10483782 | O14: =+'[1]TDBM mnt'!N22 -> 1831425 | R14: =SUM(N14:Q14) -> 12315207 | S14: Ажиллагчдад төлсөн
A15: НӨАТ-Гааль | O15: =+'[1]TDBM mnt'!N19+'[1]TDBM mnt'!N21 -> 19161439 | R15: =SUM(N15:Q15) -> 19161439 | S15: Бараа материал худалдан авахад төлсөн
A16: НДШ | H16: 0 | I16: 0 | J16: 3000000 | K16: 0 | L16: 0 | M16: 1000000 | N16: =SUM(B16:M16) -> 4000000 | R16: =SUM(N16:Q16) -> 4000000 | S16: Нийгмийн даатгалын байгууллагад төлсөн
A17: ХХОАТ | H17: 0 | I17: 0 | J17: 0 | K17: 0 | L17: 0 | M17: 0 | N17: =SUM(B17:M17) -> 0 | R17: =SUM(N17:Q17) -> 0
A18: Түрээсийн барьцаа авлага | I18: 0 | J18: 1800000 | K18: 0 | L18: 0 | M18: 0 | N18: =SUM(B18:M18) -> 1800000 | R18: =SUM(N18:Q18) -> 1800000 | S18: Бусдад олгосон зээл болон урьдчилгаа
A19: Агуулахын түрээс | I19: 0 | J19: 1980000 | K19: 1980000 | L19: 1980000 | M19: 1980000 | N19: =SUM(B19:M19) -> 7920000 | R19: =SUM(N19:Q19) -> 7920000 | S19: Бусад мөнгөн зарлага
A20: Домайн нэрийн төлбөрт | J20: 0 | K20: 0 | L20: 191400 | M20: 0 | N20: =SUM(B20:M20) -> 191400 | R20: =SUM(N20:Q20) -> 191400 | S20: Бусад мөнгөн зарлага
A21: Мэргэжлийн үйлчилгээний төлбөрт | B21: 6000000 | D21: 1000000 | E21: 1000000 | F21: 500000 | H21: 0 | I21: 42500 | J21: 84500 | K21: 0 | L21: 0 | M21: 0 | N21: =SUM(B21:M21) -> 8627000 | O21: 1000000 | P21: 12850440 | R21: =SUM(N21:Q21) -> 22477440 | S21: Бусад мөнгөн зарлага
A22: Данс хооронд зарлага | O22: 100000 | P22: =+'[1]TDBM USD'!I17 -> 47109400 | R22: =SUM(N22:Q22) -> 47209400
A23: Банк шимтгэл | B23: 2000 | C23: 2000 | D23: 2000 | E23: 17000 | F23: 2000 | G23: 2000 | H23: 2000 | I23: 2000 | J23: 2000 | K23: 2000 | L23: 2000 | M23: 2000 | N23: =SUM(B23:M23) -> 39000 | O23: =+'[1]TDBM mnt'!N27 -> 13049.99 | P23: =+'[1]TDBM USD'!I21 -> 95292.3 | Q23: 2400 | R23: =+'[1]khan netgel 25.01-12'!$R$23 -> 198942.29 | S23: Бусад мөнгөн зарлага
A24: Бичиг хэрэг | B24: 14300 | F24: 151800 | H24: 0 | I24: 0 | J24: 0 | K24: 0 | L24: 0 | M24: 0 | N24: =SUM(B24:M24) -> 166100 | R24: =SUM(N24:Q24) -> 166100 | S24: Бусад мөнгөн зарлага
A25: Шатахуун | D25: 30000 | H25: 0 | I25: 0 | J25: 0 | K25: 0 | L25: 0 | M25: 0 | N25: =SUM(B25:M25) -> 30000 | R25: =SUM(N25:Q25) -> 30000 | S25: Түлш, шатахуун, тээврийн хөлс, сэлбэг хэрэгсэлд төлсөн
A26: Зээл төлөв. Лий-д | B26: 49000000 | E26: 10000000 | F26: 11200000 | G26: 20000000 | H26: 13000000 | I26: 21200000 | J26: 28000000 | K26: 12500000 | L26: 11000000 | M26: 17950000 | N26: =SUM(B26:M26) -> 193850000 | O26: =+'[1]TDBM mnt'!N13 -> 7300000 | Q26: =+[1]Golomt!H10 -> 8160000 | R26: =SUM(N26:Q26) -> 209310000 | S26: Бусдад олгосон зээл болон урьдчилгаа
A27: Зээлдүүлэв. Акататур ХХК-д | B27: 6000000 | E27: 5000000 | H27: 0 | I27: 0 | J27: 0 | K27: 0 | L27: 0 | M27: 0 | N27: =SUM(B27:M27) -> 11000000 | O27: =+'[1]TDBM mnt'!N14 -> 5000000 | R27: =SUM(N27:Q27) -> 16000000 | S27: Бусдад олгосон зээл болон урьдчилгаа
A28: Зээлдүүлэв. Их Бараат ХХК-д | D28: 1000000 | H28: 0 | I28: 0 | J28: 0 | K28: 0 | L28: 0 | M28: 0 | N28: =SUM(B28:M28) -> 1000000 | O28: =+'[1]TDBM mnt'!N15 -> 10000000 | R28: =SUM(N28:Q28) -> 11000000 | S28: Бусдад олгосон зээл болон урьдчилгаа
A29: Зээлдүүлэв. Эм Ди Кэй Ай ХХК-д | D29: 7000000 | E29: 2500000 | H29: 0 | I29: 0 | J29: 0 | K29: 0 | L29: 0 | M29: 0 | N29: =SUM(B29:M29) -> 9500000 | R29: =SUM(N29:Q29) -> 9500000 | S29: Бусдад олгосон зээл болон урьдчилгаа
A30: Маркетингийн зардал | D30: 2500000 | G30: 5500000 | H30: 0 | I30: 0 | J30: 0 | K30: 2900000 | L30: 926640 | M30: 0 | N30: =SUM(B30:M30) -> 11826640 | O30: 300000 | R30: =SUM(N30:Q30) -> 12126640 | S30: Бусад мөнгөн зарлага
A31: Тээврийн зардал | D31: 275000 | E31: 770000 | H31: 0 | I31: 0 | J31: 3363450 | K31: 2242300 | L31: 0 | M31: 0 | N31: =SUM(B31:M31) -> 6650750 | R31: =SUM(N31:Q31) -> 6650750 | S31: Бусад мөнгөн зарлага
A32: Бусад төлбөр, хураамж | D32: 20000 | E32: 596300 | H32: 41000 | I32: 0 | J32: 0 | K32: 0 | L32: 0 | M32: 0 | N32: =SUM(B32:M32) -> 657300 | O32: 510000 | R32: =SUM(N32:Q32) -> 1167300 | S32: Бусад мөнгөн зарлага
A33: Гадаад шилжүүлэг | E33: 7409506 | H33: 0 | I33: 0 | J33: 0 | K33: 0 | L33: 0 | M33: 0 | N33: =SUM(B33:M33) -> 7409506 | R33: 7360306 | S33: Бусад мөнгөн зарлага
A34: Агуулахын ашиглалтын зардал | H34: 0 | I34: 0 | J34: 0 | K34: 0 | L34: 0 | M34: 221230 | N34: =SUM(B34:M34) -> 221230 | R34: =SUM(N34:Q34) -> 221230 | S34: Ашиглалтын зардалд төлсөн
A35: Эхний үлд | B35: =+'[2]01'!G8 -> 0 | N35: =+B35 -> 0 | O35: =+'[1]TDBM mnt'!N31 -> 65974.66 | P35: =+'[1]TDBM USD'!G6 -> 448155 | Q35: 76600 | R35: =SUM(N35:Q35) -> 590729.66
A36: Орлого | B36: =SUM(B4:B10) -> 68180000 | C36: =SUM(C4:C10) -> 0 | D36: =SUM(D4:D10) -> 13520000 | E36: =SUM(E4:E10) -> 39331500 | F36: =SUM(F4:F10) -> 7970000 | G36: =SUM(G4:G10) -> 31458000 | H36: =SUM(H4:H10) -> 16150000 | I36: =SUM(I4:I10) -> 21165000 | ... Q36: =SUM(Q4:Q10) -> 17208000 | R36: =SUM(N36:Q36) -> 4.2373678e+08
A37: Зарлага | B37: =SUM(B13:B29) -> 68122150 | C37: =SUM(C13:C29) -> 2000 | D37: =SUM(D13:D34) -> 13119475 | E37: =SUM(E12:E33) -> 34409489 | F37: =SUM(F12:F33) -> 12967595 | G37: =SUM(G12:G33) -> 26220344 | H37: =SUM(H11:H34) -> 15893344 | I37: =SUM(I11:I34) -> 21973345 | J37: =SUM(J11:J34) -> 38948294 | K37: =SUM(K11:K34) -> 20311412 | L37: =SUM(L11:L34) -> 14828984 | M37: =SUM(M11:M34) -> 21871574 | N37: =SUM(N11:N34) -> 2.8866801e+08 | O37: =SUM(O11:O34) -> 57342874 | ... Q37: =SUM(Q11:Q34) -> 8162400 | R37: =SUM(N37:Q37) -> 4.1422841e+08
A38: Эцсийн үлд | B38: =+B35+B36-B37 -> 57849.58 | C38: =+B38+C36-C37 -> 55849.58 | D38: =+C38+D36-D37 -> 456374.58 | E38: =+D38+E36-E37 -> 5378385.6 | F38: =+E38+F36-F37 -> 380790.51 | G38: =+F38+G36-G37 -> 5618446.4 | H38: =G38+H36-H37 -> 5875102.4 | I38: =+H38+I36-I37 -> 5066757.5 | J38: =+I38+J36-J37 -> 468463.51 | K38: =+J38+K36-K37 -> 247051.51 | L38: =+K38+L36-L37 -> 1068067.5 | M38: =+L38+M36-M37 -> 486493.51 | N38: =+N35+N36-N37 -> 486493.51 | O38: =+O35+O36-O37 -> 332501.16 | P38: =+P35+P36-P37 -> 157906.5 | Q38: =+Q35+Q36-Q37 -> 9122200 | R38: =SUM(N38:Q38) -> 10099101
B39: =+'[2]01'!G27 -> 57849.58 | C39: =+'[2]02'!G10 -> 55849.58 | D39: =+'[2]03'!G24 -> 456374.58 | E39: =+D38+39331500-34409489 -> 5378385.6 | F39: =+E39+F36-F37 -> 380790.51 | G39: =+'[1]Khan 1-6'!D90 -> 5618446.4 | H39: =+'[1]Khan07-09'!J19 -> 5875102.4 | I39: =+'[1]Khan07-09'!J29 -> 5066757.5 | J39: =+'[1]Khan07-09'!J42 -> 468463.51 | K39: =+'[1]khan10-12'!K17 -> 247051.51 | L39: =+'[1]khan10-12'!K27 -> 1068067.5 | M39: =+'[1]khan10-12'!K42 -> 486493.51 | O39: =+O38-'[1]TDBM mnt'!E35 -> 3.8999133e-09 | P39: =+P38-'[1]TDBM USD'!H23 -> 0 | Q39: =+Q38-[1]Golomt!F15 -> 0 | R39: =SUM(N39:Q39) -> 3.8999133e-09
B40: =+B38-B39 -> 0 | C40: =+C38-C39 -> 0 | D40: =+D38-D39 -> 0 | E40: =+E38-E39 -> 0 | F40: =+F38-F39 -> 0 | G40: =+G38-G39 -> 0 | H40: =+H38-H39 -> 0 | I40: =+I38-I39 -> 0 | ... M40: =+M38-M39 -> 7.4505806e-09

Sheet Guilgee balans
E1: =+D65-E65 -> -0.0029988289 | G1: =+F65-G65 -> 0 | I1: =+H65-I65 -> -0.0029945374
A2: Код | C2: Нэр | D2: Эхний үлдэгдэл | F2: Гүйлгээ 25.12.31 | H2: Эцсийн үлдэгдэл
D3: Дебет | E3: Кредит | F3: Дебет | G3: Кредит | H3: Дебет | I3: Кредит
A4: 100101 | B4: =+'[3]25.II ST-1'!$A$10 -> 1.1.1 | C4: Кассанд байгаа бэлэн мөнгө (төгрөг) | E4: 0 | F4: 466845000 | G4: 4.667282e+08 | H4: =+D4+F4-E4-G4 -> 116800.52 | J4: Мөнгө ба түүнтэй адилтгах хөрөнгө | K4: =+H4 -> 116800.52
A5: 110101 | B5: =+'[3]25.II ST-1'!$A$10 -> 1.1.1 | C5: Харилцах ХХБ (төгрөг) | D5: 65974.66 | E5: 0 | F5: 57609400 | G5: 57353924 | H5: =+D5+F5-E5-G5 -> 321451.16 | J5: Мөнгө ба түүнтэй адилтгах хөрөнгө | K5: =+H5 -> 321451.16 | L5: 321451.16
A6: 110201 | B6: =+'[3]25.II ST-1'!$A$10 -> 1.1.1 | C6: Харилцах - ХХБ (доллар) | D6: 444300.64 | E6: 0 | F6: 59767645 | G6: 60055132 | H6: =+D6+F6-E6-G6 -> 156813.14 | J6: Мөнгө ба түүнтэй адилтгах хөрөнгө | K6: =+H6 -> 156813.14 | L6: =44.09*3556.66 -> 156813.14
B7: =+'[3]25.II ST-1'!$A$10 -> 1.1.1 | C7: Харилцах - Хаан | F7: 289154500 | G7: 2.8866801e+08 | H7: =+D7+F7-E7-G7 -> 486493.51 | J7: Мөнгө ба түүнтэй адилтгах хөрөнгө | K7: =+H7 -> 486493.51 | L7: =+L6-H6 -> -0.0021000111
A8: 110104 | B8: =+'[3]25.II ST-1'!$A$10 -> 1.1.1 | C8: Харилцах-Капитрон /төгрөг/ | D8: 28000 | G8: 10000 | H8: =+D8+F8-E8-G8 -> 18000 | J8: Мөнгө ба түүнтэй адилтгах хөрөнгө | K8: =+H8 -> 18000
A9: 110105 | B9: =+'[3]25.II ST-1'!$A$10 -> 1.1.1 | C9: Харилцах-Капитрон /доллар/ | D9: 78494.74 | G9: 13989.35 | H9: =+D9+F9-E9-G9 -> 64505.39 | J9: Мөнгө ба түүнтэй адилтгах хөрөнгө | K9: =+H9 -> 64505.39
B10: =+'[3]25.II ST-1'!$A$10 -> 1.1.1 | C10: Харилцах-Голомт /төгрөг/ | F10: 17284000 | G10: 8162400 | H10: =+D10+F10-E10-G10 -> 9121600 | J10: Мөнгө ба түүнтэй адилтгах хөрөнгө | K10: =+H10 -> 9121600
A11: 121004 | B11: =+'[3]25.II ST-1'!$A$12 -> 1.1.3 | C11: НӨАТ-ын авлага | D11: 2611487.1 | E11: 0 | F11: 50137012 | G11: 26365636 | H11: =+D11+F11-E11-G11 -> 26382863 | J11: Татварын, НДШ-ийн авлага | K11: =SUM(H11:H12) -> 26382863 | L11: =H11+[4]Vat!M15 -> 0.002271235
A12: 121005 | B12: =+'[3]25.II ST-1'!$A$12 -> 1.1.3 | C12: ААНОАТ-ын авлага | D12: 1945497.6 | E12: 0 | G12: 1945497.6 | H12: =+D12+F12-E12-G12 -> 0
A13: 122003 | B13: =+'[3]25.II ST-1'!$A$13 -> 1.1.4 | C13: Холбоотой талаас авах авлага /МДК/ | D13: 283762420 | E13: 0 | F13: 19500000 | H13: =+D13+F13-E13-G13 -> 303262420 | J13: Бусад авлага | K13: =SUM(H13:H16) -> 359762420
A14: 122004 | B14: =+'[3]25.II ST-1'!$A$13 -> 1.1.4 | C14: Холбоотой талаас авах авлага /АКАТАТУР/ | D14: 28300000 | E14: 0 | F14: 16000000 | G14: 6000000 | H14: =+D14+F14-E14-G14 -> 38300000
A15: 312601 | B15: =+'[3]25.II ST-1'!$A$13 -> 1.1.4 | C15: Бусад богино хугацаат зээл /Их Бараат/ | D15: 15400000 | E15: 0 | F15: 1000000 | H15: =+D15+F15-E15-G15 -> 16400000
C16: Бусад авлага-Агуулахын барьцаа | F16: 1800000 | H16: =+D16+F16-E16-G16 -> 1800000
A17: 150101 | B17: =+'[3]25.II ST-1'!A15 -> 1.1.6 | C17: Бэлэн бүтээгдэхүүн, бараа | D17: 865854.38 | E17: 0 | F17: 4.6700065e+08 | G17: 2.0752372e+08 | H17: =D17+F17-E17-G17 -> 2.6034279e+08 | J17: БМ | K17: =+H17 -> 2.6034279e+08
A18: 150102 | C18: Борлуулалтын авлага | D18: 0 | E18: 0 | F18: 293550000 | G18: 293550000 | H18: =+D18+F18-E18-G18 -> 0
A19: 180201 | B19: =+'[3]25.II ST-1'!A16 -> 1.1.7 | C19: Урьдчилж гарсан зардал / MNT / | D19: 48117182 | E19: 0 | H19: =+D19+F19-E19-G19 -> 48117182 | J19: УГЗ | K19: =+H19 -> 48117182
A20: 200201 | B20: =+'[3]25.II ST-1'!A22 -> 1.2.1 | C20: Барилга байгууламж | D20: 99537000 | E20: 0 | H20: =+D20+F20-E20-G20 -> 99537000 | J20: ҮХөрөнгө | K20: =+H20 -> 99537000
A21: 201201 | C21: Хур/эл Барилга байгууламж | D21: 0 | E21: 0 | H21: =+D21+F21-E21-G21 -> 0 | I21: =+E21+G21-D21-F21 -> 0
A22: 210501 | B22: =+'[3]25.II ST-1'!A23 -> 1.2.2 | C22: Програм хангамж | D22: 76205.7 | E22: 0 | H22: =+D22+F22-E22-G22 -> 76205.7 | J22: Биет бус хөрөнгө | K22: =+H22+H23 -> 31125906
A23: 210801 | B23: =+'[3]25.II ST-1'!A23 -> 1.2.2 | C23: Бусад биет бус хөрөнгө | D23: 31049700 | E23: 0 | H23: =+D23+F23-E23-G23 -> 31049700
A24: 220101 | B24: =+'[3]25.II ST-1'!$A$25 -> 1.2.4 | C24: Урт хугацаат бусад хөрөнгө оруулалт-өмнөх | D24: 1139284100 | E24: 0 | H24: =+D24+F24-E24-G24 -> 1139284100 | J24: Урт хугацаат хөрөнгө оруулалт | K24: =+H24+H25 -> 3701734295
A25: 220201 | B25: =+'[3]25.II ST-1'!$A$25 -> 1.2.4 | C25: Урт хугацаат хөрөнгө оруулалт-АДМ | D25: 2562450195 | E25: 0 | H25: =+D25+F25-E25-G25 -> 2562450195
A26: 311001 | B26: =+'[3]25.II ST-1'!A39 -> 2.1.1.4 | C26: ЭМНДШ-ийн өглөг | D26: 0 | E26: 0 | F26: 4000000 | G26: 4582195.3 | I26: =E26+G26-D26-F26 -> 582195.31
A27: 311002 | B27: =+'[3]25.II ST-1'!A38 -> 2.1.1.3 | C27: ХХОАТ-ын өглөг ТТ11.1, 11.2 | D27: 0 | E27: 177210.02 | G27: 639093.27 | I27: =E27+G27-D27-F27 -> 816303.29 | J27: Татварын өр
B28: =+'[3]25.II ST-1'!A36 -> 2.1.1.1 | C28: Будааны БНТөглөг | F28: 4.4193113e+08 | G28: 4.4193113e+08 | I28: =E28+G28-D28-F28 -> 0
A29: 310102 | C29: Татан авалтын нэмэлт тооцоо | D29: 0 | E29: 0 | F29: 71975392 | G29: 71975392 | I29: =E29+G29-D29-F29 -> 0
A30: 313001 | B30: =+'[3]25.II ST-1'!A37 -> 2.1.1.2 | C30: Цалингийн өглөг | F30: 19898932 | G30: 19898932 | I30: =+E30+G30-D30-F30 -> 0.0019249953
A31: 313007 | B31: =+'[3]25.II ST-1'!A45 -> 2.1.1.10 | C31: Тооцоо- ЛИЙ захирал | D31: 0 | E31: 1.7133434e+08 | F31: 2.112555e+08 | G31: 482876000 | I31: =+E31+G31-D31-F31 -> 4.4295484e+08 | J31: Бусад богино хугацаат өр төлбөр
C32: Дансны өглөг KRW iljgen chih | H32: =+D32+F32-E32-G32 -> 0 | I32: =+E32+G32-D32-F32 -> 0
A33: 320101 | B33: =+'[3]25.II ST-1'!A43 -> 2.1.1.8 | C33: Урьдчилж орсон орлого | D33: 0 | E33: 0 | G33: 67334384 | I33: =+E33+G33-D33-F33 -> 67334384
A34: 330801 | B34: =+'[3]25.II ST-1'!A53 -> 2.1.2.4 | C34: Бусад урт хугацаат өглөг | D34: 0 | E34: 2.8472359e+09 | I34: =+E34+G34-D34-F34 -> 2.8472359e+09 | J34: Бусад урт хугацаат өр төлбөр
A35: 410201 | B35: =+'[3]25.II ST-1'!A59 -> 2.3.2 | C35: Хувийн өмч | D35: 0 | E35: 1373575194 | I35: =+E35+G35-D35-F35 -> 1373575194 | J35: б) хувийн
A36: 420301 | B36: =+'[3]25.II ST-1'!A61 -> 2.3.4 | C36: Халаасны хувьцаа | D36: 0 | E36: 3269700 | I36: =+E36+G36-D36-F36 -> 3269700 | J36: Халаасны хувьцаа
A37: 430701 | B37: =+'[3]25.II ST-1'!A65 -> 2.3.8 | C37: Эзэмшигчийн өмчийн бусад хэсэг | D37: 0 | E37: 1029200 | I37: =+E37+G37-D37-F37 -> 1029200 | J37: Эздийн өмчийн бусад хэсэг
A38: 440201 | B38: =+'[3]25.II ST-1'!A66 -> 2.3.9 | C38: Өмнөх үеийн хуримтлагдсан ашиг | D38: 0 | E38: =+'[3]25.II ST-1'!C66 -> -1.8260512e+08 | G38: =G39-F39 -> -16904471 | I38: =+E38+G38-D38-F38 -> -1.9950959e+08
F39: =SUM(F40:F64) -> 2.8056083e+08 | G39: =SUM(G40:G42) -> 2.6365636e+08
A40: 510101 | C40: Бүтээгдэхүүн борлуулсан борлуулалт | G40: =+[4]Vat!D16 -> 2.6365636e+08 | K40: =+G40*0.65 -> 1.7137664e+08
...

Sheet Nuur
S2: Сангийн сайдын 2012 оны
S3: 77 дугаар тушаалын
S4: 3 дугаар хавсралт
B6: Регистрийн дугаар : | H6: 2 | I6: 0 | J6: 4 | K6: 9 | L6: 9 | M6: 2 | N6: 9
B8: Хаяг :
B10: Шуудангийн хаяг :
B12: Утас : | P12: Факс :
B14: Өмчийн хэлбэр : | H14: Төрийн.......хувь | P14: Хувийн 100 хувь
H23: "ЖИДАКС" ХК-ИЙН
H24: 2025 ОНЫ 4-Р УЛИРЛЫН
H25: САНХҮҮГИЙН ТАЙЛАН
E36: Хянаж хүлээн авсан байгууллагын нэр | P36: Сар, өдөр | Q36: Гарын үсэг
P61: "ЖИДАКС" ХК-НИЙ
P62: 2025 оны 4-р улирлын санхүүгийн тайлангийн
P63: бодит байдлын тухай мэдэгдэл
P66: 2025 оны 12 сарын 31 өдөр
D68: Захирал Lee овогтой Jeoung Ho , ерөнхий нягтлан бодогч Эрдэнэбаатар овогтой Баяргэрэл бид манай аж ахуйн нэгжийн 2025 оны 12 сарын 31-ний өдрөөр тасалбар болгон гаргасан санхүүгийн тайланд тайлант хугацааны үйл ажиллагааны үр дүн, санхүүгийн байдлыг “Нягтлан бодох бүртгэлийн тухай” хуулийн 17.1 дэх заалтын дагуу үнэн зөв, бүрэн тусгасан болохыг баталж байна.
D70: Үүнд:
C71: 1 | D71: Бүх ажил гүйлгээ бодитоор гарсан бөгөөд холбогдох анхан шатны баримтыг үндэслэн
D72: нягтлан бодох бүртгэл, санхүүгийн тайланд үнэн зөв тусгасан
C74: 2 | D74: Санхүүгийн тайланд тусгагдсан бүх тооцоолол үнэн зөв хийгдсэн
C76: 3 | D76: Аж ахуйн нэгжийн үйл ажиллагааны эдийн засаг, санхүүгийн бүхий л үйл явцыг
D77: иж бүрэн хамарсан
C79: 4 | D79: Тайлант үеийн үр дүнд өмнөх оны ажил гүйлгээнээс шилжин тусгагдаагүй, мөн
D80: тайлант оны ажил гүйлгээнээс орхигдсон зүйл байхгүй
C82: 5 | D82: Бүх хөрөнгө, авлага, өр төлбөр, орлого, зардлыг холбогдох Санхүүгийн тайлагналын
D83: олон улсын стандартын дагуу үнэн зөв тусгасан
C85: 6 | D85: Энэ тайланд тусгагдсан бүхий л зүйл манай байгууллагын албан ёсны өмчлөлд байдаг
D86: бөгөөд орхигдсон зүйл үгүй болно.
D89: Захирал_____________________________________ | Q89: / Lee Jeoung Ho /
D91: Ерөнхий нягтлан бодогч ____________________________ | R91: / Э.Баяргэрэл /

Sheet ST1
B2: САНХҮҮ БАЙДЛЫН ТАЙЛАН
A3: "ЖИДАКС" ХК | D3: 2025 оны 12 сарын 31 өдөр
D5: (төгрөгөөр)
A6: Мөрийн дугаар | B6: Үзүүлэлт | C6: Үлдэгдэл
C7: Өмнөх оны | D7: Тайлант оны
A8: 1 | B8: ХӨРӨНГӨ
A9: 1.1 | B9: Эргэлтийн хөрөнгө
A10: 1.1.1 | B10: Мөнгө ба түүнтэй адилтгах хөрөнгө | C10: 616770.04 | D10: 10285664
A11: 1.1.2 | B11: Дансны авлага
A12: 1.1.3 | B12: Татварын, НДШ-ийн авлага | C12: 4556984.7 | D12: 26382863
A13: 1.1.4 | B13: Бусад авлага | C13: 327462420 | D13: 357962420
A14: 1.1.5 | B14: Бусад санхүүгийн хөрөнгө
A15: 1.1.6 | B15: Бараа материал | C15: 865854.38 | D15: 2.6034279e+08
A16: 1.1.7 | B16: Урьдчилж төлсөн зардал/тооцоо | C16: 48117182 | D16: 49917182
A17: 1.1.8 | B17: Бусад эргэлтийн хөрөнгө
A18: 1.1.9 | B18: Борлуулах зорилгоор эзэмшиж буй эргэлтийн бус хөрөнгө ( борлуулах бүлэг хөрөнгө) | D18: 0
A19: 1.1.10 | B19: Богино хугацаат хөрөнгө оруулалт | D19: 0
A20: 1.1.11 | B20: Эргэлтийн хөрөнгийн дүн | C20: =SUM(C8:C19) -> 3.8161921e+08 | D20: =SUM(D8:D19) -> 7.0489091e+08
A21: 1.2 | B21: Эргэлтийн бус хөрөнгө | D21: 0
A22: 1.2.1 | B22: Үндсэн хөрөнгө | C22: 99537000 | D22: 99537000
A23: 1.2.2 | B23: Биет бус хөрөнгө | C23: 31125906 | D23: 31125906
A24: 1.2.3 | B24: Биологийн хөрөнгө | D24: 0
A25: 1.2.4 | B25: Урт хугацаат хөрөнгө оруулалт | C25: 3701734295 | D25: 3701734295
A26: 1.2.5 | B26: Хайгуул ба үнэлгээний хөрөнгө | D26: 0
A27: 1.2.6 | B27: Хойшлогдсон татварын хөрөнгө | D27: 0
A28: 1.2.7 | B28: Хөрөнгө оруулалтын зориулалттай үл хөдлөх хөрөнгө | D28: 0
A29: 1.2.8 | B29: Бусад эргэлтийн бус хөрөнгө | D29: 0
A30: 1.2.9 | B30: Хуримтлагдсан элэгдэл | D30: 0
A31: 1.2.10 | B31: Эргэлтийн бус хөрөнгийн дүн | C31: =SUM(C22:C30) -> 3.8323972e+09 | D31: =SUM(D22:D30) -> 3.8323972e+09
A32: 1.3 | B32: НИЙТ ХӨРӨНГИЙН ДҮН | C32: =C20+C31 -> 4.2140164e+09 | D32: =D20+D31 -> 4.5372881e+09 | E32: =+D32-'[4]Guilgee balans'!H65 -> 0
A33: 2 | B33: ӨР ТӨЛБӨР БА ЭЗДИЙН ӨМЧ
A34: 2.1 | B34: ӨР ТӨЛБӨР
A35: 2.1.1 | B35: Богино хугацаат өр төлбөр
A36: 2.1.1.1 | B36: Дансны өглөг | C36: 0 | D36: =+'[4]Guilgee balans'!I28 -> 0
A37: 2.1.1.2 | B37: Цалингийн өглөг | C37: 0
A38: 2.1.1.3 | B38: Татварын өр | C38: 177210.02 | D38: =+'[4]Guilgee balans'!I27 -> 816303.29
A39: 2.1.1.4 | B39: НДШ -ийн өглөг | C39: 0 | D39: =+'[4]Guilgee balans'!I26 -> 582195.31
A40: 2.1.1.5 | B40: Богино хугацаат зээл
A41: 2.1.1.6 | B41: Хүүний өглөг
A42: 2.1.1.7 | B42: Ногдол ашгийн өглөг
...

Sheet ST2
B2: ОРЛОГЫН ТАЙЛАН
A4: =+'[5]25.II ST-1'!A3 -> "ЖИДАКС" ХК | D4: 2025 оны 12 сарын 31 өдөр
A7: Мөрийн дугаар | B7: Үзүүлэлт | C7: Өмнөх оны дүн | D7: Тайлант жилийн дүн
A9: 1 | B9: Борлуулалтын орлого /цэвэр/ | C9: 1.2748457e+08 | D9: 2.6365636e+08
A10: 2 | B10: Борлуулалтын өртөг | C10: 48257377 | D10: 2.0738052e+08
A11: 3 | B11: Нийт ашиг /алдагдал/ | C11: 79227189 | D11: =+D9-D10 -> 56275840
A12: 4 | B12: Түрээсийн орлого
A13: 5 | B13: Хүүний орлого | C13: 912.76
A14: 6 | B14: Ноогдол ашгийн орлого
A15: 7 | B15: Эрхийн шимтгэлийн орлого
A16: 8 | B16: Бусад орлого
A17: 9 | B17: Борлуулалт маркетингийн зардал
A18: 10 | B18: Ерөнхий ба удирдлагын зардал | C18: 67821346 | D18: 72500946
A19: 11 | B19: Санхүүгийн зардал
A20: 12 | B20: Бусад зардал | C20: 365470 | D20: 679365.52
A21: 13 | B21: Гадаад вальютын ханшийн зөрүүний олз/гарз/ | C21: -130727.82
A22: 14 | B22: Үндсэн хөрөнгө данснаас хассаны олз /гарз/
A23: 15 | B23: Биет бус хөрөнгө данснаас хассаны олз /гарз/
A24: 16 | B24: Хөрөнгө оруулалт борлуулснаас үүссэн олз /гарз/
A25: 17 | B25: Бусад ашиг /алдагдал/
A26: 18 | B26: Татвар төлөхийн өмнөх ашиг /алдагдал/ | C26: 10910558 | D26: =D11+SUM(D12:D16)-SUM(D17:D20)+SUM(D21:D25) -> -16904471
A27: 19 | B27: Орлогын албан татварын зардал | C27: 91.28
A28: 20 | B28: Татварын дараах ашиг /алдагдал/ | C28: 10910467 | D28: =D26-D27 -> -16904471
A29: 21 | B29: Зогсоосон үйл ажиллагааны татварын дараах ашиг /алдагдал/
A30: 22 | B30: Тайлант үеийн цэвэр ашиг ( алдагдал) | C30: 10910467 | D30: =D28+D29 -> -16904471
A31: 23 | B31: Бусад дэлгэрэнгүй орлого | C31: 0 | D31: =SUM(D32:D34) -> 0
B32: Хөрөнгийн дахин үнэлгээний нэмэгдлийн зөрүү
B33: Гадаад валютын хөрвүүлэлтийн зөрүү
B34: Бусад олз /гарз/
A35: 24 | B35: Орлогын нийт дүн | C35: 10910467 | D35: =D30+D31 -> -16904471
A36: 25 | B36: Нэгж хувьцаанд ногдох суурь ашиг /алдагдал/
B40: Захирал__________________________________ | D40: / Lee Jeoung Ho /
B42: Ерөнхий нягтлан бодогч ____________________________ | D42: / Э.Баяргэрэл /

Sheet ST3
A1: "ЖИДАКС" ХК
A3: ӨМЧИЙН ӨӨРЧЛӨЛТИЙН ТАЙЛАН
K4: 2025 оны 12 сарын 31 өдөр
K6: (төгрөгөөр)
A7: Мөрийн дугаар | B7: ҮЗҮҮЛЭЛТ | D7: Хувьцаат капитал | E7: Халаасны хувьцаа | F7: НТК | G7: Дахин үнэлгээний зөрүү | H7: Гадаад валютын хөрвүүлэлтийн нөөц | I7: Эздийн өмчийн бусад хэсэг | J7: Хуримтлагдсан ашиг | K7: Нийт дүн
A8: 1 | B8: 2023 оны 12 сарын 31 үлдэгдэл | C8: Balance as at 31 December 2016 | D8: 1373575194 | E8: 3269700 | F8: 0 | G8: 0 | H8: 0 | I8: 1029200 | J8: -1.9351558e+08 | K8: =+D8+E8+I8+J8 -> 1.1843585e+09
A9: =A8+1 -> 2 | B9: Бүртгэлийн бодлогын өөрчлөлт | C9: Changes in accounting policy | K9: =+J9 -> 0
A10: =A9+1 -> 3 | B10: Залруулсан үлдэгдэл | C10: Adjusted balance | K10: =+J10 -> 0
A11: =A10+1 -> 4 | B11: Тайлант үеийн цэвэр ашиг (алдагдал) | C11: Net profit for the period | J11: 10910467 | K11: =+J11 -> 10910467
A12: =A11+1 -> 5 | B12: Бусад дэлгэрэнгүй орлого | C12: Other comprehensive income | K12: =+J12 -> 0
A13: =A12+1 -> 6 | B13: Өмчид гарсан өөрчлөлт | C13: Changes in equity | F13: 0 | K13: =+J13 -> 0
A14: =A13+1 -> 7 | B14: Зарласан ногдол ашиг | C14: Dividends | K14: =+J14 -> 0
A15: =A14+1 -> 8 | B15: Дахин үнэлгээний нэмэгдлийн хэгэгжсэн дүн | C15: Changes in Fixed Assets Revaluation Surplus | K15: =+J15 -> 0
A16: =A15+1 -> 9 | B16: 2024 оны 12 сарын 31 үлд | C16: Balance as at 31 December 2017 | D16: =SUM(D8:D15) -> 1373575194 | E16: =SUM(E8:E15) -> 3269700 | F16: =SUM(F8:F15) -> 0 | G16: =SUM(G8:G15) -> 0 | H16: =SUM(H8:H15) -> 0 | I16: =SUM(I8:I15) -> 1029200 | J16: =SUM(J8:J15) -> -1.8260512e+08 | K16: =SUM(K8:K15) -> 1.195269e+09
A17: =A16+1 -> 10 | B17: Бүртгэлийн бодлогын өөрчлөлт | C17: Changes in accounting policy | K17: =SUM(D17:J17) -> 0
A18: =A17+1 -> 11 | B18: Залруулсан үлдэгдэл | C18: Adjusted balance | K18: =SUM(D18:J18) -> 0
A19: =A18+1 -> 12 | B19: Тайлант үеийн цэвэр ашиг | C19: Net profit for the period | J19: -16904471 | K19: =SUM(D19:J19) -> -16904471
A20: =A19+1 -> 13 | B20: Бусад дэлгэрэнгүй орлого | C20: Other comprehensive income | K20: =SUM(D20:J20) -> 0
A21: =A20+1 -> 14 | B21: Өмчид гарсан өөрчлөлт | C21: Changes in equity | F21: ='[6]Balance Sheet'!E64 -> 0 | K21: =SUM(D21:J21) -> 0
A22: =A21+1 -> 15 | B22: Зарласан ногдол ашиг | C22: Dividends | K22: =SUM(D22:J22) -> 0
A23: =A22+1 -> 16 | B23: Дахин үнэлгээний нэмэгдлийн хэгэгжсэн дүн | C23: Changes in Fixed Assets Revaluation Surplus | K23: =SUM(D23:J23) -> 0
A24: =A23+1 -> 17 | B24: 2025 оны 12 сарын 31 үлдэгдэл | C24: Balance as at 31 Dec 2018 | D24: =SUM(D16:D23) -> 1373575194 | E24: =SUM(E16:E23) -> 3269700 | F24: =SUM(F16:F23) -> 0 | G24: =SUM(G16:G23) -> 0 | H24: =SUM(H16:H23) -> 0 | I24: =SUM(I16:I23) -> 1029200 | J24: =SUM(J16:J23) -> -1.9950959e+08 | K24: =+D24+E24+I24+J24 -> 1.1783645e+09
K25: =+K24-[4]ST1!D68 -> -0.0029990673
D27: Захирал__________________________________ | G27: / Lee Jeoung Ho /
D29: Ерөнхий нягтлан бодогч ____________________________ | G29: / Э.Баяргэрэл /

Sheet ST4
A2: МӨНГӨН ГҮЙЛГЭЭНИЙ ТАЙЛАН
A3: "ЖИДАКС" ХК | E3: 2025 оны 12 сарын 31 өдөр
A6: Мөрийн дугаар | B6: Үзүүлэлт | D6: 2024.12.31 | E6: 2025.12.31
A8: 1 | B8: Үндсэн үйл ажиллагааны мөнгөн гүйлгээ
A9: 1.1 | B9: Мөнгөн орлогын дүн (+) | D9: 99146065 | E9: =SUM(E10:E15) -> 3.4529688e+08
B10: 1 | C10: Бараа борлуулсан, үйлчилгээ үзүүлсний орлого | D10: 99146065 | E10: 285532000
B11: 2 | C11: Эрхийн шимтгэл, хураамж, төлбөрийн орлого
B12: 3 | C12: Даатгалын нөхвөрөөс хүлээн авсан мөнгө
B13: 4 | C13: Буцаан авсан албан татвар
B14: 5 | C14: Татаас, санхүүжилтийн орлого
B15: 6 | C15: Бусад мөнгөн орлого | E15: 59764884
A16: 1.2 | B16: Мөнгөн зарлагын дүн (-) | D16: 1.1217858e+08 | E16: =SUM(E17:E25) -> 5.6828688e+08
B17: 7 | C17: Ажиллагчдад олгосон мөнгө | D17: 35616396 | E17: 19898932
B18: 8 | C18: Нийгмийн даатгалын байгууллагад төлсөн мөнгө | D18: 10570164 | E18: 4000000
B19: 9 | C19: Түүхий эд материал худалдан авахад төлсөн мөнгө | D19: 49123231 | E19: 5.0061321e+08
B20: 10 | C20: Ашиглалтын зардалд төлсөн мөнгө | D20: 3902227
B21: 11 | C21: Түлш шатахуун тээврийн хөлс, сэлбэг хэрэгсэлд төлсөн мөнгө | D21: 1253341 | E21: 196100
B22: 12 | C22: Төлсөн хүү
B23: 13 | C23: Татварын байгууллагад төлсөн | D23: 3518374.9
B24: 14 | C24: Даатгалын төлбөрт төлсөн мөнгө
B25: 15 | C25: Бусад | D25: 8194848.5 | E25: 43578637
B26: Үндсэн үйл ажиллагааны цэвэр мөнгөн гүйлгээний дүн | D26: -13032517 | E26: =+E9-E16 -> -2.2299e+08
A27: 2 | C27: Хөрөнгө оруулалтын үйл ажиллагааны мөнгөн гүйлгээ
B28: Хөрөнгө оруулалтын үйл ажиллагааны мөнгөн гүйлгээ
A29: 2.1 | B29: Мөнгөн орлогын дүн (+) | D29: 17738198 | E29: =SUM(E30:E36) -> 0
B30: 16 | C30: Үндсэн хөрөнгө борлуулсны орлого
B31: 17 | C31: Биет бус хөрөнгө борлуулсны орлого
B32: 18 | C32: Худалдсан хөрөнгө оруулалтын орлого
B33: 19 | C33: Бусад урт хугацаат хөрөнгө худалдсан орлого | D33: 3337285
B34: 20 | C34: Бусдад олгосон зээл, мөнгөн урьдчилгааны буцаан төлөлт | D34: 14400000
B35: 21 | C35: Хүлээн авсан хүүний орлого | D35: 912.76
B36: 22 | C36: Хүлээн авсан ноогдол ашиг
A37: 2.2 | B37: Мөнгөн зарлагын дүн (-) | D37: 43625000 | E37: =SUM(E38:E42) -> 0
B38: 23 | C38: Үндсэн хөрөнгө олж эзэмшихэд төлсөн
B39: 24 | C39: Биет бус хөрөнгө олж эзэмшихэд төлсөн
B40: 25 | C40: Хөрөнгө оруулалт олж эзэмшихэд төлсөн
B41: 26 | C41: Бусад урт хугацаат хөрөнгө олж эзэмшихэд төлсөн
B42: 27 | C42: Бусдад олгосон зээл болон урьдчилгаа | D42: 43625000
A43: 2.3 | B43: Хөрөнгө оруулалтын үйл ажиллагааны цэвэр мөнгөн гүйлгээний дүн | D43: -25886802 | E43: =+E29-E37 -> 0
A44: 3 | B44: Санхүүгийн үйл ажиллагааны мөнгөн гүйлгээ
...

Sheet Tod
A1: Байгууллагын нэр: Жидакс
A2: Регистр: 2049929
B3: 1. Мөнгө түүнтэй адилтгах хөрөнгө
C4: Мөнгөн хөрөнгийн зүйлс | D4: Эхний үлдэгдэл | E4: Эцсийн үлдэгдэл
C5: 1. Касс дахь мөнгө | D5: 0 | E5: 116800.52
C6: 2. Банкин дахь мөнгө | D6: 616770.04 | E6: 10168863
C7: 3. Мөнгөтэй адилтгах хөрөнгө | D7: 0 | E7: 0
C8: 4. Нийт дүн | D8: 616770.04 | E8: 10285664
A11: Регистр: 2049929
B13: № | C13: Үзүүлэлт | D13: Дансны авлага | E13: Найдваргүй авлагын хасагдуулга | F13: Дансны авлага (цэвэр дүнгээр)
B14: 1 | C14: Эхний үлдэгдэл | D14: 0 | E14: 0 | F14: 0
B15: 2 | C15: Нэмэгдсэн | D15: 0 | E15: 0 | F15: 0
B16: 3 | C16: Хасагдсан | D16: 0 | E16: 0 | F16: 0
B17: 3.1 | C17: -Төлөгдсөн | D17: 0 | E17: 0 | F17: 0
B18: 3.2 | C18: -Найдваргүй болсон | D18: 0 | E18: 0 | F18: 0
B19: 4 | C19: Эцсийн үлдэгдэл | D19: 0 | E19: 0 | F19: 0
A21: Регистр: 2049929
B22: 4.1. Татварын авлага
B24: № | C24: Үзүүлэлт | D24: Эцсийн үлдэгдэл | E24: Эцсийн үлдэгдэл
B25: 1 | C25: ААНОАТ-ын авлага | D25: 1945497.6
B26: 2 | C26: НӨАТ-ын авлага | D26: 2611487.1 | E26: 26382863
B27: 3 | C27: НДШ-ийн авлага | D27: 0
B28: 4 | D28: 0
C29: Нийт дүн | D29: =SUM(D25:D28) -> 4556984.7 | E29: =SUM(E25:E28) -> 26382863
A31: Регистр: 2049929
B32: 4.1. Бусад богино хугацаат авлага
B34: № | C34: Үзүүлэлт | D34: Эцсийн үлдэгдэл | E34: Эцсийн үлдэгдэл
B35: 1 | C35: Холбоотой талаас авах авлагын тайлант хугацаанд хамаарах дүн | D35: 327462420 | E35: =+'ST1'!D13 -> 357962420
B36: 2 | C36: Ажиллагчдаас авах авлага | D36: 0
B37: 3 | C37: Ноогдол ашгийн авлага | D37: 0
B38: 4 | C38: Хүүний авлага | D38: 0
B39: 4 | C39: Богино хугацаат авлагын бичиг | D39: 0
B40: 4 | C40: Бусад талуудаас авах авлага | D40: 0
B41: 4 | D41: 0
B42: 4 | C42: Нийт дүн | D42: =SUM(D35:D41) -> 327462420 | E42: =SUM(E35:E41) -> 357962420
A44: Регистр: 2049929
B45: 5. Бусад санхүүгийн хөрөнгө
B46: № | C46: Үзүүлэлт | D46: Эцсийн үлдэгдэл | E46: Эцсийн үлдэгдэл
B47: 1 | D47: 0 | E47: 0
C48: Нийт дүн | D48: 0 | E48: 0
...

Sheet Gaali-2025
P1: 127460860
A2: Бэлтгэн нийлүүлэгч байгууллагын нэр: | D2: I am farm Agricultural Co.,LTD - Цагаан будаа
H3: Гаалийн ханш | I3: 2.34 | P3: 45667
A4: № | B4: Материалын нэр | D4: Хэмжих нэгж | E4: Тоо хэмжээ | F4: Нийт кг | G4: Нэгж вон | H4: Дүн | J4: Гадаад /тээвэр/ | K4: Гааль / албан татвар / | L4: НӨАТ | M4: Мэдүүлгийн үнэ | N4: Дотоод тээвэр | O4: Бусад зардал | P4: Татан авалтын нийт зардал | Q4: Орлого авах өртөг
H5: /вон/ | I5: /төгрөг/ | Q5: Нэг уут будаа өртөг | R5: Нийт үнэ
A6: 1 | B6: 0224100725I00720 | C6: 20 | D6: кг | E6: 1000 | F6: =+E6*20 -> 20000 | G6: 45000 | H6: =G6*E6 -> 45000000 | I6: 105300000 | K6: 5265000 | L6: 11056500 | M6: 14000 | N6: 2185360 | O6: 3640000 | P6: =N6+M6+L6+K6+I6+O6 -> 127460860 | Q6: =R6/E6 -> 116404.36 | R6: =+I6+K6+M6+N6+O6 -> 116404360 | S6: =+R6/Q6 -> 1000
A7: 2 | B7: 0224100725I00720 | C7: 20 | D7: кг | E7: 1000 | F7: =+E7*20 -> 20000 | G7: 45000 | H7: =G7*E7 -> 45000000 | I7: 105300000 | K7: 5265000 | L7: 11056500 | P7: =N7+M7+L7+K7+I7+O7 -> 121621500 | Q7: =R7/E7 -> 110565 | R7: =+I7+K7+M7+N7+O7 -> 110565000
A8: Дүн | E8: 2000 | H8: 90000000 | I8: 210600000 | J8: 0 | K8: 10530000 | L8: 22113000 | M8: 14000 | N8: 2185360 | O8: 3640000 | P8: =SUM(P6:P7) -> 249082360 | Q8: =+R8/2000 -> 113484.68 | R8: =SUM(R6:R7) -> 226969360
H9: Гаалийн ханш | I9: 2.39 | P9: 45734
A10: № | B10: Материалын нэр | D10: Хэмжих нэгж | E10: Тоо хэмжээ | F10: 1 бүрийн /Кг / | G10: Нийт /кг/ | H10: Дүн | J10: Гадаад /тээвэр/ | K10: Гааль / албан татвар / | L10: НӨАТ | M10: Мэдүүлгийн үнэ | N10: Дотоод тээвэр | O10: Бусад зардал | P10: Татан авалтын нийт зардал | Q10: Орлого авах өртөг
H11: /вон/ | I11: /төгрөг/ | Q11: Нэгж үнэ | R11: Нийт үнэ
A12: 1 | B12: NSL431881 | C12: 10 | D12: кг | E12: 2000 | F12: =+E12*C12 -> 20000 | G12: 19000 | H12: =+G12*E12 -> 38000000 | I12: =H12*$I$9 -> 90820000 | K12: 4541000 | L12: =+(I12+J12)*0.1 -> 9082000 | M12: 14000 | O12: 1540000 | P12: 106451100 | Q12: =+R12/E12 -> 48457.5 | R12: 96915000 | S12: 4541000 | T12: 0
A13: 2 | B13: NSL431587 | C13: 5 | D13: кг | E13: 4000 | F13: =+E13*C13 -> 20000 | G13: 9500 | H13: =+G13*E13 -> 38000000 | I13: =H13*$I$9 -> 90820000 | K13: 4541000 | L13: =+(I13+J13)*0.1 -> 9082000 | M13: 2400 | N13: 1464520 | O13: 39000 | P13: 106403020 | Q13: =+R13/E13 -> 24216.73 | R13: 96866920 | S13: 4541000 | T13: 0
A14: Дүн | E14: 6000 | H14: 76000000 | I14: 181640000 | J14: 0 | K14: =SUM(K12:K13) -> 9082000 | L14: 19072200 | M14: 16400 | N14: 1464520 | O14: 1579000 | P14: =SUM(P12:P13) -> 212854120 | R14: =SUM(R12:R13) -> 193781920 | S14: 9082000 | T14: 0
A15: Бэлтгэн нийлүүлэгч байгууллагын нэр: | D15: I am farm Agricultural Co.,LTD - Цагаан будаа | H15: Гаалийн ханш | I15: 2.42 | P15: 45761
A16: № | B16: Материалын нэр | D16: Хэмжих нэгж | E16: Тоо хэмжээ | F16: 1 бүрийн /Кг / | G16: Нийт /кг/ | H16: Дүн | J16: Гадаад /тээвэр/ | K16: Гааль / албан татвар / | L16: НӨАТ | M16: Мэдүүлгийн үнэ | N16: Дотоод тээвэр | O16: Бусад | P16: Татан авалтын нийт зардал | Q16: =+R16/E16 -> #VALUE!
H17: /вон/ | I17: /төгрөг/ | Q17: =+R17/E17 -> #DIV/0!
A18: 1 | B18: ZHFU9930428/ YT273374 | C18: 1 кг | D18: кг | E18: 2400 | F18: =+E18*1 -> 2400 | G18: 1900 | H18: =G18*E18 -> 4560000 | I18: =+H18*I15 -> 11035200 | K18: =I18*0.05 -> 551760 | L18: =(K18+I18)*0.1 -> 1158696 | M18: 10600 | N18: 564225 | O18: 770000 | P18: =+O18+N18+M18+L18+K18+I18 -> 14090481 | Q18: =R18/E18 -> 5388.2437 | R18: =+I18+K18+M18+N18+O18 -> 12931785
A19: 2 | C19: 2 кг | D19: кг | E19: 1500 | F19: =+E19*2 -> 3000 | G19: 3800 | H19: =+G19*E19 -> 5700000 | I19: =+H19*I15 -> 13794000 | K19: =+I19*0.05 -> 689700 | L19: =(K19+I19)*0.1 -> 1448370 | P19: =+O19+N19+M19+L19+K19+I19 -> 15932070 | Q19: =R19/E19 -> 9655.8 | R19: =+I19+K19+M19+N19+O19 -> 14483700
A20: Дүн | E20: 3900 | H20: =SUM(H18:H19) -> 10260000 | I20: 24829200 | J20: 0 | K20: 1241460 | L20: =SUM(L18:L19) -> 2607066 | M20: 10600 | N20: 564225 | O20: 770000 | P20: =SUM(P18:P19) -> 30022551 | R20: =SUM(R18:R19) -> 27415485
F21: =1500*2 -> 3000 | I21: =13275910/2.42 -> 5485913.2
L22: ТӨЛӨХ ГААЛЬ: | M22: 3859126
L23: ТӨЛСӨН ГААЛЬ: | M23: 4629973.7
L24: ЗӨРҮҮ | M24: 770847.68
A27: Бэлтгэн нийлүүлэгч байгууллагын нэр: | C27: I am farm Agricultural Co.,LTD - Цагаан будаа
H29: Гаалийн ханш | I29: 3530.23 | P29: 45761
A30: № | B30: Материалын нэр | D30: Хэмжих нэгж | E30: Тоо хэмжээ | F30: 1 бүрийн /Кг / | G30: Нийт /кг/ | H30: Дүн | J30: Гадаад /тээвэр/ | K30: Гааль / албан татвар / | L30: НӨАТ | M30: Мэдүүлгийн үнэ | N30: Дотоод тээвэр | O30: Бусад | P30: Татан авалтын нийт зардал
H31: /вон/ | I31: /төгрөг/
A32: 1 | B32: Шошго | C32: 16 | D32: кг | E32: 16 | F32: 14.2 | G32: 227.2 | H32: =277668/3530.23 -> 78.654365 | I32: =+H32*3530.23 -> 277668 | K32: =I32*0.05 -> 13883.4 | L32: =(K32+I32)*0.1 -> 29155.14 | M32: 7000 | N32: 0 | O32: 0 | P32: 341589.68
A33: Дүн | E33: 16 | G33: 227.2 | H33: 0 | I33: 291551.17 | J33: 0 | K33: 13883.39 | L33: 29155.12 | M33: 7000 | N33: 0 | O33: 0 | P33: 341589.68
A34: Д/д | B34: Барааны нэрс | C34: Тоо | D34: Нэгж үнэ KRW | E34: Үнэ KRW | F34: Тээвэр KRW | G34: Нийт өртөг МНТ | H34: Хадгалалт | I34: Гааль | J34: НӨАТ | K34: Нэгж өртөг | L34: Нийт өртөг
A35: 1 | B35: Илжгэн чих 60гр | C35: 2016 | D35: 750 | E35: 1512000 | F35: 322255.5 | G35: 4732379.2 | H35: 121331.83 | I35: 378683.4 | J35: 795235.13 | K35: 2595.4337 | L35: =+G35+I35+H35 -> 5232394.4 | M35: =+L35/C35 -> 2595.4337 | N35: =E35+F35 -> 1834255.5 | O35: 2.58
A36: 2 | B36: Илжгэн чих 60гр | C36: 2880 | D36: 850 | E36: 2448000 | F36: 521746.99 | G36: 7661947.2 | H36: 196442.02 | I36: 637090.46 | J36: 1337890 | K36: 2949.8193 | L36: =+G36+I36+H36 -> 8495479.7 | M36: =+L36/C36 -> 2949.8193 | N36: =E36+F36 -> 2969747 | O36: =+G36/N36 -> 2.58
A37: 3 | B37: 6 тай тавиур | C37: 500 | D37: 50 | E37: 25000 | F37: 5328.2986 | G37: 78247.01 | H37: 2006.1481 | I37: 11520.78 | J37: 24193.63 | K37: 183.54788 | L37: =+G37+I37+H37 -> 91773.938 | M37: =+L37/C37 -> 183.54788 | N37: =E37+F37 -> 30328.299 | O37: =+G37/N37 -> 2.58
E38: =SUM(E35:E37) -> 3985000 | F38: 849330.79 | G38: =SUM(G35:G37) -> 12472573 | H38: =351758/1.1 -> 319780 | I38: =SUM(I35:I37) -> 1027294.6 | J38: =SUM(J35:J37) -> 2157318.7 | K38: =SUM(K35:K37) -> 5728.801 | L38: =SUM(L35:L37) -> 13819648 | M38: =SUM(M35:M37) -> 5728.801
F39: =E38*2.58 -> 10281300
A40: Д/д | B40: Барааны нэрс | C40: Тоо | D40: Нэгж үнэ USD | E40: Үнэ USD | F40: Тээвэр USD | G40: Нийт өртөг МНТ | I40: Гааль | J40: НӨАТ | K40: Нэгж өртөг | L40: Нийт өртөг
A41: 1 | B41: Гүзээлзгэнэ | C41: 800 | D41: 1 | E41: =+C41*D41 -> 800 | F41: 261.02932 | G41: =SUM(E41:F41)*3583.72 -> 3802432 | I41: =G41*0.05 -> 190121.6 | J41: =(I41+G41)*0.1 -> 399255.36 | K41: =+L41/C41 -> 4990.692 | L41: =+G41+I41 -> 3992553.6
F42: 849330.79 | H42: =351758/1.1 -> 319780 | J42: =SUM(J41:J41) -> 399255.36 | O42: Дт | P42: Кт
E43: =E42*2.58 -> 0 | J43: =(J42+L33+L20+L14+L8+J38)*10 -> 4.6377995e+08 | M43: БНТөглөг | P43: =I33+G41+G38+I20+I14+I8 -> 4.3363576e+08
...

Sheet Gaali
G1: ЖИДАКС ХХК-н 2025 ОНЫ ГААЛЬ БҮРДҮҮЛЭЛТИЙН НЭГТГЭЛ ТАЙЛАН
A3: № | B3: Барааны нэр | C3: Огноо | D3: Хэмжээ ширхэг | E3: нэгж үнэ $ | F3: Тээвэр | G3: Дүн $ | H3: Ханш | I3: Дүн ₮ | J3: Гаалийн татвар | K3: НӨАТ-н дүн | L3: Бүрдүүлэлт | M3: Нэмэлт тээвэр | N3: Нийт өртөг | O3: Нэгж өртөг | P3: =SUM(I4:I8) -> 422096600
A4: 1 | B4: Цагаан будаа 20кг | C4: 2025.01.16 | D4: 2000 | E4: 45000 | G4: =E4*D4 -> 90000000 | H4: 2.34 | I4: =(G4)*H4 -> 210600000 | J4: =I4*5% -> 10530000 | K4: =(I4+J4)*0.1 -> 22113000 | L4: =24000+14000 -> 38000 | N4: =I4+J4+L4+M4 -> 221168000 | O4: =N4/D4 -> 110584 | P4: =+I4/$P$3*$N$9 -> 155694.28 | Q4: =+(P4+N4)/D4 -> 110661.85
A5: 2 | B5: Цагаан будаа 10кг | C5: 2025.03.18 | D5: 2000 | E5: 19000 | G5: =+E5*D5 -> 38000000 | H5: 2.39 | I5: =(G5)*H5 -> 90820000 | J5: =I5*5% -> 4541000 | K5: =(I5+J5)*0.1 -> 9536100 | L5: 38200 | N5: =I5+J5+L5+M5 -> 95399200 | O5: =N5/D5 -> 47699.6 | P5: =+I5/$P$3*$N$9 -> 67142.233 | Q5: =+(P5+N5)/D5 -> 47733.171
A6: 3 | B6: Цагаан будаа 5кг | C6: 2025.03.18 | D6: 4000 | E6: 9500 | G6: =+E6*D6 -> 38000000 | H6: 2.39 | I6: =(G6)*H6 -> 90820000 | J6: =I6*5% -> 4541000 | K6: =(I6+J6)*0.1 -> 9536100 | L6: 38200 | M6: =1087120+238440 -> 1325560 | N6: =I6+J6+L6+M6 -> 96724760 | O6: =N6/D6 -> 24181.19 | P6: =+I6/$P$3*$N$9 -> 67142.233 | Q6: =+(P6+N6)/D6 -> 24197.976
A7: 4 | B7: Цагаан будаа 2кг | C7: 2025.04.14 | D7: 1500 | E7: 3800 | G7: =+E7*D7 -> 5700000 | H7: 2.91 | I7: =(G7)*H7 -> 16587000 | J7: =I7*5% -> 829350 | K7: =(I7+J7)*0.1 -> 1741635 | L7: =13500+8200+2400 -> 24100 | M7: =295225+526225 -> 821450 | N7: =I7+J7+L7+M7 -> 18261900 | O7: =N7/D7 -> 12174.6 | P7: =+I7/$P$3*$N$9 -> 12262.588 | Q7: =+(P7+N7)/D7 -> 12182.775
A8: 5 | B8: Цагаан будаа 1кг | C8: 2025.04.14 | D8: 2400 | E8: 1900 | G8: =+E8*D8 -> 4560000 | H8: 2.91 | I8: =(G8)*H8 -> 13269600 | J8: =I8*5% -> 663480 | K8: =(I8+J8)*0.1 -> 1393308 | L8: 13500 | N8: =I8+J8+L8+M8 -> 13946580 | O8: =N8/D8 -> 5811.075 | P8: =+I8/$P$3*$N$9 -> 9810.0702 | Q8: =+(P8+N8)/D8 -> 5815.1625
A9: 6 | B9: Шошго | D9: =+'[4]Gaali-2025'!E32 -> 16 | E9: =78.6543652963121/16 -> 4.9158978 | G9: =+E9*D9 -> 78.654365 | H9: =+'[4]Gaali-2025'!I29 -> 3530.23 | I9: =(G9)*H9 -> 277668 | J9: =I9*5% -> 13883.4 | K9: =(I9+J9)*0.1 -> 29155.14 | L9: 13500 | M9: 7000 | N9: =I9+J9+L9+M9 -> 312051.4 | O9: =N9/D9 -> 19503.212
A10: 7 | B10: Илжгэн чих 60гр | C10: 2025.08.25 | D10: 2016 | E10: 750 | F10: =+[7]Import!F4 -> 804896.22 | G10: =(E10*D10)+F10 -> 2316896.2 | H10: 2.58 | I10: =(G10)*H10 -> 5977592.2 | J10: 378683.4 | K10: 795235.13 | L10: 13500 | M10: 121331.83 | N10: =I10+J10+L10+M10 -> 6491107.5 | O10: =N10/D10 -> 3219.7954 | Q10: =+O10 -> 3219.7954
A11: 8 | B11: Илжгэн чих 60гр | D11: 2880 | E11: 850 | F11: =+[7]Import!F5 -> 1303165.3 | G11: =(E11*D11)+F11 -> 3751165.3 | H11: 2.58 | I11: =(G11)*H11 -> 9678006.5 | J11: 637090.46 | K11: 1337890 | L11: =20000+10600 -> 30600 | M11: 196442.02 | N11: =I11+J11+L11+M11 -> 10542139 | O11: =N11/D11 -> 3660.4649 | Q11: =+O11 -> 3660.4649
A12: 9 | B12: 6 тай тавиур | D12: 500 | E12: 50 | F12: =+[7]Import!F6 -> 13308.469 | G12: =(E12*D12)+F12 -> 38308.469 | H12: 2.58 | I12: =(G12)*H12 -> 98835.851 | J12: 11520.78 | K12: 24193.63 | L12: 20000 | M12: 2006.1481 | N12: =I12+J12+L12+M12 -> 132362.78 | O12: =N12/D12 -> 264.72556 | Q12: =+O12 -> 264.72556
A13: 10 | B13: Гүзээлзгэнэ | C13: 2025.07.07 | D13: 800 | E13: 1 | G13: =+E13*D13 -> 800 | H13: 3583.72 | I13: =(261.029321+G13)*H13 -> 3802432 | J13: =I13*5% -> 190121.6 | K13: =(I13+J13)*0.1 -> 399255.36 | L13: 30000 | N13: =I13+J13+L13+M13 -> 4022553.6 | O13: =N13/D13 -> 5028.192 | Q13: =+O13 -> 5028.192
A14: Дүн | D14: =SUM(D4:D13) -> 18112 | E14: =SUM(E4:E13) -> 80855.916 | G14: =SUM(G4:G13) -> 1.8236725e+08 | H14: =SUM(H4:H13) -> 7134.63 | I14: =SUM(I4:I13) -> 4.4193113e+08 | J14: =SUM(J4:J13) -> 22336130 | K14: =SUM(K4:K13) -> 46905872 | L14: =SUM(L4:L13) -> 259600 | M14: =SUM(M4:M13) -> 2473790 | N14: =SUM(N4:N13) -> 4.6700065e+08 | O14: =SUM(O4:O13) -> 232126.86 | Q14: =SUM(Q4:Q13) -> 212764.11
I18: =2+2+6+1+5 -> 16 | J18: ДТ | K18: КТ
H19: БНТӨглөг | K19: =I14 -> 4.4193113e+08
H20: Дансны өглөг-Бусад тооцоо | K20: =+J14+K14+L14+M14 -> 71975392
H22: БМ | J22: =+I14+J14+L14+M14 -> 4.6700065e+08
H23: НӨАТ | J23: =+K14 -> 46905872
J25: =SUM(J19:J24) -> 5.1390653e+08 | K25: =SUM(K19:K24) -> 5.1390653e+08

Sheet Sheet2
B2: Pulbichae eco friendly
A3: Д/д | B3: Барааны нэрс | C3: Тоо | D3: Нэгж үнэ KRW | E3: Үнэ KRW | F3: Тээвэр KRW | G3: Нийт өртөг МНТ | H3: Хадгалалт | I3: Гааль | J3: НӨАТ | K3: Нэгж өртөг
A4: 1 | B4: Илжгэн чих 60гр | C4: 2016 | D4: 750 | E4: =C4*D4 -> 1512000 | F4: =(E4/$E$7)*F6 -> 2021.6781 | G4: =(E4+F4)*2.58 -> 3906175.9 | H4: =G4/G7*H7 -> 107253.76 | I4: 378683.4 | J4: 795235.13 | K4: =(G4+H4+I4)/C4 -> 2178.6275
A5: 2 | B5: Илжгэн чих 60гр | C5: 2880 | D5: 850 | E5: =+C5*D5 -> 2448000 | F5: =(E5/$E$7)*F7 -> 521746.99 | G5: =(E5+F5)*2.58 -> 7661947.2 | H5: =G5/G7*H7 -> 210377.78 | I5: 637090.46 | J5: 1337890 | K5: =(G5+H5+I5)/C5 -> 2954.6582
A6: 3 | B6: 6 тай тавиур | C6: 500 | D6: 50 | E6: =+C6*D6 -> 25000 | F6: =(E6/$E$7)*F7 -> 5328.2986 | G6: =(E6+F6)*2.58 -> 78247.01 | H6: =G6/G7*H7 -> 2148.4659 | I6: 11520.78 | J6: 24193.63 | K6: =(G6+H6+I6)/C6 -> 183.83251
E7: =SUM(E4:E6) -> 3985000 | F7: 849330.79 | G7: =SUM(G4:G6) -> 11646370 | H7: =351758/1.1 -> 319780 | I7: =SUM(I4:I6) -> 1027294.6 | J7: =SUM(J4:J6) -> 2157318.7
E8: =E7*2.58 -> 10281300

Sheet BM
B2: Жидакс ХК-Цагаан будааны борлуулалтын тайлан / 쌀 판매 보고서
B3: Цагаан будаа борлуулалт
A4: Огноо / 날짜 | C4: 20кг | D4: 10кг | E4: 5кг | F4: 2кг | G4: 1кг | Q4: Нийт өртөг
B5: Өртөг | C5: =+'Gaali-2025'!Q8 -> 113484.68 | D5: =+'Gaali-2025'!Q12 -> 48457.5 | E5: =+'Gaali-2025'!Q13 -> 24216.73 | F5: =+'Gaali-2025'!Q19 -> 9655.8 | G5: =+'Gaali-2025'!Q18 -> 5388.2437 | L5: =C7*C5 -> 1.4015358e+08 | M5: =D7*D5 -> 26263965 | N5: =E7*E5 -> 22521559 | O5: =F7*F5 -> 8159151 | P5: =G7*G5 -> 11159053 | Q5: =SUM(L5:P5) -> 2.0825731e+08
A6: 1 | B6: Орлого | C6: 2000 | D6: 2000 | E6: 4000 | F6: 1500 | G6: 2400
A7: 2 | B7: Борлуулалт | C7: =+L59 -> 1235 | D7: =+M59-3 -> 542 | E7: =+N59 -> 930 | F7: =+O59 -> 845 | G7: =+P59 -> 2071 | H7: =SUM(C7:G7) -> 5623 | L7: Gaalid | M7: =M21*D5 -> 145372.5 | N7: дээж
A8: 3 | B8: ЛИЙ 사장
A9: Үлдэгдэл /수량 잔액 | C9: =C6-C7-C8 -> 765 | D9: =D6-D7-D8 -> 1458 | E9: =E6-E7-E8 -> 3070 | F9: =F6-F7-F8 -> 655 | G9: =G6-G7-G8 -> 329 | L9: =+G13/1.1 -> 110000
A11: № | B11: Огноо / 날짜 | C11: Нэхэмжлэхийн дугаар / 청구서 번호 | D11: Байгууллага нэрс / 기관 명칭들 | E11: Байгууллага РД | F11: Гэрээний / pdf / | G11: Нэгж үнэ / 단가 | L11: 20 кг | M11: 10 кг | N11: 5 кг | O11: 2 кг | P11: 1 кг | Q11: Төлөх дүн / 결제 금액 | R11: Төлсөн / 유급의 | S11: НӨАТ-тэй борлуулалт / 부가세 | T11: Гүйцэтгэл / 수행
G12: 20 кг | H12: 10 кг | I12: 5 кг | J12: 2 кг | K12: 1 кг
A13: 1 | B13: 2025.01.21 | C13: НЭХЭМЖЛЭХ №1 | D13: Signature desings LLC | E13: 5538009 | F13: 0 | G13: 121000 | K13: 12000 | L13: 150 | Q13: =+G13*L13 -> 18150000 | R13: 18150000 | S13: 1 | T13: 1
A14: 2 | B14: 2025.01.21 | C14: НЭХЭМЖЛЭХ №2 | D14: СӨҮЛ | E14: 2073854 | F14: 0 | G14: 121000 | K14: 12000 | L14: 260 | Q14: =+G14*L14 -> 31460000 | R14: 31460000 | S14: 1 | T14: 1
A15: 3 | B15: 2025.01.25 | C15: 0 | D15: Ирусам ХХК | E15: 5869072 | G15: 121000 | K15: 12000 | L15: 50 | Q15: =+G15*L15 -> 6050000 | R15: 6050000 | S15: 1 | T15: 1
A16: 4 | B16: 2025.01.24 | C16: НЭХЭМЖЛЭХ №3 | D16: Хангүг Сувон Сэри | E16: 7001529 | F16: 0 | G16: 121000 | K16: 12000 | L16: 10 | Q16: =+G16*L16 -> 1210000 | R16: 1210000 | S16: 1 | T16: 1
A17: 6 | B17: 2025.02.20 | C17: НЭХЭМЖЛЭХ №4 | D17: Монголкореа сторе | E17: 5906261 | F17: 0 | G17: 145000 | K17: 12000 | L17: 300 | Q17: =+G17*L17 -> 43500000 | R17: 43500000 | S17: 1 | T17: 1
A18: 7 | B18: 2025.03.26 | C18: НЭХЭМЖЛЭХ №5 | D18: Монголкореа сторе | E18: 5906261 | F18: 0 | H18: 85000 | I18: 48000 | K18: 12000 | M18: 50 | N18: 200 | Q18: 13850000 | R18: 13850000 | S18: 1 | T18: 1
A19: 8 | B19: 2025.03.27 | C19: НЭХЭМЖЛЭХ №6 | D19: Арвин бүрэн | E19: 5344476 | F19: 0 | H19: 85000 | I19: 48000 | K19: 12000 | M19: 10 | N19: 20 | Q19: 1810000 | R19: 1810000 | S19: 1 | T19: 1
A20: 9 | B20: 2025.04.15 | C20: НЭХЭМЖЛЭХ №7 | D20: СӨҮЛ | E20: 2073854 | F20: 0 | G20: 121000 | K20: 12000 | L20: 150 | Q20: =+G20*L20 -> 18150000 | R20: 18150000 | S20: 1 | T20: 1
A21: 10 | B21: 2025.04.21 | C21: 0 | D21: Гаалийн ахлах | E21: 0 | F21: 0 | H21: 72500 | K21: 12000 | M21: 3 | Q21: 217500 | R21: 217500 | S21: 1 | T21: 1
A22: 11 | B22: 2025.04.21 | C22: 0 | D22: Хувь хүн | E22: 0 | F22: 0 | G22: 160000 | K22: 12000 | L22: 1 | Q22: =+G22*L22 -> 160000 | R22: 160000 | S22: 1 | T22: 1
A23: 11 | B23: 2025.04.22 | D23: Хувь хүн | E23: 0 | F23: 0 | G23: 160000 | K23: 12000 | L23: 1 | Q23: =+G23*L23 -> 160000 | R23: 217500 | S23: 1 | T23: 1
A24: 11 | B24: 2025.04.23 | D24: Хувь хүн | E24: 0 | F24: 0 | G24: 160000 | K24: 12000 | L24: 1 | Q24: =+G24*L24 -> 160000 | R24: 217500 | S24: 1 | T24: 1
A25: 11 | B25: 2025.04.24 | D25: Хувь хүн | E25: 0 | F25: 0 | G25: 160000 | K25: 12000 | L25: 1 | Q25: =+G25*L25 -> 160000 | R25: 217500 | S25: 1 | T25: 1
A26: 11 | B26: 2025.04.25 | D26: Хувь хүн | E26: 0 | F26: 0 | G26: 160000 | K26: 12000 | L26: 1 | Q26: =+G26*L26 -> 160000 | R26: 217500 | S26: 1 | T26: 1
A27: 11 | B27: 2025.04.26 | D27: Хувь хүн | E27: 0 | F27: 0 | G27: 160000 | K27: 12000 | L27: 1 | Q27: =+G27*L27 -> 160000 | R27: 217500 | S27: 1 | T27: 1
A28: 11 | B28: 2025.04.27 | D28: Хувь хүн | E28: 0 | F28: 0 | G28: 160000 | K28: 12000 | L28: 1 | Q28: =+G28*L28 -> 160000 | R28: 217500 | S28: 1 | T28: 1
A29: 11 | B29: 2025.04.28 | D29: Хувь хүн | E29: 0 | F29: 0 | G29: 160000 | K29: 12000 | L29: 1 | Q29: =160000-35000 -> 125000 | R29: 217500 | S29: 1 | T29: 1
A30: 12 | B30: 2025.05.13 | C30: НЭХЭМЖЛЭХ №8 | D30: Арвин бүрэн | E30: 5344476 | F30: 0 | H30: 85000 | I30: 48000 | J30: 20000 | K30: 12000 | M30: 20 | N30: 20 | O30: 20 | Q30: =+L30*G30+M30*H30+N30*I30+O30*J30+P30*K30 -> 3060000 | R30: 3060000 | S30: 1 | T30: 1
A31: 13 | B31: 2025.06.05 | C31: НЭХЭМЖЛЭХ №9 | D31: Солонгос иргэдийн нийгэмлэг | E31: 1028073 | F31: 0 | K31: 12000 | P31: 100 | Q31: =+L31*G31+M31*H31+N31*I31+O31*J31+P31*K31 -> 1200000 | R31: 1200000 | S31: 1 | T31: 1
A32: 14 | B32: 2025.06.13 | C32: НЭХЭМЖЛЭХ №10 | D32: Монголкореа сторе | E32: 5906261 | F32: 0 | H32: 85000 | I32: 48000 | J32: 20000 | K32: 12000 | M32: 30 | N32: 50 | O32: 50 | Q32: =+L32*G32+M32*H32+N32*I32+O32*J32+P32*K32 -> 5950000 | R32: 5950000 | S32: 1 | T32: 1
A33: 16 | B33: 2025.06.30 | C33: НЭХЭМЖЛЭХ №12 | D33: Монголкореа сторе | E33: 5906261 | F33: 0 | G33: 160000 | H33: 85000 | I33: 48000 | J33: 20000 | K33: 12000 | L33: 10 | M33: 20 | N33: 30 | O33: 30 | Q33: =+L33*G33+M33*H33+N33*I33+O33*J33+P33*K33 -> 5340000 | R33: 5340000 | S33: 1 | T33: 1
A34: 17 | B34: 2025.07.08 | C34: НЭХЭМЖЛЭХ №13 | D34: Эко Грийн Энержи | E34: 5734258 | F34: 0 | G34: 160000 | H34: 85000 | I34: 48000 | J34: 20000 | K34: 12000 | N34: 50 | O34: 50 | Q34: =+L34*G34+M34*H34+N34*I34+O34*J34+P34*K34 -> 3400000 | R34: 3400000 | S34: 1 | T34: 1 | U34: Lee dans
A35: 18 | B35: 2025.07.24 | C35: НЭХЭМЖЛЭХ №14 | D35: Арвин бүрэн | E35: 5344476 | F35: 0 | G35: 160000 | H35: 85000 | I35: 48000 | J35: 20000 | K35: 12000 | N35: 20 | O35: 15 | Q35: =+L35*G35+M35*H35+N35*I35+O35*J35+P35*K35 -> 1260000
A36: 19 | B36: 2025.07.25 | C36: НЭХЭМЖЛЭХ №15 | D36: Монголкореа сторе | E36: 5906261 | F36: 0 | G36: 160000 | H36: 85000 | I36: 48000 | J36: 20000 | K36: 12000 | L36: 20 | M36: 30 | N36: 50 | O36: 50 | Q36: =+L36*G36+M36*H36+N36*I36+O36*J36+P36*K36 -> 9150000 | R36: 9150000 | S36: 1 | T36: 1
A37: 20 | B37: 2025.07.25 | C37: НЭХЭМЖЛЭХ №16 | D37: Мэлз дэлгэрэх Хайрхан | E37: 4557875 | G37: 160000 | H37: 85000 | I37: 48000 | J37: 20000 | K37: 12000 | L37: 10 | M37: 20 | N37: 60 | O37: 80 | Q37: =+L37*G37+M37*H37+N37*I37+O37*J37+P37*K37 -> 7780000 | R37: 2000000
A38: 21 | B38: 2025.08.08 | C38: НЭХЭМЖЛЭХ №17 | D38: Монголкореа сторе | E38: 5906261 | G38: 160000 | H38: 85000 | I38: 48000 | J38: 20000 | K38: 12000 | L38: 20 | M38: 30 | N38: 50 | O38: 50 | Q38: =+L38*G38+M38*H38+N38*I38+O38*J38+P38*K38 -> 9150000 | R38: 9150000 | S38: 1 | T38: 1
A39: 22 | B39: 2025.08.25 | C39: НЭХЭМЖЛЭХ №18 | D39: Монголкореа сторе | E39: 5906261 | G39: 160000 | H39: 85000 | I39: 48000 | J39: 20000 | K39: 12000 | L39: 20 | M39: 30 | N39: 50 | O39: 100 | Q39: =+L39*G39+M39*H39+N39*I39+O39*J39+P39*K39 -> 10150000 | R39: 10150000 | S39: 1 | T39: 1
A40: 23 | B40: 2025.09.15 | C40: НЭХЭМЖЛЭХ №19 | D40: СӨҮЛ | E40: 2073854 | G40: 121000 | H40: 85000 | I40: 48000 | J40: 20000 | K40: 12000 | L40: 200 | Q40: =+L40*G40+M40*H40+N40*I40+O40*J40+P40*K40 -> 24200000 | R40: 24200000 | S40: 1 | T40: 1
A41: 24 | B41: 2025.09.19 | C41: НЭХЭМЖЛЭХ №20 | D41: Монголкореа сторе | E41: 5906261 | G41: 160000 | H41: 85000 | I41: 48000 | J41: 20000 | K41: 12000 | M41: 30 | N41: 50 | O41: 100 | Q41: =+L41*G41+M41*H41+N41*I41+O41*J41+P41*K41 -> 6950000 | R41: 6950000 | S41: 1 | T41: 1
A42: 25 | B42: 2025.10.06 | C42: НЭХЭМЖЛЭХ №21 | D42: Монголкореа сторе | E42: 5906261 | G42: 160000 | H42: 85000 | I42: 48000 | J42: 20000 | K42: 12000 | M42: 50 | N42: 50 | O42: 50 | Q42: =+L42*G42+M42*H42+N42*I42+O42*J42+P42*K42 -> 7650000 | R42: 7650000 | S42: 1 | T42: 1
...

Sheet Sheet3
B2: Жидакс ХК-Цагаан будааны борлуулалтын тайлан / 쌀 판매 보고서
B3: Цагаан будаа борлуулалт
A4: Огноо / 날짜 | C4: 20кг | D4: 10кг | E4: 5кг | F4: 2кг | G4: 1кг | Q4: Нийт өртөг
B5: Өртөг | C5: =+'Gaali-2025'!Q8 -> 113484.68 | D5: =+'Gaali-2025'!Q12 -> 48457.5 | E5: =+'Gaali-2025'!Q13 -> 24216.73 | F5: =+'Gaali-2025'!Q19 -> 9655.8 | G5: =+'Gaali-2025'!Q18 -> 5388.2437 | L5: =C7*C5 -> 1.4265024e+08 | M5: =D7*D5 -> 41043502 | N5: =E7*E5 -> 26275152 | O5: =F7*F5 -> 8207430 | P5: =G7*G5 -> 11159053 | Q5: =SUM(L5:P5) -> 2.2933538e+08
A6: 1 | B6: Орлого | C6: 2000 | D6: 2000 | E6: 4000 | F6: 1500 | G6: 2400
A7: 2 | B7: Борлуулалт | C7: =+L69 -> 1257 | D7: =+M69-3 -> 847 | E7: =+N69 -> 1085 | F7: =+O69 -> 850 | G7: =+P69 -> 2071 | H7: =SUM(C7:G7) -> 6110 | M7: =+M22*D5 -> 145372.5 | N7: дээж
A8: 3 | B8: ЛИЙ 사장
A9: Үлдэгдэл /수량 잔액 | C9: =C6-C7-C8 -> 743 | D9: =D6-D7-D8 -> 1153 | E9: =E6-E7-E8 -> 2915 | F9: =F6-F7-F8 -> 650 | G9: =G6-G7-G8 -> 329 | L9: =+G13/1.1 -> 110000
A11: № | B11: Огноо / 날짜 | C11: Нэхэмжлэхийн дугаар / 청구서 번호 | D11: Байгууллага нэрс / 기관 명칭들 | E11: Байгууллага РД | F11: Гэрээний / pdf / | G11: Нэгж үнэ / 단가 | L11: 20 кг | M11: 10 кг | N11: 5 кг | O11: 2 кг | P11: 1 кг | Q11: Төлөх дүн / 결제 금액 | R11: Төлсөн / 유급의 | S11: НӨАТ-тэй борлуулалт / 부가세 | T11: Гүйцэтгэл / 수행
G12: 20 кг | H12: 10 кг | I12: 5 кг | J12: 2 кг | K12: 1 кг
A13: 1 | B13: 2025.01.21 | C13: НЭХЭМЖЛЭХ №1 | D13: Signature desings LLC | E13: 5538009 | F13: 0 | G13: 121000 | K13: 12000 | L13: 150 | Q13: =+G13*L13 -> 18150000 | R13: 18150000 | S13: 1 | T13: 1
A14: 2 | B14: 2025.01.21 | C14: НЭХЭМЖЛЭХ №2 | D14: СӨҮЛ | E14: 2073854 | F14: 0 | G14: 121000 | K14: 12000 | L14: 260 | Q14: =+G14*L14 -> 31460000 | R14: 31460000 | S14: 1 | T14: 1
A15: 3 | B15: 2025.01.25 | C15: 0 | D15: Ирусам ХХК | E15: 5869072 | G15: 121000 | K15: 12000 | L15: 50 | Q15: =+G15*L15 -> 6050000 | R15: 6050000 | S15: 1 | T15: 1
A16: 4 | B16: 2025.01.24 | C16: НЭХЭМЖЛЭХ №3 | D16: Хангүг Сувон Сэри | E16: 7001529 | F16: 0 | G16: 121000 | K16: 12000 | L16: 10 | Q16: =+G16*L16 -> 1210000 | R16: 1210000 | S16: 1 | T16: 1
A17: 5 | B17: 2025.01.27 | C17: 0 | D17: Мега | E17: 0 | G17: 121000 | K17: 12000 | L17: 10 | Q17: =+G17*L17 -> 1210000 | R17: 1210000 | S17: 1 | T17: 1
A18: 6 | B18: 2025.02.20 | C18: НЭХЭМЖЛЭХ №4 | D18: Монголкореа сторе | E18: 5906261 | F18: 0 | G18: 145000 | K18: 12000 | L18: 300 | Q18: =+G18*L18 -> 43500000 | R18: 43500000 | S18: 1 | T18: 1
A19: 7 | B19: 2025.03.26 | C19: НЭХЭМЖЛЭХ №5 | D19: Монголкореа сторе | E19: 5906261 | F19: 0 | H19: 85000 | I19: 48000 | K19: 12000 | M19: 50 | N19: 200 | Q19: 13850000 | R19: 13850000 | S19: 1 | T19: 1
A20: 8 | B20: 2025.03.27 | C20: НЭХЭМЖЛЭХ №6 | D20: Арвин бүрэн | E20: 5344476 | F20: 0 | H20: 85000 | I20: 48000 | K20: 12000 | M20: 10 | N20: 20 | Q20: 1810000 | R20: 1810000 | S20: 1 | T20: 1
A21: 9 | B21: 2025.04.15 | C21: НЭХЭМЖЛЭХ №7 | D21: СӨҮЛ | E21: 2073854 | F21: 0 | G21: 121000 | K21: 12000 | L21: 150 | Q21: =+G21*L21 -> 18150000 | R21: 18150000 | S21: 1 | T21: 1
A22: 10 | B22: 2025.04.21 | C22: 0 | D22: Гаалийн ахлах | E22: 0 | F22: 0 | H22: 72500 | K22: 12000 | M22: 3 | Q22: 217500 | R22: 217500 | S22: 1 | T22: 1
A23: 11 | B23: 2025.04.21 | C23: 0 | D23: Хувь хүн | E23: 0 | F23: 0 | G23: 160000 | K23: 12000 | L23: 1 | Q23: =+G23*L23 -> 160000 | R23: 160000 | S23: 1 | T23: 1
A24: 11 | B24: 2025.04.22 | D24: Хувь хүн | E24: 0 | F24: 0 | G24: 160000 | K24: 12000 | L24: 1 | Q24: =+G24*L24 -> 160000 | R24: 217500 | S24: 1 | T24: 1
A25: 11 | B25: 2025.04.23 | D25: Хувь хүн | E25: 0 | F25: 0 | G25: 160000 | K25: 12000 | L25: 1 | Q25: =+G25*L25 -> 160000 | R25: 217500 | S25: 1 | T25: 1
A26: 11 | B26: 2025.04.24 | D26: Хувь хүн | E26: 0 | F26: 0 | G26: 160000 | K26: 12000 | L26: 1 | Q26: =+G26*L26 -> 160000 | R26: 217500 | S26: 1 | T26: 1
A27: 11 | B27: 2025.04.25 | D27: Хувь хүн | E27: 0 | F27: 0 | G27: 160000 | K27: 12000 | L27: 1 | Q27: =+G27*L27 -> 160000 | R27: 217500 | S27: 1 | T27: 1
A28: 11 | B28: 2025.04.26 | D28: Хувь хүн | E28: 0 | F28: 0 | G28: 160000 | K28: 12000 | L28: 1 | Q28: =+G28*L28 -> 160000 | R28: 217500 | S28: 1 | T28: 1
A29: 11 | B29: 2025.04.27 | D29: Хувь хүн | E29: 0 | F29: 0 | G29: 160000 | K29: 12000 | L29: 1 | Q29: =+G29*L29 -> 160000 | R29: 217500 | S29: 1 | T29: 1
A30: 11 | B30: 2025.04.28 | D30: Хувь хүн | E30: 0 | F30: 0 | G30: 160000 | K30: 12000 | L30: 1 | Q30: =160000-35000 -> 125000 | R30: 217500 | S30: 1 | T30: 1
A31: 11 | B31: 2025.04.29 | D31: Хувь хүн | E31: 0 | F31: 0 | G31: 160000 | K31: 12000 | L31: 1 | Q31: =160000+35000 -> 195000 | R31: 217500 | S31: 1 | T31: 1
A32: 11 | B32: 2025.04.30 | D32: Хувь хүн | E32: 0 | F32: 0 | G32: 160000 | K32: 12000 | L32: 1 | Q32: =+G32*L32 -> 160000 | R32: 217500 | S32: 1 | T32: 1
A33: 11 | B33: 2025.04.31 | D33: Хувь хүн | E33: 0 | F33: 0 | G33: 160000 | K33: 12000 | L33: 1 | Q33: =+G33*L33 -> 160000 | R33: 217500 | S33: 1 | T33: 1
A34: 11 | B34: 2025.04.32 | D34: Хувь хүн | E34: 0 | F34: 0 | G34: 160000 | K34: 12000 | L34: 1 | Q34: =+G34*L34 -> 160000 | R34: 217500 | S34: 1 | T34: 1
A35: 11 | B35: 2025.04.33 | D35: Хувь хүн | E35: 0 | F35: 0 | G35: 160000 | K35: 12000 | L35: 1 | Q35: =+G35*L35 -> 160000 | R35: 217500 | S35: 1 | T35: 1
A36: 11 | B36: 2025.04.34 | D36: Хувь хүн | E36: 0 | F36: 0 | G36: 160000 | K36: 12000 | L36: 1 | Q36: =+G36*L36 -> 160000 | R36: 217500 | S36: 1 | T36: 1
A37: 11 | B37: 2025.04.35 | D37: Хувь хүн | E37: 0 | F37: 0 | G37: 160000 | K37: 12000 | L37: 1 | Q37: =+G37*L37 -> 160000 | R37: 217500 | S37: 1 | T37: 1
A38: 12 | B38: 2025.05.13 | C38: НЭХЭМЖЛЭХ №8 | D38: Арвин бүрэн | E38: 5344476 | F38: 0 | H38: 85000 | I38: 48000 | J38: 20000 | K38: 12000 | M38: 20 | N38: 20 | O38: 20 | Q38: =+L38*G38+M38*H38+N38*I38+O38*J38+P38*K38 -> 3060000 | R38: 3060000 | S38: 1 | T38: 1
A39: 13 | B39: 2025.06.05 | C39: НЭХЭМЖЛЭХ №9 | D39: Солонгос иргэдийн нийгэмлэг | E39: 1028073 | F39: 0 | K39: 12000 | P39: 100 | Q39: =+L39*G39+M39*H39+N39*I39+O39*J39+P39*K39 -> 1200000 | R39: 1200000 | S39: 1 | T39: 1
A40: 14 | B40: 2025.06.13 | C40: НЭХЭМЖЛЭХ №10 | D40: Монголкореа сторе | E40: 5906261 | F40: 0 | H40: 85000 | I40: 48000 | J40: 20000 | K40: 12000 | M40: 30 | N40: 50 | O40: 50 | Q40: =+L40*G40+M40*H40+N40*I40+O40*J40+P40*K40 -> 5950000 | R40: 5950000 | S40: 1 | T40: 1
A41: 15 | B41: 2025.06.13 | C41: НЭХЭМЖЛЭХ №11 | D41: Ихнаяд зах 87-р лангуу | F41: 0 | G41: 160000 | H41: 85000 | I41: 48000 | J41: 20000 | K41: 12000 | L41: 5 | M41: 5 | N41: 5 | O41: 5 | Q41: =+L41*G41+M41*H41+N41*I41+O41*J41+P41*K41 -> 1565000 | R41: 1565000 | S41: 1 | T41: 1
A42: 16 | B42: 2025.06.30 | C42: НЭХЭМЖЛЭХ №12 | D42: Монголкореа сторе | E42: 5906261 | F42: 0 | G42: 160000 | H42: 85000 | I42: 48000 | J42: 20000 | K42: 12000 | L42: 10 | M42: 20 | N42: 30 | O42: 30 | Q42: =+L42*G42+M42*H42+N42*I42+O42*J42+P42*K42 -> 5340000 | R42: 5340000 | S42: 1 | T42: 1
...

Sheet Vat
B1: ЖИДАКС ХХК | H1: НӨАТЫН ТАЙЛАНГИЙН НЭТГЭЛ | L1: 2025 он
A2: Д/д | B2: Огноо | C2: НӨАТ-тэй борлуулалт | D2: НӨАТ-гүй борлуулалт | E2: Татварт төлөх дүн | F2: ҮХ-н худалдан авалт | G2: Дотоот худалдан авалтын дүн | H2: Импортын худ/авалт | I2: Нийт худалдан авалтын дүн | J2: Хасагдахгүй НӨАТ | K2: Тат-с буцаан авах НӨАТ | L2: Тухайн сарын НОГДОЛ | M2: Үлдэгдэл | N2: Төлсөн | R2: төлөх | S2: буцаан
G3: Эхний үлдэгдэл | M3: -2611487.1 | S3: 2611487.1
A4: 1 | B4: 2025.01 | C4: =SUM(D4:E4) -> 56870000 | D4: 51700000 | E4: =D4*0.1 -> 5170000 | G4: 9321866.9 | H4: 221130000 | I4: =SUM(F4:H4) -> 2.3045187e+08 | K4: =(I4*0.1)-J4 -> 23045187 | L4: =E4-K4 -> -17875187 | M4: =M3+L4 -> -20486674 | O4: =+K4-'[8]jurnal 06.30'!F8 -> 14550394 | P4: =+E4-'[8]jurnal 06.30'!T5 -> -4080000 | Q4: =+H4/D4 -> 4.277176 | S4: 17875187 | T4: =+H4*0.1 -> 22113000 | U4: 2025.01
A5: 2 | B5: 2025.02 | C5: =SUM(D5:E5) -> 0 | E5: =D5*0.1 -> 0 | G5: 510000 | I5: =SUM(F5:H5) -> 510000 | K5: =(I5*0.1)-J5 -> 51000 | L5: =E5-K5 -> -51000 | M5: =M4+L5 -> -20537674 | O5: =+K5-'[8]jurnal 06.30'!F9 -> -7557798.5 | P5: =+E5-'[8]jurnal 06.30'!T6 -> -7090909.1 | Q5: =+H5/D5 -> #DIV/0! | S5: 51000 | T5: =+H5*0.1 -> 0 | U5: 2025.02
A6: 3 | B6: 2025.03 | C6: =SUM(D6:E6) -> 11020000 | D6: 10018182 | E6: =D6*0.1 -> 1001818.2 | G6: 3848727.3 | H6: 190722000 | I6: =SUM(F6:H6) -> 1.9457073e+08 | J6: 48490.9 | K6: =(I6*0.1)-J6 -> 19408582 | L6: =E6-K6 -> -18406764 | M6: =M5+L6 -> -38944437 | O6: =+K6-'[8]jurnal 06.30'!F10 -> 11361744 | P6: =+E6-'[8]jurnal 06.30'!T7 -> -7816363.6 | Q6: =+H6/D6 -> 19.037586 | S6: 18406764 | T6: =+H6*0.1 -> 19072200 | U6: 2025.03
A7: 4 | B7: 2025.04 | C7: =SUM(D7:E7) -> 34131500 | D7: 31028636 | E7: =D7*0.1 -> 3102863.6 | G7: 563483.64 | H7: 31655889 | I7: =SUM(F7:H7) -> 32219373 | K7: =(I7*0.1)-J7 -> 3221937.3 | L7: =E7-K7 -> -119073.62 | M7: =M6+L7 -> -39063511 | O7: =+K7-'[8]jurnal 06.30'!F11 -> -3779136.1 | P7: =+E7-'[8]jurnal 06.30'!T8 -> -3806227.3 | Q7: =+H7/D7 -> 1.0202153 | S7: 119073.62 | T7: =+H7*0.1 -> 3165588.9 | U7: 2025.04
