Workbook
Name А1: #REF!

Sheet CT1
A1: САНХҮҮГИЙН БАЙДЛЫН ТАЙЛАН
A3: "ОРХОН ХӨГЖИЛ" ХК | D3: 2025 оны 12-р сарын 31-ний өдөр
D5: (төгрөгөөр)
A6: Мөрийн дугаар | B6: БАЛАНСЫН ЗҮЙЛ | C6: Үлдэгдэл
C7: 01-р сарын 01 | D7: 12-р сарын 31
A8: А | B8: Б | C8: 1 | D8: 2
A9: 1 | B9: ХӨРӨНГӨ
A10: 1.1 | B10: Эргэлтийн хөрөнгө
A11: 1.1.1 | B11: Мөнгө ба түүнтэй адилтгах хөрөнгө | C11: 1846495.5 | D11: 1108631.4
A12: 1.1.2 | B12: Богино хугацаат хөрөнгө оруулалт
A13: 1.1.3 | B13: Үнэлгээний хасагдуулга
A14: 1.1.4 | B14: Дансны авлага | C14: 1125292286 | D14: 1016980286
A15: 1.1.5 | B15: Бусад авлага | C15: 869851 | D15: 2209280
A16: 1.1.6 | B16: Найдваргүй авлагын хасагдуулга
A17: 1.1.7 | B17: Татвар НДШ-ийн авлага
A18: 1.1.8 | B18: Бараа материал | C18: 3.0486486e+08 | D18: 3.716833e+08
A19: 1.1.9 | B19: Мал амьтад (ХАА-н үйлдвэрлэлийн)
A20: 1.1.10 | B20: Урьдчилж төлсөн зардал/тооцоо
A21: 1.1.11
A22: 1.1.20 | B22: Эргэлтийн хөрөнгийн дүн | C22: =SUM(C11:C21) -> 1.4328735e+09 | D22: =SUM(D11:D21) -> 1.3919815e+09
A23: 1.2 | B23: Эргэлтийн бус хөрөнгө
A24: 1.2.1 | B24: Үндсэн хөрөнгө | C24: 8.2149921e+08 | D24: 7.072106e+08
A25: 1.2.3 | B25: Бусад үндсэн хөрөнгө
A26: 1.2.5 | B26: Дуусаагүй барилга
A27: 1.2.6 | B27: Мал амьтад (ХАА-н үйлдвэрлэлийн)
A28: 1.2.7 | B28: Биет бус хөрөнгө
A29: 1.2.8 | B29: Хуримтлагдсан элэгдэл
A30: 1.2.9 | B30: Хөрөнгө оруулалт ба бусад хөрөнгө
A31: 1.2.10 | B31: Үнэлгээний хасагдуулга
A32: 1.2.11 | B32: Хойшлогдсон татварын хөрөнгө
A33: 1.2.20 | B33: Эргэлтийн бус хөрөнгийн дүн | C33: =SUM(C24:C32) -> 8.2149921e+08 | D33: =SUM(D24:D32) -> 7.072106e+08
A34: 1.3 | B34: НИЙТ ХӨРӨНГИЙН ДҮН | C34: =C22+C33 -> 2.2543727e+09 | D34: =D22+D33 -> 2.0991921e+09
A35: 2 | B35: Эргэлтийн бус хөрөнгө
A36: 2.1 | B36: ӨР ТӨЛБӨР
A37: 2.1.1 | B37: Богино хугацаат өр төлбөр
A38: 2.1.1.1 | B38: Дансны өглөг | C38: 32265000 | D38: 16410000
A39: 2.1.1.2 | B39: Цалингийн өглөг | C39: 0 | D39: 0
A40: 2.1.1.3 | B40: Орлогын татварын өглөг | C40: 15395961 | D40: =54746169.73 -> 54746170
A41: 2.1.1.4 | B41: ХАОАТ-ын өглөг | C41: 0 | D41: =56609853.26-D40 -> 1863683.5
A42: 2.1.1.5 | B42: НӨАТ-ын өглөг
A43: 2.1.1.6 | B43: Бусад татварын өглөг
A44: 2.1.1.7 | B44: ЭМНД -ийн шимтгэлийн өглөг
A45: 2.1.1.8 | B45: Ногдол ашгийн өглөг | C45: 1114310 | D45: 1114310
A46: 2.1.1.9 | B46: Банкны богино хугацаат зээл | C46: 750000000 | D46: 300000000
A47: 2.1.1.10 | B47: Хүүний өглөг
A48: 2.1.1.11 | B48: Бусад өглөг | C48: 3.8106761e+08 | D48: 3.2157796e+08
A49: 2.1.1.12 | B49: Урьдчилж орсон орлого
A50: 2.1.1.20 | B50: Богино хугацаат өр төлбөрийн дүн | C50: =SUM(C37:C49) -> 1.1798429e+09 | D50: =SUM(D37:D49) -> 6.9571212e+08
A51: 2.1.2 | B51: Урт хугацаат өр төлбөр
A52: 2.1.2.1 | B52: Урт хугацаат векселийн өглөг
A53: 2.1.2.2 | B53: Урт хугацаат санхүүжилт
A54: 2.1.2.3 | B54: Урт хугацаат бондын өглөг
A55: 2.1.2.4 | B55: Бусад урт хугацаат өглөг
A56: 2.1.2.5 | B56: Урт хугацаат өглөгийн хасагдуулга
A57: 2.1.2.6
A58: 2.1.2.20 | B58: Урт хугацаат өр төлбөрийн дүн | C58: =SUM(C52:C57) -> 0 | D58: =SUM(D52:D57) -> 0
A59: 2.1.2.20 | B59: Өр төлбөрийн нийт дүн | C59: =C58+C50 -> 1.1798429e+09 | D59: =D58+D50 -> 6.9571212e+08
A60: 2.2 | B60: ЭЗЭМШИГЧДИЙН ӨМЧ
A61: 2.2.1 | B61: Өмч : а) төрийн | C61: 0 | D61: 0
A62: 2.2.2 | B62: б) хувийн | C62: 104518930 | D62: 104518930
B63: б) хувьцаат | C63: 0 | D63: 0
A64: 2.2.3 | B64: Халаасны хувьцаа | C64: 0 | D64: 0
A65: 2.2.4 | B65: Хувьцаат капиталын дүн | C65: 0 | D65: 0
A66: 2.2.5 | B66: Нэмж төлөгдсөн капитал | C66: 0 | D66: 0
A67: 2.2.6 | B67: Дахин үнэлгээний нөөц | C67: 0 | D67: 0
A68: 2.2.7 | B68: Эзэмшигчдийн өмчийн бусад хэсэг | C68: 174478868 | D68: 174478868
A69: 2.2.8 | B69: Хуримтлагдсан ашиг (алдагдал) | C69: 7.9553203e+08 | D69: =C69+'CT2'!C28+'CT3'!H18 -> 1.1244822e+09
A71: 2.2.20 | B71: Эзэмшигчдийн өмчийн дүн | C71: =C65+C69+C68+C67+C62 -> 1.0745298e+09 | D71: =D65+D69+D68+D67+D62 -> 1.40348e+09
A72: 2.3 | B72: Үүнээс: Цөөнхийн хувь оролцоо
A73: 2.3.20 | B73: НИЙТ ӨР ТӨЛБӨР БА ӨМЧИЙН ДҮН | C73: =C71+C59 -> 2.2543727e+09 | D73: =D71+D59 -> 2.0991921e+09
D74: =D73-D34 -> 0

Sheet CT2
A1: ОРЛОГЫН ДЭЛГЭРЭНГҮЙ ТАЙЛАН
A3: ='CT1'!A3:B3 -> "ОРХОН ХӨГЖИЛ" ХК | C3: ='CT1'!D3 -> 2025 оны 12-р сарын 31-ний өдөр
C5: (төгрөгөөр)
A6: Мөрийн дугаар | B6: Үзүүлэлт | C6: Тайлант улирлын дүн
A7: 1 | B7: Борлуулалтын орлого /цэвэр/ | C7: 1.170344e+09
A8: 2 | B8: Борлуулсан бүтээгдэхүүний өртөг | C8: 2.3763706e+08
A9: 3 | B9: Нийт ашиг (алдагдал) | C9: =C7-C8 -> 9.3270694e+08
A10: 4 | B10: Түрээсийн орлого
A11: 5 | B11: Хүүний орлого | C11: 0
A12: 6 | B12: Ногдол ашгийн орлого
A13: 7 | B13: Эрхийн шимтгэлийн орлого
A14: 8 | B14: Бусад орлого | C14: 71689.58
A15: 9 | B15: Борлуулалт маркетингийн зардал
A16: 10 | B16: Ерөнхий ба удирдлагын зардал | C16: 3.1249644e+08
A17: 11 | B17: Санхүүгийн зардал | C17: 72876963
A18: 12 | B18: Бусад зардал | C18: 1.5019446e+08
A19: 13 | B19: Гадаад валюын ханшийн зөрүүний олз /гарз/ | C19: 56475.16
A20: 14 | B20: Үндсэн хөрөнгө данснаас хассаны олз /гарз/
A21: 15 | B21: Биет бус хөрөнгө данснаас хассаны олз /гарз/
A22: 16 | B22: Хөрөнгө оруулалт борлуулснаас үүссэн олз /гарз/
A23: 17 | B23: Бусад ашиг /алдагдал/
A24: 18 | B24: Татвар төлөхийн өмнөх ашиг (алдагдал) | C24: =C9+C10+C11+C12+C13+C14-C15-C16-C17-C18+C19+C20+C21+C22+C23 -> 3.9726724e+08
A25: 19 | B25: Орлогын татварын зардал | C25: 54733353
A26: 20 | B26: Татварын дараах ашиг (алдагдал) | C26: =C24-C25 -> 3.4253389e+08
A27: 21 | B27: Зогсоосон үйл ажиллагааны татварын дараахь ашиг /алдагдал/
A28: 22 | B28: Тайлант үеийн цэвэр ашиг (алдагдал) | C28: =C26-C27 -> 3.4253389e+08
A29: 23 | B29: Бусад дэлгэрэнгүй орлого
B30: Хөрөнгийн дахин үнэлгээний нэмэгдлийн зөрүү
B31: Гадаад валюын хөрвүүлэлтийн зөрүү
B32: Бусад олз /гарз/
A33: 24 | B33: Орлогын нийт дүн
A34: 25 | B34: Нэгж хувьцаанд ногдох ашиг (алдагдал) | C34: 0

Sheet CT3
A2: ӨМЧИЙН ӨӨРЧЛӨЛТИЙН ТАЙЛАН
B3: ='CT1'!A3 -> "ОРХОН ХӨГЖИЛ" ХК | H3: ='CT2'!C3 -> 2025 оны 12-р сарын 31-ний өдөр
I5: (төгрөгөөр)
B6: ҮЗҮҮЛЭЛТ | C6: Өмч | D6: Халаасны хувьцаа | E6: Нэмж төлөгдсөн капитал | F6: Хөрөнгийн дахин үнэлгээний нэмэгдэл | G6: Эзэмшигчдийн өмчийн бусад хэсэг | H6: Хуримтлагдсан ашиг алдагдал | I6: Нийт дүн
A7: 1 | B7: 2023 оны 12-р сарын 31-ний үлдэгдэл | C7: 104518930 | D7: 0 | E7: 0 | F7: 0 | G7: 174478868 | H7: 7.2199536e+08 | I7: 6.7395196e+09
A8: 2 | B8: Бүртгэлийн бодлогын өөрчлөлт | I8: =SUM(D8:H8) -> 0
A9: 3 | B9: Залруулсан үлдэгдэл | C9: =SUM(C7:C8) -> 104518930 | D9: =SUM(D7:D8) -> 0 | E9: =SUM(E7:E8) -> 0 | F9: =SUM(F7:F8) -> 0 | G9: =SUM(G7:G8) -> 174478868 | H9: =SUM(H7:H8) -> 7.2199536e+08 | I9: =SUM(C9:H9) -> 1.0009932e+09
A10: 4 | B10: Өмчийн өөрчлөлт | I10: =SUM(D10:H10) -> 0
A11: 5 | B11: Хөрөнгө оруулалтын дахин үнэлгээний өсөлт /бууралт | I11: =SUM(D11:H11) -> 0
A12: 6 | B12: Гадаад валютын хөрвүүлэлтийн нөөц | I12: =SUM(D12:H12) -> 0
A13: 7 | B13: Орлогын тайланд хүлээн зөвшөөрөөгүй олз, гарз | I13: =SUM(D13:H13) -> 0
A14: 8 | B14: Тайлант үеийн цэвэр ашиг | H14: 73536665 | I14: =SUM(D14:H14) -> 73536665
A15: 9 | B15: Ногдол ашиг | I15: =SUM(D15:H15) -> 0
A16: 10 | B16: Гаргасан хувьцаат капитал | I16: =SUM(D16:H16) -> 0
A17: 11 | B17: 2024 оны 12-р сарын 31 -ний үлдэгдэл | C17: =SUM(C9:C16) -> 104518930 | D17: =SUM(D9:D16) -> 0 | E17: =SUM(E9:E16) -> 0 | F17: =SUM(F9:F16) -> 0 | G17: =SUM(G9:G16) -> 174478868 | H17: =SUM(H9:H16) -> 7.9553203e+08 | I17: =SUM(C17:H17) -> 1.0745298e+09
A18: 12 | B18: Бүртгэлийн бодлогын өөрчлөлт | H18: -13583740 | I18: =SUM(D18:H18) -> -13583740
A19: 13 | B19: Залруулсан үлдэгдэл | C19: =SUM(C17:C18) -> 104518930 | D19: =SUM(D17:D18) -> 0 | E19: =SUM(E17:E18) -> 0 | F19: =SUM(F17:F18) -> 0 | G19: =SUM(G17:G18) -> 174478868 | H19: =SUM(H17:H18) -> 7.8194829e+08 | I19: =SUM(C19:H19) -> 1.0609461e+09
A20: 14 | B20: Бүртгэлийн бодлогын өөрчлөлт | I20: =SUM(D20:H20) -> 0
A21: 15 | B21: Хөрөнгө оруулалтын дахин үнэлгээний өсөлт /бууралт | I21: =SUM(D21:H21) -> 0
A22: 16 | B22: Гадаад валютын хөрвүүлэлтийн нөөц | I22: =SUM(D22:H22) -> 0
A23: 17 | B23: Орлогын тайланд хүлээн зөвшөөрөөгүй олз, гарз | I23: =SUM(D23:H23) -> 0
A24: 18 | B24: Тайлант үеийн цэвэр ашиг | H24: ='CT2'!C28 -> 3.4253389e+08 | I24: =SUM(D24:H24) -> 3.4253389e+08
A25: 19 | B25: Ногдол ашиг | I25: =SUM(D25:H25) -> 0
A26: 20 | B26: Гаргасан хувьцаат капитал | I26: =SUM(D26:H26) -> 0
A27: 21 | B27: 2025 оны 12-р сарын 31-ний үлдэгдэл | C27: =SUM(C19:C26) -> 104518930 | D27: =SUM(D19:D26) -> 0 | E27: =SUM(E19:E26) -> 0 | F27: =SUM(F19:F26) -> 0 | G27: =SUM(G19:G26) -> 174478868 | H27: =SUM(H19:H26) -> 1.1244822e+09 | I27: =SUM(C27:H27) -> 1.40348e+09

Sheet  CT4
A1: МӨНГӨН ГҮЙЛГЭЭНИЙ ТАЙЛАН
A3: ='CT1'!A3 -> "ОРХОН ХӨГЖИЛ" ХК | C3: ='CT2'!C3 -> 2025 оны 12-р сарын 31-ний өдөр
C4: (төгрөгөөр)
A5: Мөрийн дугаар | B5: ҮЗҮҮЛЭЛТ | C5: Тайлант үеийн
A6: 1 | B6: Үндсэн үйл ажиллагааны мөнгөн гүйлгээ
A7: 1.1 | B7: Мөнгөн орлогын дүн | C7: =SUM(C8:C13) -> 1.1340669e+09
B8: Бараа борлуулсан үйлчилгээний орлого | C8: 1.1339952e+09
B9: Эрхийн шимтгэл, хураамж, төлбөрийн орлого
B10: Даатгалын нөхвөрөөс хүлээн авсан мөнгө
B11: Буцаан авсан албан татвар | C11: 0
B12: Татаас санхүүжилтийн орлого
B13: Бусад мөнгөн орлого | C13: 71689.58
A14: 1.2 | B14: Мөнгөн зарлагын дүн | C14: =SUM(C15:C23) -> 5.8082862e+08
B15: Ажилчдад төлсөн | C15: 66878250
B16: Нийгмийн даатгалын байгууллагад төлсөн | C16: 9991000
B17: Бараа материал худалдан авахад төлсөн мөнгө | C17: 146927620
B18: Ашиглалтын зардалд төлсөн | C18: 4346617
B19: Түлш шатахуун, тээврийн хөлс, сэлбэг хэрэгсэлд төлсөн | C19: 191336736
B20: Хүүний төлбөрт төлсөн | C20: 1.2068356e+08
B21: Татварын байгууллагад төлсөн | C21: 36300663
B22: Даатгалын төлбөрт төлсөн | C22: 0
B23: Бусад мөнгөн зарлага | C23: 4364168.1
A24: 1.3 | B24: Үндсэн үйл ажиллагааны цэвэр мөнгөн гүйлгээний дүн | C24: =C7-C14 -> 5.532383e+08
A25: 2 | B25: Хөрөнгө оруулалтын үйл ажиллагааны мөнгөн гүйлгээ
A26: 2.1 | B26: Мөнгөн орлогын дүн | C26: =SUM(C27:C33) -> 117312000
B27: Үндсэн хөрөнгө борлуулсны орлого
B28: Биет бус хөрөнгө борлуулсны орлого
B29: Хөрөнгө оруулалт борлуулсны орлого
B30: Бусад урт хугацаат хөрөнгө борлуулсны орлого
B31: Бусдад олгосон зээл, мөнгөн урьдчилгааны буцаан төлөлт | C31: 117312000
B32: Хүлээн авсан хүүний орлого
B33: Хүлээн авсан ногдол ашиг
A34: 2.2 | B34: Мөнгөн зарлагын дүн | C34: =SUM(C35:C39) -> 146000000
B35: Үндсэн хөрөнгө олж эзэмшихэд төлсөн
B36: Биет бус хөрөнгө олж эзэмшихэд төлсөн
B37: Хөрөнгө оруулалт олж эзэмшихэд төлсөн
B38: Бусад урт хугацаат хөрөнгө олж эзэмшихэд төлсөн
B39: Бусдад олгосон зээл, мөнгөн урьдчилгаа | C39: 146000000
A40: 2.3 | B40: Хөрөнгө оруулалтын үйл ажиллагааны цэвэр мөнгөн гүйлгээний дүн | C40: =C26-C34 -> -28688000
A41: 3 | B41: Санхүүгийн үйл ажиллагааны мөнгөн гүйлгээ
A42: 3.1 | B42: Мөнгөн орлогын дүн | C42: =SUM(C43:C46) -> 5.7911621e+08
B43: Зээл авсан, өрийн үнэт цаас гаргаснаас хүлээн авсан | C43: 579055000
B44: Хувьцаа болон өмчийн үнэт цаас гаргаснаас хүлээн авсан
B45: Төрөл бүрийн хандив
B46: Валютын ханшийн зөрүүний орлого | C46: 61212.97
A47: 3.2 | B47: Мөнгөн зарлагын дүн | C47: =C48+C49+C50+C52 -> 1.1044044e+09
B48: Зээл авсан, өрийн үнэт цаасны төлбөрт төлсөн мөнгө | C48: 1.1043996e+09
B49: Санхүүгийн түрээсийн өглөгт төлсөн мөнгө
B50: Хувьцаа буцааж худалдан авахад төлсөн мөнгө
B51: Төлсөн ногдол ашиг
B52: Валютын ханшийн зөрүүний алдагдал | C52: 4737.81
A53: 3.3 | B53: Санхүүгийн үйл ажиллагааны цэвэр мөнгөн гүйлгээний дүн | C53: =C42-C47 -> -5.2528817e+08
A54: 4 | B54: Бүх цэвэр мөнгөн гүйлгээ | C54: =C24+C40+C53 -> -737864.07
A55: 5.1 | B55: Мөнгө, түүнтэй адилтгах хөрөнгийн эхний үлдэгдэл | C55: ='CT1'!C11 -> 1846495.5
A56: 5.2 | B56: Мөнгө, түүнтэй адилтгах хөрөнгийн эцсийн үлдэгдэл | C56: ='CT1'!D11 -> 1108631.4
