Workbook
Name A: #REF!
Name A: #REF!
Name A: #REF!
Name button15: #REF!
Name button15: #REF!
Name button15: #REF!

Sheet Нүүр
N1: Сангийн сайдын 2017 оны 361 дүгээр тушаалын 2 дугаар хавсралт
A5: Регистрийн дугаар: | D5: 2 | E5: 0 | F5: 1 | G5: 1 | H5: 0 | I5: 8 | J5: 5
A7: Хаяг: | B7: Дорнод аймаг, Чулуун хороот сум, Галуут баг
A9: Шуудангийн хаяг: | D9: davaaluv@gmail.com | Q9: "ЭРЭЭНЦАВ" ХУВЬЦААТ КОМПАНИЙ
A11: Утас: | B11: 99080203 | H11: Факс: | Q11: 2025 ОНЫ 04-Р УЛИРЛЫН САНХҮҮГИЙН ТАЙЛАНГИЙН
A13: Өмчийн хэлбэр: | E13: Төрийн | K13: Хувийн | L13: 100 | Q13: БОДИТ БАЙДЛЫН ТУХАЙ МЭДЭГДЭЛ
U16: 2025 оны 12 сарын 31 өдөр
Q18: Гүйцэтгэх захирал М.Бат, ерөнхий нягтлан бодогч Л.Даваа бид манай аж ахуйн нэгжийн 2025 оны 09-р сарын 30-ний өдрөөр тасалбар болгон гаргасан санхүүгийн тайланд тайлант хугацааны үйл ажиллагааны үр дүн, санхүүгийн байдлыг "Нягтлан бодох бүртгэлийн тухай" хуулийн 17.1 дэх заалтын дагуу үнэн зөв, бүрэн тусгасан болохыг баталж байна. Үүнд:
C22: "ЭРЭЭНЦАВ" ХК-НИЙ
C23: 2025 ОНЫ ЖИЛИЙН ЭЦСИЙН | Q23: 1 | R23: Бүх ажил гүйлгээ бодитоор гарсан бөгөөд холбогдох анхан шатны баримтыг үндэслэн нягтлан бодох бүртгэл, санхүүгийн тайланд үнэн зөв тусгасан.
C24: САНХҮҮГИЙН ТАЙЛАН
Q26: 2 | R26: Санхүүгийн тайланд тусгагдсан бүх тооцоолол үнэн хийгдсэн.
Q28: 3 | R28: Аж ахуйн нэгжийн үйл ажиллагааны эдийн засаг, санхүүгийн бүхий л үйл явцыг иж бүрэн хамарсан.
Q31: 4 | R31: Тайлан үеийн үр дүнд өмнөх оны ажил гүйлгээнээс шилжин тусгагдаагүй, мөн тайлант оны ажил гүйлгээнээс орхигдсон зүйл байхгүй.
Q34: 5 | R34: Бүх хөрөнгө, авлага, өр төлбөр, орлого, зардлыг Санхүүгийн тайлагналын олон улсын стандартын дагуу үнэн зөв тусгасан.
Q37: 6 | R37: Энэ тайланд тусгагдсан бүхий л зүйл манай байгууллагын албан ёсны өмчлөлд байдаг бөгөөд орхигдсон зүйл үгүй болно.
S41: Гүйцэтгэх захирал ________________ /М.БАТ/
B42: Хянаж хүлээн авсан байгууллагын нэр | L42: Сар, өдөр | N42: Гарын үсэг
S43: Ерөнхий нягтлан бодогч ________________ /Л.ДАВАА /

Sheet Баланс 
B2: САНХҮҮГИЙН БАЙДЛЫН ТАЙЛАН
A3: "ЭРЭЭНЦАВ" ХК
A4: /Аж ахуйн нэгж, байгууллагын нэр/
A5: =Нүүр!$U$16 -> 2025 оны 12 сарын 31 өдөр | D5: /Төгрөгөөр/
A6: Мөрийн дугаар | B6: Үзүүлэлт | C6: Эхний үлдэгдэл /2024.12.31/ | D6: Эцсийн үлдэгдэл /2025.09.30/
A7: 1 | B7: ХӨРӨНГӨ
A8: 1.1. | B8: Эргэлтийн хөрөнгө
A9: 1.1.1 | B9: Мөнгө, түүнтэй адилтгах хөрөнгө | C9: 34158 | D9: 50158 | F9: 570000 | I9: 2070000
A10: 1.1.2 | B10: Дансны авлага | C10: 47654422 | D10: 47654422 | F10: 0 | I10: 0
A11: 1.1.3 | B11: Татвар, НДШ-ийн авлага | C11: 2698946.9 | D11: 4444056.3 | F11: 0 | I11: 0
A12: 1.1.4 | B12: Бусад авлага | C12: 42220000 | D12: 42220000 | F12: -244000 | I12: 256000
A13: 1.1.5 | B13: Бусад санхүүгийн хөрөнгө | C13: 0 | F13: 0 | I13: 0
A14: 1.1.6 | B14: Бараа материал | C14: 67373600 | D14: 67373600 | F14: 0 | I14: 0
A15: 1.1.7 | B15: Урьдчилж төлсөн зардал/тооцоо | F15: 402000 | G15: 158000 | I15: 622000
A16: 1.1.8 | B16: Бусад эргэлтийн хөрөнгө | F16: 0 | I16: 0
A17: 1.1.9 | B17: Борлуулах зорилгоор эзэмшиж буй эргэлтийн бус хөрөнгө (борлуулах бүлэг хөрөнгө) | F17: 0 | I17: 420000
A18: 1.1.10
A19: 1.1.11 | B19: Эргэлтийн хөрөнгийн дүн | C19: =SUM(C9:C18) -> 1.5998113e+08 | D19: =SUM(D9:D18) -> 1.6174224e+08 | I19: 3368000
A20: 1.2 | B20: Эргэлтийн бус хөрөнгө | I20: *
A21: 1.2.1 | B21: Үндсэн хөрөнгө | C21: 574874100 | F21: 360000 | I21: 360000
A22: 1.2.2 | B22: Биет бус хөрөнгө | F22: 0 | I22: 0
A23: 1.2.3 | B23: Биологийн хөрөнгө | F23: 0 | I23: 0
A24: 1.2.4 | B24: Урт хугацаат хөрөнгө оруулалт | F24: 0 | I24: 0
A25: 1.2.5 | B25: Хайгуул ба үнэлгээний хөрөнгө | F25: 0 | I25: 0
A26: 1.2.6 | B26: Хойшлогдсон татварын хөрөнгө | D26: 0 | F26: 0 | I26: 0
A27: 1.2.7 | B27: Хөрөнгө оруулалтын зориулалттай үл хөдлөх хөрөнгө | I27: 0
A28: 1.2.8 | B28: Бусад эргэлтийн бус хөрөнгө | C28: 0 | D28: 0 | I28: 0
A29: 1.2.9 | B29: Үндсэн хөрөнгийн үлдэгдэл өртөг | C29: 0 | D29: 574874100 | I29: 0
A30: 1.2.10 | B30: Эргэлтийн бус хөрөнгийн дүн | C30: =SUM(C21:C29) -> 574874100 | D30: =SUM(D22:D29) -> 574874100 | I30: 360000
A31: 1.3 | B31: НИЙТ ХӨРӨНГИЙН ДҮН | C31: =+C30+C19 -> 7.3485523e+08 | D31: =+D30+D19 -> 7.3661634e+08 | I31: 3728000
I32: 0
A33: 2 | B33: ӨР ТӨЛБӨР БА ЭЗДИЙН ӨМЧ | I33: *
A34: 2.1 | B34: Өр төлбөр | I34: *
A35: 2.1.1 | B35: Богино хугацаат өр төлбөр | I35: *
A36: 2.1.1.1 | B36: Дансны өглөг | C36: 1.4854264e+08 | D36: 1.7703844e+08 | I36: 726000
A37: 2.1.1.2 | B37: Цалингийн өглөг | I37: 0
A38: 2.1.1.3 | B38: Татварын өр | C38: 1066700 | D38: 1066700 | I38: 0
A39: 2.1.1.4 | B39: НДШ-ийн өглөг | C39: 867200 | D39: 867200 | I39: 0
A40: 2.1.1.5 | B40: Богино хугацаат зээл | C40: 241100400 | D40: 241100400 | I40: 0
A41: 2.1.1.6 | B41: Хүүний өглөг | I41: 0
A42: 2.1.1.7 | B42: Ногдол ашгийн өглөг | I42: 0
A43: 2.1.1.8 | B43: Урьдчилж олсон орлого | I43: 0
A44: 2.1.1.9 | B44: Нөөц /өр төлбөр/ | I44: 1200000
A45: 2.1.1.10 | B45: Бусад богино хугацаат өр төлбөр | C45: 22179100 | D45: 22179100 | I45: 0
A46: 2.1.1.11 | B46: Борлуулах зорилгоор эзэмшиж буй эргэлтийн бус хөрөн гө (борлуулах бүлэг хөрөнгө)-нд хамаарах өр төлбөр | I46: 0
A47: 2.1.1.12
A48: 2.1.1.13 | B48: Бусад богино хугацаат өр төлбөрийн дүн | C48: =SUM(C36:C47) -> 4.1375604e+08 | D48: =SUM(D36:D47) -> 4.4225184e+08 | F48: 546000 | I48: 1926000
A49: 2.1.2 | B49: Урт хугацаат өр төлбөр
A50: 2.1.2.1 | B50: Урт хугацаат зээл | I50: 0
A51: 2.1.2.2 | B51: Нөөц /өр төлбөр/ | I51: 0
A52: 2.1.2.3 | B52: Хойшлогдсон татварын өр | I52: 0
A53: 2.1.2.4 | B53: Бусад урт хугацаат өр төлбөр | I53: 0
A54: 2.1.2.5
A55: 2.1.2.6 | B55: Урт хугацаат өр төлбөрийн дүн | C55: =SUM(C50:C54) -> 0 | D55: =SUM(D50:D54) -> 0 | F55: 0 | I55: 0
A56: 2.2 | B56: Өр төлбөрийн нийт дүн | C56: =C48+C55 -> 4.1375604e+08 | D56: =D48+D55 -> 4.4225184e+08 | F56: -546000 | I56: 1926000
A57: 2.3 | B57: Эздийн өмч | I57: *
A58: 2.3.1 | B58: Өмч | C58: =SUM(C59:C61) -> 181600000 | D58: =SUM(D59:D61) -> 181600000
A59: 2.3.1.1 | B59: төрийн | I59: *
A60: 2.3.1.2 | B60: хувийн | C60: 181600000 | D60: 181600000 | I60: 0
A61: 2.3.1.3 | B61: хувьцаат | I61: 1260000
A62: 2.3.2 | B62: Халаасны хувьцаа | I62: 0
A63: 2.3.3 | B63: Нэмж төлөгдсөн капитал | I63: 1260000
A64: 2.3.4 | B64: Хөрөнгийн дахин үнэлгээний нэмэгдэл | F64: 0 | I64: 0
A65: 2.3.5 | B65: Гадаад валютын хөрвүүлэлтийн нөөц | I65: 0
A66: 2.3.6 | B66: Эздийн өмч бусад хэсэг | I66: 0
A67: 2.3.7 | B67: Хуримтлагдсан ашиг / алдагдал | C67: 1.3949919e+08 | D67: =C67 -> 1.3949919e+08 | F67: 542000 | I67: 0
A68: 2.3.8 | B68: Тайлант оны ашиг /+/, алдагдал /-/ | D68: -26734695
A69: 2.3.9 | B69: Эздийн өмчийн дүн | C69: =SUM(C59:C68) -> 3.2109919e+08 | D69: =SUM(D59:D68) -> 2.9436449e+08 | I69: 0
A70: 2.4 | B70: ӨР ТӨЛБӨР БА ЭЗДИЙН ӨМЧИЙН ДҮН | C70: =+C56+C69 -> 7.3485523e+08 | D70: =+D56+D69 -> 7.3661634e+08
B71: 1 Актив | C71: =+C70+C59 -> 7.3485523e+08 | D71: =+D70+D59 -> 7.3661634e+08
B72: 2 Пассив | C72: =C70 -> 7.3485523e+08 | D72: =D70 -> 7.3661634e+08
B73: 3 Зөрүү | C73: =SUM(C71,-C72) -> 0 | D73: =SUM(D71,-D72) -> 0
B76: Гүйцэтгэх захирал ________________ /М.БАТ/
B78: Ерөнхий нягтлан бодогч ________________ /Л.ДАВАА /

Sheet Орлого Дэлг-гүй
C2: ОРЛОГЫН ДЭЛГЭРЭНГҮЙ ТАЙЛАН | K2: 1
B4: =[1]Баланс!A3 -> "ЭРЭЭНЦАВ" ХК
B5: /Аж ахуйн нэгж, байгууллагын нэр/
B7: =Нүүр!$U$16 -> 2025 оны 12 сарын 31 өдөр | D7: /Төгрөгөөр/ | L7: ҮАЗ
C9: Үзүүлэлт | D9: 1.Эхний үлдэгдэл | E9: 2.Эцсийн үлдэгдэл | G9: 1-ð óëèðàëä ¿ëäýãä îðóóëàõã¿é. | J9: Тайлангийн өмнөх үе | K9: Тайлант үе | L9: Тайлангийн өмнөх үе | M9: Тайлант үе | N9: 2008 îíû Ñ2 îðóóëíà.
B11: 1 | C11: Борлуулалтын орлого (цэвэр)
B12: 2 | C12: Борлуулалтын өртөг | G12: 0 | N12: 0
B13: 3 | C13: Нийт ашиг /алдагдал/ | D13: =D11-D12 -> 0 | E13: =E11-E12 -> 0 | G13: 0 | J13: #REF! | K13: 100 | L13: #REF! | N13: 0
B14: 4 | C14: Түрээсийн орлого
B15: 5 | C15: Хүүний орлого
B16: 6 | C16: Ногдол ашгийн орлого
B17: 7 | C17: Эрхийн шимтгэлийн орлого
B18: 8 | C18: Бусад орлого
B19: 9 | C19: Борлуулалт, маркетингийн зардал
B20: 10 | C20: Ерөнхий ба удирдлагын зардал | D20: 27716693 | E20: 26734695
B21: 11 | C21: Санхүүгийн зардал | D21: 27563.74
B22: 12 | C22: Бусад зардал
B23: 13 | C23: Гадаад валютын ханшийн зөрүүний олз (гарз)
B24: 14 | C24: Үндсэн хөрөнгө данснаас хассаны олз (гарз)
B25: 15 | C25: Биет бус хөрөнгө данснаас хассаны олз (гарз)
B26: 16 | C26: Хөрөнгө оруулалт борлуулснаас үүссэн олз (гарз)
B27: 17 | C27: Бусад ашиг (алдагдал)
B28: 18 | C28: Татвар төлөхийн өмнөх ашиг (алдагдал) | D28: =D13+D14+D15+D16+D17+D18-D19-D20-D21-D22+D23+D24+D25+D26+D27 -> -27744257 | E28: =E13+E14+E15+E16+E17+E18-E19-E20-E21-E22+E23+E24+E25+E26+E27 -> -26734695
B29: 19 | C29: Орлогын татварын зардал
B30: 20 | C30: Ердийн үйл ажиллагааны татварын дараах ашиг (алдагдал) | D30: =D28 -> -27744257 | E30: =E28 -> -26734695
B31: =+B30+1 -> 21 | C31: Зогсоосон үйл ажиллагааны татварын дараах ашиг (алд) | G31: 0 | J31: #REF! | K31: 24.195804 | N31: 0
B32: =+B31+1 -> 22 | C32: Тайлант үеийн цэвэр ашиг /алдагдал/ | D32: =D30 -> -27744257 | E32: =E30 -> -26734695 | G32: 0 | J32: #REF! | K32: 75.804196 | L32: #REF! | N32: 0
B33: =+B32+1 -> 23 | C33: Бусад дэлгэрэнгүй орлого | J33: #REF! | K33: 0
C34: 23.1. Хөрөнгийн дахин үнэлгээний нэмэгдлийн зөрүү | G34: 0 | J34: #REF! | K34: 0 | N34: 0
C35: 23.2. Гадаад валютын хөрвүүлэлтийн зөрүү | G35: 0 | J35: #REF! | K35: 0 | N35: 0
C36: 23.2. Бусад олз (гарз) | G36: 0 | J36: #REF! | K36: 0 | N36: 0
B37: 24 | C37: Нийт дэлгэрэнгүй орлогын дүн | D37: =D32+D36 -> -27744257 | E37: =E32+E36 -> -26734695 | G37: 0 | J37: #REF! | K37: 0 | N37: 0
B38: =+B37+1 -> 25 | C38: Нэгж хувьцаанд ногдох суурь ашиг /алдагдал/ | J38: #REF! | K38: 0
C40: Гүйцэтгэх захирал ________________ /М.БАТ/
C42: Ерөнхий нягтлан бодогч ________________ /Л.ДАВАА /

Sheet Өмч өөрчлөлт 
D3: ӨМЧИЙН ӨӨРЧЛӨЛТИЙН ТАЙЛАН
C4: ='Баланс '!B3 -> 0 | J4: ='Баланс '!$C$3 -> 0
B5: ='Баланс '!A3 -> "ЭРЭЭНЦАВ" ХК | E5: ='Баланс '!B3 -> 0
B6: ='Баланс '!A4 -> /Аж ахуйн нэгж, байгууллагын нэр/ | E6: ='Баланс '!B4 -> 0
B7: =Нүүр!$U$16 -> 2025 оны 12 сарын 31 өдөр | E7: ='Баланс '!B5 -> 0 | F7: ='Баланс '!F3 -> 0 | G7: ='Баланс '!G3 -> 0 | H7: ='Баланс '!H3 -> 0 | I7: ='Баланс '!I3 -> 0 | J7: ='Баланс '!J3 -> 0 | K7: ='Баланс '!K3 -> 0 | L7: ='Баланс '!L3 -> 0 | M7: ='Баланс '!M3 -> 0 | ... XFD7: ='Баланс '!XFD3 -> 0
C9: ҮЗҮҮЛЭЛТ | D9: Өмч | E9: Халаасны хувьцаа | F9: Нэмж төлөгдсөн капитал | G9: Хөрөнгийн дахин үнэлгээний нэмэгдэл | H9: Гадаад валютын хөрвүүлэлтийн нөөц | I9: Эзний өмчийн бусад хэсэг | J9: Хуримтлагдсан ашиг | K9: Нийт дүн
B10: 1 | C10: Нягтлан бодох бүртгэлийн бодлогын өөрчлөлтийн нөлөө, алдааны залруулга
B11: 2 | C11: Залруулсан үлдэгдэл | D11: 181600000 | J11: 1.6724345e+08 | K11: 3.4884345e+08
B12: 3 | C12: Тайлант үеийн цэвэр ашиг (алдагдал) | J12: -27744257 | K12: -27744257
B13: 4 | C13: Бусад дэлгэрэнгүй орлого
B14: 5 | C14: Өмчид гарсан өөрчлөлт
B15: 6 | C15: Зарласан ногдол ашиг
B16: 7 | C16: Дахин үнэлгээний нэмэгдлийн хэрэгжсэн дүн
B17: 8 | C17: Эхний үлдэгдэл /төгрөгөөр/ | D17: =SUM(D11:D16) -> 181600000 | E17: =SUM(E10:E16) -> 0 | F17: =SUM(F10:F16) -> 0 | G17: =SUM(G10:G16) -> 0 | I17: =SUM(I10:I16) -> 0 | J17: =SUM(J10:J16) -> 1.3949919e+08 | K17: 3.2109919e+08
B18: 9 | C18: Нягтлан бодох бүртгэлийн бодлогын өөрчлөлтийн нөлөө, алдааны залруулга
B19: 10 | C19: Залруулсан үлдэгдэл | D19: 181600000 | J19: =SUM(J17) -> 1.3949919e+08 | K19: 3.2109919e+08
B20: 11 | C20: Тайлант үеийн цэвэр ашиг (алдагдал) | J20: -26734695 | K20: -26734695
B21: 12 | C21: Бусад дэлгэрэнгүй орлого
B22: 13 | C22: Өмчид гарсан өөрчлөлт
B23: 14 | C23: Зарласан ногдол ашиг
B24: 15 | C24: Дахин үнэлгээний нэмэгдлийн хэрэгжсэн дүн
B25: 16 | C25: Эцсийн үлдэгдэл /төгрөгөөр/ | D25: 181600000 | J25: =SUM(J19,J20) -> 1.1276449e+08 | K25: =SUM(K19,K20) -> 2.9436449e+08
D28: Гүйцэтгэх захирал ________________ /М.БАТ/
D30: Ерөнхий нягтлан бодогч ________________ /Л.ДАВАА /

Sheet Мөнгөн гүйлгээ 
A1: МӨНГӨН ГҮЙЛГЭЭНИЙ ТАЙЛАН
A2: ='Баланс '!A3 -> "ЭРЭЭНЦАВ" ХК | C2: ='Баланс '!C3 -> 0 | D2: ='Баланс '!D3 -> 0 | E2: ='Баланс '!E3 -> 0 | F2: ='Баланс '!F3 -> 0 | G2: ='Баланс '!G3 -> 0 | H2: ='Баланс '!H3 -> 0 | I2: ='Баланс '!I3 -> 0 | J2: ='Баланс '!J3 -> 0 | ... XFD2: ='Баланс '!XFD3 -> 0
A3: ='Баланс '!A4 -> /Аж ахуйн нэгж, байгууллагын нэр/
A4: =Нүүр!$U$16 -> 2025 оны 12 сарын 31 өдөр | D4: 0
B5: ҮЗҮҮЛЭЛТ | C5: Эхний үлдэгдэл | D5: Эцсийн үлдэгдэл
A6: 1 | B6: Үндсэн үйл ажиллагааны мөнгөн гүйлгээ
A7: 1.1. | B7: Мөнгөн орлогын дүн | C7: =SUM(C8:C13) -> 26587701 | D7: =SUM(D8:D13) -> 28479805
A8: 1.1.1 | B8: Бараа борлуулсан, үйлчилгээ үзүүлсний орлого
A9: 1.1.2 | B9: Эрхийн шимтгэл, хураамж, төлбөрийн орлого
A10: 1.1.3 | B10: Даатгалын нөхвөрөөс хүлээн авсан мөнгө
A11: 1.1.4 | B11: Буцаан авсан албан татвар
A12: 1.1.5 | B12: Татаас, санхүүжилтийн орлого
A13: 1.1.6 | B13: Бусад мөнгөн орлого | C13: 26587701 | D13: 28479805
A14: 1.2 | B14: Мөнгөн зарлагын дүн | C14: =SUM(C15:C23) -> 26718656 | D14: =SUM(D15:D23) -> 28463805
A15: 1.2.1 | B15: Ажиллагчдад төлсөн
A16: 1.2.2 | B16: Нийгмийн даатгалын байгууллагад төлсөн
A17: 1.2.3 | B17: Бараа материал худалдан авахад төлсөн
A18: 1.2.4 | B18: Ашиглалтын зардалд төлсөн
A19: 1.2.5 | B19: Түлш, шатахуун, тээврийн хөлс, сэлбэг хэрэгсэлд төлсөн | C19: 563603.63 | D19: 7735243.7
A20: 1.2.6 | B20: Хүүний төлбөрт төлсөн
A21: 1.2.7 | B21: Татварын байгууллагад төлсөн | C21: 24403592 | D21: 2933047.8
A22: 1.2.8 | B22: Даатгалын төлбөрт төлсөн
A23: 1.2.9 | B23: Бусад мөнгөн зарлага | C23: 1751460.1 | D23: 17795513
A24: 1.3 | B24: Үндсэн үйл ажиллагааны цэвэр мөнгөн гүйлгээний дүн | C24: =+C7-C14 -> -130954.74 | D24: =+D7-D14 -> 16000
A25: 2 | B25: Хөрөнгө оруулалтын үйл ажиллагааны мөнгөн гүйлгээ
A26: 2.1 | B26: Мөнгөн орлогын дүн (+) | C26: =SUM(C27:C33) -> 0 | D26: =SUM(D27:D33) -> 0
A27: 2.1.1 | B27: Үндсэн хөрөнгө борлуулсны орлого
A28: 2.1.2 | B28: Биет бус хөрөнгө борлуулсны орлого
A29: 2.1.3 | B29: Хөрөнгө оруулалт борлуулсны орлого
A30: 2.1.4 | B30: Бусад урт хугацаат хөрөнгө борлуулсны орлого
A31: 2.1.5 | B31: Бусдад олгосон зээл, мөнгөн урьдчилгааны буцаан төлөлт
A32: 2.1.6 | B32: Хүлээн авсан хүүний орлого
A33: 2.1.7 | B33: Хүлээн авсан ногдол ашиг
A34: 2.2 | B34: Мөнгөн зарлагын дүн (-) | C34: =SUM(C35:C39) -> 0 | D34: =SUM(D35:D39) -> 0
A35: 2.2.1 | B35: Үндсэн хөрөнгө олж эзэмшихэд төлсөн мөнгө
A36: 2.2.2 | B36: Биет бус хөрөнгө олж эзэмшихэд төлсөн мөнгө
A37: 2.2.3 | B37: Хөрөнгө оруулалт олж эзэмшихэд төлсөн мөнгө
A38: 2.2.4 | B38: Бусад урт хугацаат хөрөнгө олж эзэмшихэд төлсөн мөнгө
A39: 2.2.5 | B39: Бусдад олгосон зээл болон урьдчилгаа | C39: 0
A40: 2.3 | B40: Хөрөнгө оруулалтын үйл ажиллагааны цэвэр мөнгөн гүйлгээ | C40: =C26-C34 -> 0 | D40: =D26-D34 -> 0
A41: 3 | B41: Санхүүгийн үйл ажиллагааны мөнгөн гүйлгээний дүн
A42: 3.1 | B42: Мөнгөн орлогын дүн (+) | C42: =SUM(C43:C45) -> 0 | D42: =SUM(D43:D45) -> 0
A43: 3.1.1 | B43: Зээл авсан, өрийн үнэт цаас гаргаснаас хүлээн авсан
A44: 3.1.2 | B44: Хувьцаа болон өмчийн бусад үнэт цаас гаргаснаас хүлээн авсан
A45: 3.1.3 | B45: Төрөл бүрийн хандив
A46: 3.2 | B46: Мөнгөн зарлагын дүн (-) | C46: =C47+C48+C49+C50+C52 -> 0
A47: 3.2.1 | B47: Зээл, өрийн үнэт цаасны төлбөрт төлсөн мөнгө
A48: 3.2.2 | B48: Санхүүгийн түрээсийн өглөгт төлсөн
A49: 3.2.3 | B49: Хувьцаа буцаан авахад төлсөн
A50: 3.2.4 | B50: Төлсөн ногдол ашиг
A51: 3.3 | B51: Санхүүгийн айл ажиллагааны цэвэр мөнгөн гүйлгээний дүн | C51: =C42-C46 -> 0 | D51: =D42-D46 -> 0
A52: 3.4 | B52: Валютын ханшны зөрүү
A53: 4 | B53: Бүх цэвэр мөнгөн гүйлгээ | C53: =C55-C54 -> -130954.74 | D53: =D55-D54 -> 16000
A54: 5 | B54: Мөнгө, түүнтэй адилтгах хөрөнгийн эхний үлдэгдэл | C54: 165112.74 | D54: =C55 -> 34158
A55: 6 | B55: Мөнгө, түүнтэй адилтгах хөрөнгийн эцсийн үлдэгдэл | C55: 34158 | D55: 50158
B56: 1 БЦМГ /1,3+2,3+3,3+4/ | C56: =$C$53 -> -130954.74 | D56: =$D$53 -> 16000
B57: 2 БЦМГ /6-5/ | C57: =$C$53 -> -130954.74 | D57: =$D$53 -> 16000
B58: 3 Зөрүү | D58: 0
B59: Гүйцэтгэх захирал ________________ /М.БАТ/ Ерөнхий нягтлан бодогч ________________ /Л.ДАВАА /

Sheet todruulga
A1: САНХҮҮГИЙН ТАЙЛАНГИЙН ТОДРУУЛГА
A4: /Àæ àõóé íýãæ áàéãóóëëàãûí íýð/ | H4: 2011 оны 12 сарын 31
A6: 1.ÒАНИЛЦУУЛГА
A8: 1 | B8: Áàéøèë
A10: 2 | B10: Øóóäàíãèéí õàÿã: | C10: 0 | F10: Óòàñ: | G10: 0 | I10: Ôàêñ:
A12: 3 | B12: ªì÷èéí õýëáýð: | C12: Òºðèéí | E12: õóâü | G12: Õóâèéí | I12: õóâü
A14: 4 | B14: ¯éë àæèëëàãàà ÿâóóëæ ýõýëñýí îãíîî
A16: 5 | B16: Õàðèëöäàã ñàíõ¿¿, òàòâàðûí áàéãóóëëàãà:
A18: 6 | B18: ¯éë àæèëëàãààíû ¿íäñýí ÷èãëýë /òºðºë/ :
B20: à/
B21: á/
B22: â/
A24: 7 | B24: Òóñëàõ ¿éë àæèëëàãààíû /òºðºë/:
B26: à/
B27: á/
B28: â/
B29: ã/
B30: ä/
A32: 8 | B32: Ñàëáàð òºëººëºã÷èéí ãàçðûí íýð áàéðøèë:
B34: à/
B35: á/
B36: â/
B37: ã/
A39: 9 | B39: Ã¿éöýòãýõ çàõèðàë /çàõèðàë/:
B41: Îâîã: | F41: Óòàñ:
B42: Íýð: | C42: М. Мандал | F42: Ôàêñ:
B43: E-mail õàÿã:
A45: 10 | B45: Åðºíõèé íÿãòëàí áîäîã÷:
B47: Îâîã: | F47: Óòàñ:
B48: Íýð: | C48: Тайван | F48: Ôàêñ:
B49: E-mail õàÿã:
A51: 2. НЯГТЛАН БОДОХ БҮРТГЭЛИЙН БОДЛОГО
A52: Монгол улсын татварын хуулийн дагуу НББОУС-ын дагуу аккурэль сууриар санхүүгийн тайлан гарсан болно.
A54: Санхүүгийн тайлангаа доорх дарааллын дагуу гаргасан
A55: Ерөнхий журнал хөтлөх
A56: Ерөнхий дэвтэр хөтлөх
A57: Ажлын хүснэгт бэлтгэх
A58: Санхүүгийн үндсэн 4-н тайлан гаргах
A92: 3. МӨНГӨ БА ТҮҮНТЭЙ АДИЛТГАХ ХӨРӨНГӨ
A94: Êàññ äàõü ìºíãº | H94: (Òºãðºã/âàëþò)
A96: ¹ | B96: Òºðºë | F96: Ýõíèé ¿ëäýãäýë | H96: Ýöñèéí ¿ëäýãäýë
F97: Âàëþòààð | G97: Òºãðºãººð | H97: Âàëþòààð | I97: Òºãðºãººð
A98: 1 | B98: Төгрөгийн касс-КассТ
A99: 2 | B99: Долларын касс-КассД
A100: 3 | B100: Хаан банк-Хаан
A101: 4 | B101: ХХБ-ХХБ Т
A102: 5 | B102: Голомт-Голомт$
B103: Ä¿í
A105: Áàíêèí äàõü ìºíãº | H105: (Òºãðºã/âàëþò)
A107: ¹ | B107: Òºðºë | F107: Ýõíèé ¿ëäýãäýë | H107: Ýöñèéí ¿ëäýãäýë
F108: Âàëþòààð | G108: Òºãðºãººð | H108: Âàëþòààð | I108: Òºãðºãººð
A109: 1 | B109: Хас банк-Голомт
A110: 2 | B110: Бусад татварын өглөг-бтө
A111: 3 | B111: Хөрөнгө оруулалт ба бусад хөрөнгө-123
A112: 4 | B112: -
A113: 5 | B113: -
A114: 6 | B114: -
B116: Ä¿í | F116: 0 | G116: 0 | H116: 0 | I116: 0
A118: Жич: Банкны данс дахь барьцаалсан буюу хязгаарласан мөнгөн хөрөнгийн талаар тусгай хавсралтаар тодруулга хийнэ.
A120: 4. БОГИНО ХУГАЦААТ ХӨРӨНГӨ ОРУУЛАЛТ
A122: Õºðºíãº îðóóëàëòûí òºðºë | F122: Ýõíèé ¿ëäýãäýë | H122: Ýöñèéí ¿ëäýãäýë
A126: ДҮН | F126: 0 | H126: 0
A128: 5. АВЛАГА
A130: Äàíñíû àâëàãà
A132: ¹ | B132: Àâëàãûí àíãèëàë | F132: Ýõíèé ¿ëäýãäýë | H132: Ýöñèéí ¿ëäýãäýë
A133: 1 | B133: Äàíñíû àâëàãà. ¯¿íýýñ | F133: 0 | H133: 0
B134: Òºëºãäºõ õóãàöààíäàà áàéãàà
B135: Õóãàöàà õýòýðñýí
B136: Òºëºãäºõ íàéäâàðã¿é
A137: 2 | B137: Õàñàõ íü: Íàéäâàðã¿é àâëàãûí õàñàãäóóëãà | F137: 0 | H137: 0
A138: 3 | B138: Äàíñíû àâëàãà /öýâýð/ | F138: 0 | H138: 0
A140: Áóñàä àâëàãà / àâëàãûí òºðëººð íü àíãèëíà/
A142: ¹ | B142: Àâëàãûí àíãèëàë | F142: Ýõíèé ¿ëäýãäýë | H142: Ýöñèéí ¿ëäýãäýë
A143: 1 | B143: Õîëáîîòîé òàëààñ àâàõ àâëàãà
A144: 2 | B144: Õàðààò êîìïàíèàñ àâàõ àâëàãà
A145: 3 | B145: Òàòâàðûí àâëàãà
B147: Ä¿í
A149: Óðüä÷èëãàà òºëáºð¿¿ä
A151: ¹ | B151: Óðüä÷èëãàà òºëáºðèéí àíãèëàë | F151: Ýõíèé ¿ëäýãäýë | H151: Ýöñèéí ¿ëäýãäýë
A152: 1 | B152: Áýëòãýí íèéë¿¿ëýã÷äýä òºëñºí óðüä÷èëãàà
A153: 2 | B153: Óðüä÷èëæ òºëñºí çàðäàë
A154: 3 | B154: Óðüä÷èëæ òºëñºí ò¿ðýýñ
B156: Ä¿í
A159: 6. БАРАА МАТЕРИАЛ
A161: Áàðàà ìàòåðèàëûí òºðºë, áàéðøèë /ºðòãººð/ | F161: Ýõíèé ¿ëäýãäýë | H161: Ýöñèéí ¿ëäýãäýë
A162: Түүхий эд материал-ТЭМ
A163: Дуусаагүй үйлдвэрлэл-ДҮ
A164: Бэлэн бүтээгдэхүүн-ББ
A165: Хагас боловсруулсан бүтээгдэхүүн-ХББ
A166: Хангамжын материал-ХМ
A167: -
A168: -
A170: Íèéò ä¿í
A172: ¯íý öýíý íü áóóðñàí áàðàà ìàòåðèàëûí æàãñààëò:
A174: ¹ | B174: Íýð òºðºë | D174: Äàíñíû ¿íý | F174: Áóóðñàí ¿íý | H174: Òàéëáàð
B179: Ä¿í | D179: 0 | F179: 0 | H179: 0
A181: Æè÷: Áàðüöààëñàí áóþó áóñäûí ºì÷ëºëèéí ýñâýë áóñäûí àãóóëàõàä õàäãàëàãäàæ áóé áàðàà ìàòåðèàëûí òàëààð òóñãàé õàâñðàëòààð òîäðóóëãà õèéíý.
A184: 7. ДУУСААГҮЙ БАРИЛГА
A186: Äóóñààã¿é áàðèëãûí íýð | D186: Ýõýëñýí îí | E186: Äóóñãàëòûí õóâü | G186: Íèéò òºñºâò ºðòºã | H186: Àøèãëàëòàíä îðîõ ýöñèéí õóãàöàà
A192: ДҮН | D192: 0 | E192: 0 | G192: 0 | H192: 0
...
