Workbook
Name A: #REF!
Name A: #REF!
Name A: #REF!
Name button15: #REF!
Name button15: #REF!
Name button15: #REF!

Sheet Нүүр
N1: Сангийн сайдын 2017 оны 361 дүгээр тушаалын 2 дугаар хавсралт
A5: Регистрийн дугаар: | D5: 2 | E5: 0 | F5: 1 | G5: 1 | H5: 0 | I5: 8 | J5: 5
A7: Хаяг: | B7: Дорнод аймаг, Чулуун хороот сум, Галуут баг
A9: Шуудангийн хаяг: | D9: davaaluv@gmail.com | Q9: "ЭРЭЭНЦАВ" ХУВЬЦААТ КОМПАНИЙ
A11: Утас: | B11: 99080203 | H11: Факс: | Q11: 2025 ОНЫ 04-Р УЛИРЛЫН САНХҮҮГИЙН ТАЙЛАНГИЙН
A13: Өмчийн хэлбэр: | E13: Төрийн | K13: Хувийн | L13: 100 | Q13: БОДИТ БАЙДЛЫН ТУХАЙ МЭДЭГДЭЛ
U16: 2025 оны 12 сарын 31 өдөр
Q18: Гүйцэтгэх захирал М.Бат, ерөнхий нягтлан бодогч Л.Даваа бид манай аж ахуйн нэгжийн 2025 оны 09-р сарын 30-ний өдрөөр тасалбар болгон гаргасан санхүүгийн тайланд тайлант хугацааны үйл ажиллагааны үр дүн, санхүүгийн байдлыг "Нягтлан бодох бүртгэлийн тухай" хуулийн 17.1 дэх заалтын дагуу үнэн зөв, бүрэн тусгасан болохыг баталж байна. Үүнд:
C22: "ЭРЭЭНЦАВ" ХК-НИЙ
C23: 2025 ОНЫ ЖИЛИЙН ЭЦСИЙН | Q23: 1 | R23: Бүх ажил гүйлгээ бодитоор гарсан бөгөөд холбогдох анхан шатны баримтыг үндэслэн нягтлан бодох бүртгэл, санхүүгийн тайланд үнэн зөв тусгасан.
C24: САНХҮҮГИЙН ТАЙЛАН
Q26: 2 | R26: Санхүүгийн тайланд тусгагдсан бүх тооцоолол үнэн хийгдсэн.
Q28: 3 | R28: Аж ахуйн нэгжийн үйл ажиллагааны эдийн засаг, санхүүгийн бүхий л үйл явцыг иж бүрэн хамарсан.
Q31: 4 | R31: Тайлан үеийн үр дүнд өмнөх оны ажил гүйлгээнээс шилжин тусгагдаагүй, мөн тайлант оны ажил гүйлгээнээс орхигдсон зүйл байхгүй.
Q34: 5 | R34: Бүх хөрөнгө, авлага, өр төлбөр, орлого, зардлыг Санхүүгийн тайлагналын олон улсын стандартын дагуу үнэн зөв тусгасан.
Q37: 6 | R37: Энэ тайланд тусгагдсан бүхий л зүйл манай байгууллагын албан ёсны өмчлөлд байдаг бөгөөд орхигдсон зүйл үгүй болно.
S41: Гүйцэтгэх захирал ________________ /М.БАТ/
B42: Хянаж хүлээн авсан байгууллагын нэр | L42: Сар, өдөр | N42: Гарын үсэг
S43: Ерөнхий нягтлан бодогч ________________ /Л.ДАВАА /

Sheet Баланс 
B2: САНХҮҮГИЙН БАЙДЛЫН ТАЙЛАН
A3: "ЭРЭЭНЦАВ" ХК
A4: /Аж ахуйн нэгж, байгууллагын нэр/
A5: =Нүүр!$U$16 -> 2025 оны 12 сарын 31 өдөр | D5: /Төгрөгөөр/
A6: Мөрийн дугаар | B6: Үзүүлэлт | C6: Эхний үлдэгдэл /2024.12.31/ | D6: Эцсийн үлдэгдэл /2025.09.30/
A7: 1 | B7: ХӨРӨНГӨ
A8: 1.1. | B8: Эргэлтийн хөрөнгө
A9: 1.1.1 | B9: Мөнгө, түүнтэй адилтгах хөрөнгө | C9: 34158 | D9: 50158 | F9: 570000 | I9: 2070000
A10: 1.1.2 | B10: Дансны авлага | C10: 47654422 | D10: 47654422 | F10: 0 | I10: 0
A11: 1.1.3 | B11: Татвар, НДШ-ийн авлага | C11: 2698946.9 | D11: 4444056.3 | F11: 0 | I11: 0
A12: 1.1.4 | B12: Бусад авлага | C12: 42220000 | D12: 42220000 | F12: -244000 | I12: 256000
A13: 1.1.5 | B13: Бусад санхүүгийн хөрөнгө | C13: 0 | F13: 0 | I13: 0
A14: 1.1.6 | B14: Бараа материал | C14: 67373600 | D14: 67373600 | F14: 0 | I14: 0
A15: 1.1.7 | B15: Урьдчилж төлсөн зардал/тооцоо | F15: 402000 | G15: 158000 | I15: 622000
A16: 1.1.8 | B16: Бусад эргэлтийн хөрөнгө | F16: 0 | I16: 0
A17: 1.1.9 | B17: Борлуулах зорилгоор эзэмшиж буй эргэлтийн бус хөрөнгө (борлуулах бүлэг хөрөнгө) | F17: 0 | I17: 420000
A18: 1.1.10
A19: 1.1.11 | B19: Эргэлтийн хөрөнгийн дүн | C19: =SUM(C9:C18) -> 1.5998113e+08 | D19: =SUM(D9:D18) -> 1.6174224e+08 | I19: 3368000
A20: 1.2 | B20: Эргэлтийн бус хөрөнгө | I20: *
A21: 1.2.1 | B21: Үндсэн хөрөнгө | C21: 574874100 | F21: 360000 | I21: 360000
A22: 1.2.2 | B22: Биет бус хөрөнгө | F22: 0 | I22: 0
A23: 1.2.3 | B23: Биологийн хөрөнгө | F23: 0 | I23: 0
A24: 1.2.4 | B24: Урт хугацаат хөрөнгө оруулалт | F24: 0 | I24: 0
A25: 1.2.5 | B25: Хайгуул ба үнэлгээний хөрөнгө | F25: 0 | I25: 0
A26: 1.2.6 | B26: Хойшлогдсон татварын хөрөнгө | D26: 0 | F26: 0 | I26: 0
A27: 1.2.7 | B27: Хөрөнгө оруулалтын зориулалттай үл хөдлөх хөрөнгө | I27: 0
A28: 1.2.8 | B28: Бусад эргэлтийн бус хөрөнгө | C28: 0 | D28: 0 | I28: 0
A29: 1.2.9 | B29: Үндсэн хөрөнгийн үлдэгдэл өртөг | C29: 0 | D29: 574874100 | I29: 0
A30: 1.2.10 | B30: Эргэлтийн бус хөрөнгийн дүн | C30: =SUM(C21:C29) -> 574874100 | D30: =SUM(D22:D29) -> 574874100 | I30: 360000
A31: 1.3 | B31: НИЙТ ХӨРӨНГИЙН ДҮН | C31: =+C30+C19 -> 7.3485523e+08 | D31: =+D30+D19 -> 7.3661634e+08 | I31: 3728000
I32: 0
A33: 2 | B33: ӨР ТӨЛБӨР БА ЭЗДИЙН ӨМЧ | I33: *
A34: 2.1 | B34: Өр төлбөр | I34: *
A35: 2.1.1 | B35: Богино хугацаат өр төлбөр | I35: *
A36: 2.1.1.1 | B36: Дансны өглөг | C36: 1.4854264e+08 | D36: 1.7703844e+08 | I36: 726000
A37: 2.1.1.2 | B37: Цалингийн өглөг | I37: 0
A38: 2.1.1.3 | B38: Татварын өр | C38: 1066700 | D38: 1066700 | I38: 0
A39: 2.1.1.4 | B39: НДШ-ийн өглөг | C39: 867200 | D39: 867200 | I39: 0
A40: 2.1.1.5 | B40: Богино хугацаат зээл | C40: 241100400 | D40: 241100400 | I40: 0
A41: 2.1.1.6 | B41: Хүүний өглөг | I41: 0
...

Sheet Орлого Дэлг-гүй
C2: ОРЛОГЫН ДЭЛГЭРЭНГҮЙ ТАЙЛАН | K2: 1
B4: =[1]Баланс!A3 -> "ЭРЭЭНЦАВ" ХК
B5: /Аж ахуйн нэгж, байгууллагын нэр/
B7: =Нүүр!$U$16 -> 2025 оны 12 сарын 31 өдөр | D7: /Төгрөгөөр/ | L7: ҮАЗ
C9: Үзүүлэлт | D9: 1.Эхний үлдэгдэл | E9: 2.Эцсийн үлдэгдэл | G9: 1-ð óëèðàëä ¿ëäýãä îðóóëàõã¿é. | J9: Тайлангийн өмнөх үе | K9: Тайлант үе | L9: Тайлангийн өмнөх үе | M9: Тайлант үе | N9: 2008 îíû Ñ2 îðóóëíà.
B11: 1 | C11: Борлуулалтын орлого (цэвэр)
B12: 2 | C12: Борлуулалтын өртөг | G12: 0 | N12: 0
B13: 3 | C13: Нийт ашиг /алдагдал/ | D13: =D11-D12 -> 0 | E13: =E11-E12 -> 0 | G13: 0 | J13: #REF! | K13: 100 | L13: #REF! | N13: 0
B14: 4 | C14: Түрээсийн орлого
B15: 5 | C15: Хүүний орлого
B16: 6 | C16: Ногдол ашгийн орлого
B17: 7 | C17: Эрхийн шимтгэлийн орлого
B18: 8 | C18: Бусад орлого
B19: 9 | C19: Борлуулалт, маркетингийн зардал
B20: 10 | C20: Ерөнхий ба удирдлагын зардал | D20: 27716693 | E20: 26734695
B21: 11 | C21: Санхүүгийн зардал | D21: 27563.74
B22: 12 | C22: Бусад зардал
B23: 13 | C23: Гадаад валютын ханшийн зөрүүний олз (гарз)
B24: 14 | C24: Үндсэн хөрөнгө данснаас хассаны олз (гарз)
B25: 15 | C25: Биет бус хөрөнгө данснаас хассаны олз (гарз)
B26: 16 | C26: Хөрөнгө оруулалт борлуулснаас үүссэн олз (гарз)
B27: 17 | C27: Бусад ашиг (алдагдал)
B28: 18 | C28: Татвар төлөхийн өмнөх ашиг (алдагдал) | D28: =D13+D14+D15+D16+D17+D18-D19-D20-D21-D22+D23+D24+D25+D26+D27 -> -27744257 | E28: =E13+E14+E15+E16+E17+E18-E19-E20-E21-E22+E23+E24+E25+E26+E27 -> -26734695
B29: 19 | C29: Орлогын татварын зардал
B30: 20 | C30: Ердийн үйл ажиллагааны татварын дараах ашиг (алдагдал) | D30: =D28 -> -27744257 | E30: =E28 -> -26734695
B31: =+B30+1 -> 21 | C31: Зогсоосон үйл ажиллагааны татварын дараах ашиг (алд) | G31: 0 | J31: #REF! | K31: 24.195804 | N31: 0
B32: =+B31+1 -> 22 | C32: Тайлант үеийн цэвэр ашиг /алдагдал/ | D32: =D30 -> -27744257 | E32: =E30 -> -26734695 | G32: 0 | J32: #REF! | K32: 75.804196 | L32: #REF! | N32: 0
B33: =+B32+1 -> 23 | C33: Бусад дэлгэрэнгүй орлого | J33: #REF! | K33: 0
C34: 23.1. Хөрөнгийн дахин үнэлгээний нэмэгдлийн зөрүү | G34: 0 | J34: #REF! | K34: 0 | N34: 0
C35: 23.2. Гадаад валютын хөрвүүлэлтийн зөрүү | G35: 0 | J35: #REF! | K35: 0 | N35: 0
C36: 23.2. Бусад олз (гарз) | G36: 0 | J36: #REF! | K36: 0 | N36: 0
B37: 24 | C37: Нийт дэлгэрэнгүй орлогын дүн | D37: =D32+D36 -> -27744257 | E37: =E32+E36 -> -26734695 | G37: 0 | J37: #REF! | K37: 0 | N37: 0
B38: =+B37+1 -> 25 | C38: Нэгж хувьцаанд ногдох суурь ашиг /алдагдал/ | J38: #REF! | K38: 0
C40: Гүйцэтгэх захирал ________________ /М.БАТ/
C42: Ерөнхий нягтлан бодогч ________________ /Л.ДАВАА /

Sheet Өмч өөрчлөлт 
D3: ӨМЧИЙН ӨӨРЧЛӨЛТИЙН ТАЙЛАН
C4: ='Баланс '!B3 -> 0 | J4: ='Баланс '!$C$3 -> 0
B5: ='Баланс '!A3 -> "ЭРЭЭНЦАВ" ХК | E5: ='Баланс '!B3 -> 0
B6: ='Баланс '!A4 -> /Аж ахуйн нэгж, байгууллагын нэр/ | E6: ='Баланс '!B4 -> 0
B7: =Нүүр!$U$16 -> 2025 оны 12 сарын 31 өдөр | E7: ='Баланс '!B5 -> 0 | F7: ='Баланс '!F3 -> 0 | G7: ='Баланс '!G3 -> 0 | H7: ='Баланс '!H3 -> 0 | I7: ='Баланс '!I3 -> 0 | J7: ='Баланс '!J3 -> 0 | K7: ='Баланс '!K3 -> 0 | L7: ='Баланс '!L3 -> 0 | M7: ='Баланс '!M3 -> 0 | ... XFD7: ='Баланс '!XFD3 -> 0
C9: ҮЗҮҮЛЭЛТ | D9: Өмч | E9: Халаасны хувьцаа | F9: Нэмж төлөгдсөн капитал | G9: Хөрөнгийн дахин үнэлгээний нэмэгдэл | H9: Гадаад валютын хөрвүүлэлтийн нөөц | I9: Эзний өмчийн бусад хэсэг | J9: Хуримтлагдсан ашиг | K9: Нийт дүн
B10: 1 | C10: Нягтлан бодох бүртгэлийн бодлогын өөрчлөлтийн нөлөө, алдааны залруулга
B11: 2 | C11: Залруулсан үлдэгдэл | D11: 181600000 | J11: 1.6724345e+08 | K11: 3.4884345e+08
B12: 3 | C12: Тайлант үеийн цэвэр ашиг (алдагдал) | J12: -27744257 | K12: -27744257
B13: 4 | C13: Бусад дэлгэрэнгүй орлого
B14: 5 | C14: Өмчид гарсан өөрчлөлт
B15: 6 | C15: Зарласан ногдол ашиг
B16: 7 | C16: Дахин үнэлгээний нэмэгдлийн хэрэгжсэн дүн
B17: 8 | C17: Эхний үлдэгдэл /төгрөгөөр/ | D17: =SUM(D11:D16) -> 181600000 | E17: =SUM(E10:E16) -> 0 | F17: =SUM(F10:F16) -> 0 | G17: =SUM(G10:G16) -> 0 | I17: =SUM(I10:I16) -> 0 | J17: =SUM(J10:J16) -> 1.3949919e+08 | K17: 3.2109919e+08
B18: 9 | C18: Нягтлан бодох бүртгэлийн бодлогын өөрчлөлтийн нөлөө, алдааны залруулга
B19: 10 | C19: Залруулсан үлдэгдэл | D19: 181600000 | J19: =SUM(J17) -> 1.3949919e+08 | K19: 3.2109919e+08
B20: 11 | C20: Тайлант үеийн цэвэр ашиг (алдагдал) | J20: -26734695 | K20: -26734695
B21: 12 | C21: Бусад дэлгэрэнгүй орлого
B22: 13 | C22: Өмчид гарсан өөрчлөлт
B23: 14 | C23: Зарласан ногдол ашиг
B24: 15 | C24: Дахин үнэлгээний нэмэгдлийн хэрэгжсэн дүн
B25: 16 | C25: Эцсийн үлдэгдэл /төгрөгөөр/ | D25: 181600000 | J25: =SUM(J19,J20) -> 1.1276449e+08 | K25: =SUM(K19,K20) -> 2.9436449e+08
D28: Гүйцэтгэх захирал ________________ /М.БАТ/
D30: Ерөнхий нягтлан бодогч ________________ /Л.ДАВАА /

Sheet Мөнгөн гүйлгээ 
A1: МӨНГӨН ГҮЙЛГЭЭНИЙ ТАЙЛАН
A2: ='Баланс '!A3 -> "ЭРЭЭНЦАВ" ХК | C2: ='Баланс '!C3 -> 0 | D2: ='Баланс '!D3 -> 0 | E2: ='Баланс '!E3 -> 0 | F2: ='Баланс '!F3 -> 0 | G2: ='Баланс '!G3 -> 0 | H2: ='Баланс '!H3 -> 0 | I2: ='Баланс '!I3 -> 0 | J2: ='Баланс '!J3 -> 0 | ... XFD2: ='Баланс '!XFD3 -> 0
A3: ='Баланс '!A4 -> /Аж ахуйн нэгж, байгууллагын нэр/
A4: =Нүүр!$U$16 -> 2025 оны 12 сарын 31 өдөр | D4: 0
B5: ҮЗҮҮЛЭЛТ | C5: Эхний үлдэгдэл | D5: Эцсийн үлдэгдэл
A6: 1 | B6: Үндсэн үйл ажиллагааны мөнгөн гүйлгээ
A7: 1.1. | B7: Мөнгөн орлогын дүн | C7: =SUM(C8:C13) -> 26587701 | D7: =SUM(D8:D13) -> 28479805
A8: 1.1.1 | B8: Бараа борлуулсан, үйлчилгээ үзүүлсний орлого
A9: 1.1.2 | B9: Эрхийн шимтгэл, хураамж, төлбөрийн орлого
A10: 1.1.3 | B10: Даатгалын нөхвөрөөс хүлээн авсан мөнгө
A11: 1.1.4 | B11: Буцаан авсан албан татвар
A12: 1.1.5 | B12: Татаас, санхүүжилтийн орлого
A13: 1.1.6 | B13: Бусад мөнгөн орлого | C13: 26587701 | D13: 28479805
A14: 1.2 | B14: Мөнгөн зарлагын дүн | C14: =SUM(C15:C23) -> 26718656 | D14: =SUM(D15:D23) -> 28463805
A15: 1.2.1 | B15: Ажиллагчдад төлсөн
A16: 1.2.2 | B16: Нийгмийн даатгалын байгууллагад төлсөн
A17: 1.2.3 | B17: Бараа материал худалдан авахад төлсөн
A18: 1.2.4 | B18: Ашиглалтын зардалд төлсөн
A19: 1.2.5 | B19: Түлш, шатахуун, тээврийн хөлс, сэлбэг хэрэгсэлд төлсөн | C19: 563603.63 | D19: 7735243.7
A20: 1.2.6 | B20: Хүүний төлбөрт төлсөн
A21: 1.2.7 | B21: Татварын байгууллагад төлсөн | C21: 24403592 | D21: 2933047.8
A22: 1.2.8 | B22: Даатгалын төлбөрт төлсөн
A23: 1.2.9 | B23: Бусад мөнгөн зарлага | C23: 1751460.1 | D23: 17795513
A24: 1.3 | B24: Үндсэн үйл ажиллагааны цэвэр мөнгөн гүйлгээний дүн | C24: =+C7-C14 -> -130954.74 | D24: =+D7-D14 -> 16000
A25: 2 | B25: Хөрөнгө оруулалтын үйл ажиллагааны мөнгөн гүйлгээ
A26: 2.1 | B26: Мөнгөн орлогын дүн (+) | C26: =SUM(C27:C33) -> 0 | D26: =SUM(D27:D33) -> 0
A27: 2.1.1 | B27: Үндсэн хөрөнгө борлуулсны орлого
A28: 2.1.2 | B28: Биет бус хөрөнгө борлуулсны орлого
A29: 2.1.3 | B29: Хөрөнгө оруулалт борлуулсны орлого
A30: 2.1.4 | B30: Бусад урт хугацаат хөрөнгө борлуулсны орлого
A31: 2.1.5 | B31: Бусдад олгосон зээл, мөнгөн урьдчилгааны буцаан төлөлт
A32: 2.1.6 | B32: Хүлээн авсан хүүний орлого
A33: 2.1.7 | B33: Хүлээн авсан ногдол ашиг
A34: 2.2 | B34: Мөнгөн зарлагын дүн (-) | C34: =SUM(C35:C39) -> 0 | D34: =SUM(D35:D39) -> 0
A35: 2.2.1 | B35: Үндсэн хөрөнгө олж эзэмшихэд төлсөн мөнгө
A36: 2.2.2 | B36: Биет бус хөрөнгө олж эзэмшихэд төлсөн мөнгө
A37: 2.2.3 | B37: Хөрөнгө оруулалт олж эзэмшихэд төлсөн мөнгө
A38: 2.2.4 | B38: Бусад урт хугацаат хөрөнгө олж эзэмшихэд төлсөн мөнгө
A39: 2.2.5 | B39: Бусдад олгосон зээл болон урьдчилгаа | C39: 0
A40: 2.3 | B40: Хөрөнгө оруулалтын үйл ажиллагааны цэвэр мөнгөн гүйлгээ | C40: =C26-C34 -> 0 | D40: =D26-D34 -> 0
...

Sheet todruulga
A1: САНХҮҮГИЙН ТАЙЛАНГИЙН ТОДРУУЛГА
A4: /Àæ àõóé íýãæ áàéãóóëëàãûí íýð/ | H4: 2011 оны 12 сарын 31
A6: 1.ÒАНИЛЦУУЛГА
A8: 1 | B8: Áàéøèë
A10: 2 | B10: Øóóäàíãèéí õàÿã: | C10: 0 | F10: Óòàñ: | G10: 0 | I10: Ôàêñ:
A12: 3 | B12: ªì÷èéí õýëáýð: | C12: Òºðèéí | E12: õóâü | G12: Õóâèéí | I12: õóâü
A14: 4 | B14: ¯éë àæèëëàãàà ÿâóóëæ ýõýëñýí îãíîî
A16: 5 | B16: Õàðèëöäàã ñàíõ¿¿, òàòâàðûí áàéãóóëëàãà:
A18: 6 | B18: ¯éë àæèëëàãààíû ¿íäñýí ÷èãëýë /òºðºë/ :
B20: à/
B21: á/
B22: â/
A24: 7 | B24: Òóñëàõ ¿éë àæèëëàãààíû /òºðºë/:
B26: à/
B27: á/
B28: â/
B29: ã/
B30: ä/
A32: 8 | B32: Ñàëáàð òºëººëºã÷èéí ãàçðûí íýð áàéðøèë:
B34: à/
B35: á/
B36: â/
B37: ã/
A39: 9 | B39: Ã¿éöýòãýõ çàõèðàë /çàõèðàë/:
B41: Îâîã: | F41: Óòàñ:
B42: Íýð: | C42: М. Мандал | F42: Ôàêñ:
B43: E-mail õàÿã:
A45: 10 | B45: Åðºíõèé íÿãòëàí áîäîã÷:
B47: Îâîã: | F47: Óòàñ:
B48: Íýð: | C48: Тайван | F48: Ôàêñ:
B49: E-mail õàÿã:
A51: 2. НЯГТЛАН БОДОХ БҮРТГЭЛИЙН БОДЛОГО
A52: Монгол улсын татварын хуулийн дагуу НББОУС-ын дагуу аккурэль сууриар санхүүгийн тайлан гарсан болно.
A54: Санхүүгийн тайлангаа доорх дарааллын дагуу гаргасан
A55: Ерөнхий журнал хөтлөх
A56: Ерөнхий дэвтэр хөтлөх
A57: Ажлын хүснэгт бэлтгэх
A58: Санхүүгийн үндсэн 4-н тайлан гаргах
A92: 3. МӨНГӨ БА ТҮҮНТЭЙ АДИЛТГАХ ХӨРӨНГӨ
A94: Êàññ äàõü ìºíãº | H94: (Òºãðºã/âàëþò)
...
