Workbook

Sheet Нүүр
P1: Сангийн Сайдын 2017 оны
P2: 361-р тушаалаар батлав
A5: Регистрийн дугаар | C5: 2 | D5: 1 | E5: 1 | F5: 7 | G5: 4 | H5: 3 | I5: 6
A8: Б
A19: УЛСЫН ИХ ДЭЛГҮҮР ХК
A21: 2026 ОНЫ 1 ДҮГЭЭР УЛИРЛЫН
A23: САНХҮҮГИЙН ТАЙЛАН
A34: Хянаж хүлээн авсан байгууллагын нэр | N34: Сар өдөр | Q34: Гарын үсэг

Sheet Нүүр-2
A1: Улсын Их Дэлгүүр ХК -ийн
A2: 202 оны санхүүгийн тайлангийн
A3: бодит байдлын тухай мэдэгдэл
A5: 202 оны -р сарын өдөр
A7: Захирал Х.Эрдэнэбаатар , нягтлан бодогч Д.Чимгээ бид манай аж ахуйн нэгжийн 202 оны -р сарын ны өдрөөр тасалбар болгон гаргасан санхүүгийн тайланд тайлант хугацааны үйл ажиллагааны үр дүн, санхүүгийн байдлыг “Нягтлан бодох бүртгэлийн тухай” хуулийн 17.1 дэх заалтын дагуу үнэн зөв, бүрэн тусгасан болохыг баталж байна. Үүнд:
A8: 1. Бүх ажил гүйлгээ бодитоор гарсан бөгөөд холбогдох анхан шатны баримтыг үндэслэн нягтлан бодох бүртгэл, санхүүгийн тайланд үнэн зөв тусгасан
A9: 2. Санхүүгийн тайланд тусгагдсан бүх тооцоолол үнэн зөв хийгдсэн
A10: 3. Аж ахуйн нэгжийн үйл ажиллагааны эдийн засаг, санхүүгийн бүхий л үйл явцыг иж бүрэн хамарсан
A11: 4. Тайлант үеийн үр дүнд өмнөх оны ажил гүйлгээнээс шилжин тусгагдаагүй, мөн тайлант оны ажил гүйлгээнээс орхигдсон зүйл байхгүй
A12: 5. Бүх хөрөнгө, авлага, өр төлбөр, орлого, зардлыг холбогдох Санхүүгийн тайлагналын олон улсын стандартын дагуу үнэн зөв тусгасан
A13: 6. Энэ тайланд тусгагдсан бүхий л зүйл манай байгууллагын албан ёсны өмчлөлд байдаг бөгөөд орхигдсон зүйл үгүй болно.
A17: Захирал /Х.Эрдэнэбаатар/ | D17: ________________ /..................................../
A19: Нягтлан бодогч /Д.Чимгээ / | B19: ________________ /..................................../

Sheet Санхүү байдал
C1: Сангийн Сайдын 2017 оны
C2: 361-р тушаалаар батлав
A3: САНХҮҮ БАЙДЛЫН ТАЙЛАН
C4: 2026 оны 3-р сарын 31
B5: Улсын их дэлгүүр ХК
B6: (Аж ахуйн нэгж байгууллагын нэр )
C7: (төгрөгөөр)
A8: № | B8: Үзүүлэлт | C8: Эхний үлдэгдэл | D8: Эцсийн үлдэгдэл
A10: 1 | B10: ХӨРӨНГӨ | E10: =D12/1000 -> 68596.285
A11: 1.1. | B11: Эргэлтийн хөрөнгө | E11: =D13/1000 -> 0
A12: 1.1.1 | B12: Мөнгө, түүнтэй адилтгах хөрөнгө | C12: 2.1168206e+08 | D12: 68596285 | E12: =D14/1000 -> 22784.936
A13: 1.1.2 | B13: Дансны авлага | C13: 39600 | E13: =D15/1000 -> 0
A14: 1.1.3 | B14: Татвар, НДШ-ийн авлага | C14: 13261525 | D14: 22784936 | E14: =D31/1000 -> 397513.69
A15: 1.1.4 | B15: Бусад авлага | C15: 0 | E15: =D17/1000 -> 73147.059
A16: 1.1.5 | B16: Бусад санхүүгийн хөрөнгө | E16: =D18/1000 -> 194787.53
A17: 1.1.6 | B17: Бараа материал | C17: 76057341 | D17: 73147059 | E17: =D19/1000 -> 0
A18: 1.1.7 | B18: Урьдчилж төлсөн зардал | C18: 1.841629e+08 | D18: 1.9478753e+08 | E18: =D20/1000 -> 0
A19: 1.1.8 | B19: Урьдчилж төлсөн тооцоо | C19: 0 | D19: 0 | E19: =D21/1000 -> 0
A20: 1.1.9 | B20: Борлуулах зорилгоор эзэмшиж буй эргэлтийн бус хөрөнгө (борлуулах бүлэг хөрөнгө) | E20: =D22/1000 -> 359315.81
A21: 1.1.10 | E21: =D23/1000 -> 0
A22: 1.1.11 | B22: Эргэлтийн хөрөнгийн дүн | C22: =SUM(C12:C21) -> 4.8520343e+08 | D22: =SUM(D12:D21) -> 3.5931581e+08 | E22: =D24/1000 -> 12038330
A23: 1.2. | B23: Эргэлтийн бус хөрөнгө | C23: 0 | D23: 0 | E23: =D25/1000 -> 0
A24: 1.2.1 | B24: Үндсэн хөрөнгө | C24: 1.2308491e+10 | D24: 1.203833e+10 | E24: =D26/1000 -> 0
A25: 1.2.2 | B25: Биет бус хөрөнгө | C25: 0 | E25: =D27/1000 -> 33811.92
A26: 1.2.3 | B26: Биологийн хөрөнгө | E26: =D28/1000 -> 0
A27: 1.2.4 | B27: Урт хугацаат хөрөнгө оруулалт | C27: 33811920 | D27: 33811920 | E27: =D29/1000 -> 19568.219
A28: 1.2.5 | B28: Хайгуул ба үнэлгээний хөрөнгө | E28: =D30/1000 -> 0
A29: 1.2.6 | B29: Хойшлогдсон татварын хөрөнгө | C29: 20307123 | D29: 19568219 | E29: =#REF!/1000 -> #REF!
A30: 1.2.7 | B30: Хөрөнгө оруулалтын зориулалттай үл хөдлөх хөрөнгө | E30: =D32/1000 -> 0
A31: 1.2.8 | B31: Бусад эргэлтийн бус хөрөнгө | C31: 4.2972309e+08 | D31: 3.9751369e+08 | E31: =D33/1000 -> 12489223
A32: 1.2.9 | E32: =D34/1000 -> 12848539
A33: 1.2.10 | B33: Эргэлтийн бус хөрөнгийн дүн | C33: =SUM(C24:C31) -> 1.2792333e+10 | D33: =SUM(D24:D31) -> 1.2489223e+10 | E33: =D35/1000 -> 0
A34: 1.3. | B34: НИЙТ ХӨРӨНГИЙН ДҮН | C34: =+C22+C33 -> 1.3277536e+10 | D34: =+D22+D33 -> 1.2848539e+10 | E34: =D36/1000 -> 0
A35: 2. | B35: ӨР ТӨЛБӨР БА ЭЗДИЙН ӨМЧ | C35: 0 | D35: 0 | E35: =D37/1000 -> 0
A36: 2.1. | B36: Өр төлбөр | C36: 0 | D36: 0 | E36: =C38/1000 -> 222141.66
A37: 2.1.1. | B37: Богино хугацаат өр төлбөр | E37: =C39/1000 -> 6957.0211
A38: 2.1.1.1 | B38: Дансны өглөг | C38: 2.2214166e+08 | D38: =29240384.2+45215162.51+21066166.6 -> 95521713 | E38: =C40/1000 -> 31812.374
A39: 2.1.1.2 | B39: Цалингийн өглөг | C39: 6957021.1 | D39: 7256058.3 | E39: =C41/1000 -> 107.89828
A40: 2.1.1.3 | B40: Татварын өр | C40: 31812374 | D40: =34768268.36 -> 34768268 | E40: =C42/1000 -> 0
A41: 2.1.1.4 | B41: НДШ - ийн өглөг | C41: 107898.28 | D41: 1675.93 | E41: =C43/1000 -> 203071.23
A42: 2.1.1.5 | B42: Банкны богино хугацаат зээл | E42: =C44/1000 -> 15433.581
A43: 2.1.1.6 | B43: Хүүний өглөг | C43: 2.0307123e+08 | D43: 1.9568219e+08 | E43: =C45/1000 -> 0
A44: 2.1.1.7 | B44: Ногдол ашгийн өглөг | C44: 15433581 | D44: 15433581 | E44: =C46/1000 -> 0
A45: 2.1.1.8 | B45: Урьдчилж орсон орлого | E45: =C47/1000 -> 1537.226
A46: 2.1.1.9 | B46: Нөөц /өр төлбөр/ | E46: =D48/1000 -> 0
A47: 2.1.1.10 | B47: Бусад богино хугацаат өр төлбөр | C47: 1537226 | D47: 1153732.6 | E47: =D49/1000 -> 0
A48: 2.1.1.11 | B48: Борлуулах зорилгоор эзэмшиж буй бүлэг хөрөнгөнд хамаарах өр төлбөр | E48: =D50/1000 -> 349817.22
A49: 2.1.1.12 | B49: Бусад тооцооны өглөг | E49: =D51/1000 -> 0
A50: 2.1.1.13. | B50: Богино хугацаат өр төлбөрийн дүн | C50: =SUM(C38:C48) -> 4.8106099e+08 | D50: =SUM(D38:D48) -> 3.4981722e+08 | E50: =C52/1000 -> 15800000
A51: 2.1.2. | B51: Урт хугацаат өр төлбөр | C51: 0 | D51: 0 | E51: =C53/1000 -> 0
A52: 2.1.2.1 | B52: Урт хугацаат зээл | C52: 15800000000 | D52: 15200000000 | E52: =C54/1000 -> 0
A53: 2.1.2.2 | B53: Нөөц /өр төлбөр/ | E53: =C55/1000 -> 0
A54: 2.1.2.3 | B54: Хойшлогдсон татварын өр | E54: =D56/1000 -> 0
A55: 2.1.2.4 | B55: Бусад урт хугацаат өр төлбөр | C55: 0 | D55: 0 | E55: =D57/1000 -> 15200000
A56: 2.1.2.5 | C56: 0 | D56: 0 | E56: =D58/1000 -> 15549817
A57: 2.1.2.6 | B57: Урт хугацаат өр төлбөрийн дүн | C57: =SUM(C52:C56) -> 15800000000 | D57: =SUM(D52:D56) -> 15200000000 | E57: =D59/1000 -> 0
A58: 2.2. | B58: Өр төлбөрийн нийт дүн | C58: =+C50+C57 -> 1.6281061e+10 | D58: =+D50+D57 -> 1.5549817e+10 | E58: =D60/1000 -> 0
A59: 2.3. | B59: Эздийн өмч | C59: 0 | D59: =D61 -> 0 | E59: =D61/1000 -> 0
A60: 2.3.1. | B60: Өмч: -төрийн | E60: =D62/1000 -> 3680785
A61: 2.3.2. | B61: -хувийн | C61: 0 | D61: 0 | E61: =D63/1000 -> -175964.11
A62: 2.3.3 | B62: -.хувьцаат | C62: 3680785000 | D62: 3680785000 | E62: =D64/1000 -> 133351.8
A63: 2.3.4 | B63: Халаасны хувьцаа | C63: -175964106 | D63: -175964106 | E63: =D65/1000 -> 1600084.1
A64: 2.3.5 | B64: Нэмж төлөгдсөн капитал | C64: 133351798 | D64: 133351798 | E64: =D66/1000 -> 0
A65: 2.3.6 | B65: Хөрөнгийн дахин үнэлгээний нэмэгдэл | C65: 1.6000841e+09 | D65: 1.6000841e+09 | E65: =D67/1000 -> 0
A66: 2.3.7 | B66: Гадаад валютын хөрвүүлэлтийн нөөц | E66: =D68/1000 -> -7939534.7
A67: 2.3.8 | B67: Эздийн өмчийн бусад хэсэг | E67: =D69/1000 -> 302247
A68: 2.3.9 | B68: Хуримтлагдсан ашиг | C68: =+C69+C70 -> -8.2417817e+09 | D68: =+D69+D70 -> -7.9395347e+09 | E68: =D70/1000 -> -8241781.7
A69: 2.3.9.1 | B69: Тайлант үеийн | D69: =Орлого!E31 -> 3.02247e+08 | E69: =D71/1000 -> -2701277.9
A70: 2.3.9.2 | B70: Хуримтлагдсан ашиг | C70: -8.2417817e+09 | D70: =C68 -> -8.2417817e+09 | E70: =D72/1000 -> 12848539
A71: 2.3.11 | B71: Эздийн өмчийн нийт дүн | C71: =+SUM(C61:C68) -> -3.0035249e+09 | D71: =+SUM(D61:D68) -> -2.7012779e+09 | E71: =E32-E70 -> 0
A72: 2.5.20. | B72: ӨР ТӨЛБӨР БА ЭЗДИЙН ӨМЧИЙН ДҮН | C72: =+C71+C58 -> 1.3277536e+10 | D72: =+D71+D58 -> 1.2848539e+10
C73: =C34-C72 -> 0 | D73: =D34-D72 -> 0

Sheet Орлого
D1: ='Санхүү байдал'!C1 -> Сангийн Сайдын 2017 оны
D2: ='Санхүү байдал'!C2 -> 361-р тушаалаар батлав
B4: ОРЛОГЫН ДЭЛГЭРЭНГҮЙ ТАЙЛАН
C6: =+'Санхүү байдал'!B5 -> Улсын их дэлгүүр ХК
C7: =+'Санхүү байдал'!B6 -> (Аж ахуйн нэгж байгууллагын нэр ) | D7: =+'Санхүү байдал'!C4 -> 2026 оны 3-р сарын 31
E8: / төгрөгөөр/
B9: № | C9: Үзүүлэлт | D9: Эхний үлдэгдэл | E9: Эцсийн үлдэгдэл
B10: 1 | C10: Борлуулалтын орлого (цэвэр) | D10: 9.3954052e+09 | E10: 2.3879058e+09
B11: 2 | C11: Борлуулалтын өртөг, хөнгөлөлт | D11: 5.5388252e+09 | E11: =1958462067.46-575498630.14-1750000 -> 1.3812134e+09
B12: 3 | C12: Нийт ашиг ( алдагдал) | D12: =+D10-D11 -> 3.85658e+09 | E12: =+E10-E11 -> 1.0066924e+09
B13: 4 | C13: Түрээсийн орлого
B14: 5 | C14: Хүүний орлого | D14: 3150093 | E14: 634356.76
B15: 6 | C15: Ногдол ашгийн орлого | D15: 25411488
B16: 7 | C16: Эрхийн шимтгэлийн орлого
B17: 8 | C17: Бусад орлого | D17: 2863045.9 | E17: 0
B18: 9 | C18: Борлуулалт, маркетингийн зардал | D18: 4221574.5 | E18: 1750000
B19: 10 | C19: Ерөнхий ба удирдлагын зардал | D19: 2.4202695e+08 | E19: 92389068
B20: 11 | C20: Санхүүгийн зардал | D20: 2.4439123e+09 | E20: 5.7549863e+08
B21: 12 | C21: Бусад зардал | D21: 21108234
B22: 13 | C22: Гадаад валютын ханшийн зөрүүний олз (гарз)
B23: 14 | C23: Үндсэн хөрөнгө данснаас хассаны олз (гарз) | D23: 0
B24: 15 | C24: Биет бус хөрөнгө данснаас хассаны олз (гарз)
B25: 16 | C25: Хөрөнгө оруулалт борлуулснаас үүссэн олз (гарз)
B26: 17 | C26: Бусад ашиг ( алдагдал) | D26: 0 | E26: 0
B27: 18 | C27: Татвар төлөхийн өмнөх ашиг (алдагдал) | D27: =SUM(D12:D17)-SUM(D18:D26) -> 1.1767355e+09 | E27: =SUM(E12:E17)-SUM(E18:E26) -> 3.3768906e+08
B28: 19 | C28: Орлогын татварын зардал | D28: -1.208944e+08 | E28: 35442063
B29: 20 | C29: Татварын дараахь ашиг (алдагдал) | D29: =+D27-D28 -> 1.2976299e+09 | E29: =+E27-E28 -> 3.02247e+08
B30: 21 | C30: Зогсоосон үйл ажиллагааны татварын дараах ашиг (алдагдал)
B31: 22 | C31: Тайлант үеийн цэвэр ашиг ( алдагдал) | D31: =+D29 -> 1.2976299e+09 | E31: =+E29 -> 3.02247e+08
B32: 23 | C32: Бусад дэлгэрэнгүй орлого
B33: 23.1 | C33: Хөрөнгийн дахин үнэлгээний нэмэгдлийн зөрүү
B34: 23.2 | C34: Гадаад валютын хөрвүүлэлтийн зөрүү
B35: 23.3 | C35: Бусад олз (гарз)
B36: 24 | C36: Орлогын нийт дүн | D36: =D31 -> 1.2976299e+09 | E36: =E31 -> 3.02247e+08
B37: 25 | C37: Нэгж хувьцаанд ногдох суурь ашиг (алдагдал)
