Workbook

Sheet nuur
J1: Ñàíãèéí ñàéäûí 2017 îíû
J2: 361-ð òóøààëûí 2-ð õàâñðàëò
A8: Ðåãèñòðèéí äóãààð: | B8: 2 | C8: 6 | D8: 8 | E8: 7 | F8: 5 | G8: 6 | H8: 9
A9: Õàÿã :_________________________________________________________________________________
A10: Øóóäàíãèéí õàÿã :______________________________________________________________________
A11: Óòàñ : _________________ | G11: Ôàêñ : ______________________________
A12: ªì÷èéí õýëáýð : | B12: Òºðèéí……...õóâü | G12: Õóâèéí 100 õóâü
A18: "МОНГОЛ ШИЛТГЭЭН" ХК -ИЙН
A19: 2025 ÎÍÛ ЖИЛИЙН ЭЦСИЙН ÑÀÍÕ¯¯ÃÈÉÍ ÒÀÉËÀÍ
A31: Õÿíàæ õ¿ëýýí àâñàí бàéãóóëëàãûí íýð | B31: Ñàð, ºäºð | I31: Ãàðûí ¿ñýã
A33: БЗД–èéí ñàíõ¿¿ төрийн сангийн õýëòýñ
A34: БЗД–èéí òàòâàðûí õýëòýñ

Sheet ar
A1: МОНГОЛ ШИЛТГЭЭН ХК-íèé
A2: 2025 оны жилийн эцсийн ñанх¿¿гийн тайлангийн
A3: бодит байдлын тухай мэдэгдэл
A6: 2026 оны 01 сарын 27 өäºð
A9: Захирал , ерөнхий нягтлан бодогч .................... бид манай аж ахуйн нэгжийн 2025 оны 12 сарын 31-ны өдрөөр тасалбар болгон гаргасан санх¿¿гийн тайланд тайлант хугацааны ¿йл ажиллагаанû ¿р ä¿í, санõ¿¿ãийн байдлыг “Нягтлан бодох á¿ðтгэлийн тухай” хуулийн 17.1 дэх заалтын дагуó ¿нэн çºâ, á¿рэн тусгасан болохыг баталж байна. ¯¿íä:
A11: 1. Á¿õ ажил ã¿éлгээ бодитоор гарсан áºãººä холбогдох анхан шатны баримтыг үндэслэн нягтлан бодох бүртгэл, санхүүгийн тайланд үнэн зөв тусгасан;
A12: 2. Санхүүгийн тайланд тусгагдсан бүх тооцоолол үнэн зөв хийгдсэн;
A13: 3. Аж ахуйн нэгжийн үйл ажиллагааны эдийн засаг, санхүүгийн бүхий л үйл явцыг иж бүрэн хамарсан;
A14: 4. Тайлант үеийн үр дүнд өмнөх оны ажил гүйлгээнээс шилжин тусгагдаагүй, мөн тайлант оны ажил гүйлгээнээс орхигдсон зүйл байхгүй;
A15: 5. Бүх хөрөнгө, авлага, өр төлбөр, орлого, зардлыг холбогдох Санхүүгийн тайлагналын олон улсын стандартын дагуу үнэн зөв тусгасан;
A16: 6. Энэ тайланд тусгагдсан бүхий л зүйл манай байгууллагын албан ёсны өмчлөлд байдаг бөгөөд орхигдсон зүйл үгүй болно.
A24: Çàõèðàë / /
A25: Ерөнхий нягтлан бодогч / /

Sheet blanc
A1: САНХҮҮГИЙН БАЙДЛЫН ТАЙЛАН
A3: "Монгол шилтгээн" ХК | C3: 2025 îíû 12 ñàðûí 31 ºäºð
A4: (Àæ àõóéí íýãæèéí íýð) | D4: (òºãðºãººð)
A6: Ìºðèéí äóãààð | B6: ÁÀËÀÍÑÛÍ Ç¯ÉË | C6: ¯ëäýãäýë
C7: 1-ð ñàðûн 01 | D7: 12-ð ñàðûí 31
A8: À | B8: Á | C8: 1 | D8: 2
A9: 1 | B9: ХӨРӨНГӨ
A10: 1.1 | B10: Ýðãýëòèéí õºðºíãº
A11: 1.1.1 | B11: Ìºíãº, ò¿¿íòýé àäèëòãàõ õºðºíãº | C11: 18995924 | D11: =798061.47+18197208.9 -> 18995270
A12: 1.1.2 | B12: Äàíñíû àâëàãà | C12: 74239984 | D12: 74239984
A13: 1.1.3 | B13: Òàòâàð, ÍÄØ - èéí àâëàãà | C13: 1421226.6 | D13: 1421226.6
A14: 1.1.4 | B14: Áóñàä àâëàãà | C14: 2289899197 | D14: 2289899197
A15: 1.1.5 | B15: Áóñàä ñàíõ¿¿ãèéí õºðºíãº
A16: 1.1.6 | B16: Áàðàà ìàòåðèàë | C16: 2.1508821e+08 | D16: 2.1508821e+08
A17: 1.1.7 | B17: Óðüä÷èëæ òºëñºí çàðäàë/òîîöîî | C17: 413898570 | D17: 413898570
A18: 1.1.8 | B18: Áóñàä ýðãýëòèéí õºðºíãº
A19: 1.1.9 | B19: Áîðëóóëàõ çîðèëãîîð ýçýìøèæ áóé ýðãýëèéí áóñ õºðºíãº (Áîðëóóëàõ á¿ëýã õºðºíãº )
A20: 1.1.10
A21: 1.1.11 | B21: Ýðãýëòèéí õºðºíãèéí ä¿í | C21: =SUM(C11:C20) -> 3.0135431e+09 | D21: =SUM(D11:D20) -> 3.0135425e+09
A22: 1.2 | B22: Ýðãýëòèéí áóñ õºðºíãº
A23: 1.2.1 | B23: ¯íäñýí õºðºíãº | C23: =2914486959.61+146527944.37+28466521.74+157471532.33+15763783.08-776467600.37-132222994.04-25539047.1-139828368.15-13811283.08 -> 2.1748474e+09 | D23: 2.1748474e+09
A24: 1.2.2 | B24: Áèåò áóñ õºðºíãº
A25: 1.2.3 | B25: Áèîëîãèéí õºðºíãº
A26: 1.2.4 | B26: Óðò õóãàöààò õºðºíãº îðóóëàëò
A27: 1.2.5 | B27: Õàéãóóë áà ¿íýëãýýíèé õºðºíãº
A28: 1.2.6 | B28: Õîéøëîãäñîí òàòâàðûí õºðºíãº
A29: 1.2.7 | B29: Õºðºíãº îðóóëàëòûí çîðèóëàëòòàé ¿ë õºäëºõ õºðºíãº | C29: 0 | D29: 0
A30: 1.2.8 | B30: Áóñàä ýðãýëòèéí бус õºðºíãº | C30: 0 | D30: 0
A31: 1.2.9 | B31: Дуусаагүй барилга | C31: 1.911924e+08 | D31: 1.911924e+08
A32: 1.2.10 | B32: Ýðãýëòèéí áóñ õºðºíãèéí ä¿í | C32: =SUM(C23:C31) -> 2.3660398e+09 | D32: =SUM(D23:D31) -> 2.3660398e+09
A33: 1.3 | B33: ÍÈÉÒ ÕªÐªÍÃÈÉÍ Ä¯Í | C33: =+C21+C32 -> 5.379583e+09 | D33: =+D21+D32 -> 5.3795823e+09
A34: 2 | B34: ªÐ ÒªËÁªÐ ÁÀ ÝÇÄÈÉÍ ªÌ×
A35: 2.1 | B35: ªð òºëáºð
A36: 2.1.1 | B36: Áîãèíî õóãàöààò ºð òºëáºð
A37: 2.1.1.1 | B37: Äàíñíû ºãëºã | C37: 1.9847538e+08 | D37: =241560153.63-10000000 -> 2.3156015e+08
A38: 2.1.1.2 | B38: Öàëèíãèéí ºãëºã | C38: 19025496 | D38: 19025496
A39: 2.1.1.3 | B39: Òàòâàðûí ºð | C39: 36587379 | D39: =31086717.95+4622494.77+996807.63+1511.25 -> 36707532
A40: 2.1.1.4 | B40: ÍÄØ- èéí ºãëºã | C40: 3467759.4 | D40: 3365760
A41: 2.1.1.5 | B41: Бîãèíî õóãàöààò çýýë | C41: 64000000 | D41: 64000000
A42: 2.1.1.6 | B42: Õ¿¿ний ºãëºã | C42: 14890666 | D42: 14890666
A43: 2.1.1.7 | B43: Íîãäîë àøãèéí ºãëºã | C43: 52239548 | D43: 52239548
A44: 2.1.1.8 | B44: Óðüä÷иëæ îðñîí îðëîãî | D44: 10000000
A45: 2.1.1.9 | B45: Íººö /ºð òºëáºð/
A46: 2.1.1.10 | B46: Áóñàä áîãèíî õóãàöààò ºð òºëáºð | C46: 0 | D46: 0
A47: 2.1.1.11 | B47: Áîðëóóëàõ çîðèëãîîð ýçýìøèæ áóé ýðãýëèéí áóñ õºðºíãº (бîðëóóëàõ á¿ëýã õºðºíãº )-íä õàìààðàõ өр òºëáºð
A48: 2.1.1.12
A49: 2.1.1.13 | B49: Áîãèíî õóãàöààò ºð òºëáºðèéí ä¿í | C49: =SUM(C37:C48) -> 3.8868623e+08 | D49: =+D37+D38+D39+D40+D41+D42+D43+D44+D45+D46+D47+D48 -> 4.3178916e+08
A50: 2.1.2 | B50: Óðò õóãàöààò ºð òºëáºð
A51: 2.1.2.1 | B51: Óðò õóãàöààò çýýë
A52: 2.1.2.2 | B52: Íººö /ºð òºëáºð/
A53: 2.1.2.3 | B53: Õîéøëîãäñîí òàòâàðûí ºð
A54: 2.1.2.4 | B54: Áóñàä óðò õóãàöààò ºр òºëáºð
A55: 2.1.2.5
A56: 2.1.2.6 | B56: Óðò õóãàöààò ºð òºëáºðèéí ä¿í | C56: =SUM(C51:C55) -> 0 | D56: =SUM(D51:D55) -> 0
A57: 2.2 | B57: ªð òºëáºðèéí íèéò ä¿í | C57: =+C56+C49 -> 3.8868623e+08 | D57: =+D56+D49 -> 4.3178916e+08
A58: 2.3 | B58: Ýçдèéí ºì÷
A59: 2.3.1 | B59: ªì÷: -òºðèéí
A60: 2.3.2 | B60: - õóâèéí | C60: 5400000100 | D60: 5400000100
A61: 2.3.3 | B61: - õóâüöààò
A62: 2.3.4 | B62: Õàëààñíû õóâüöàà
A63: 2.3.5 | B63: Íýìæ òºëºãäñºí êàïèòàë | C63: 509998500 | D63: 509998500
A64: 2.3.6 | B64: Õºðºíãèéí äàõèí ¿íýëãýýíèé íýìýãäýë
A65: 2.3.7 | B65: Ãàäààä âàëþòûí õºðâ¿¿ëýëòèéí íººö
A66: 2.3.8 | B66: Ýçäèéí ºì÷èéí áóñàä õýñýã | C66: 138023400 | D66: 138023400
A67: 2.3.9 | B67: Õóðèìòëàãäñàí àøèã | C67: -1.0571253e+09 | D67: -1.1002289e+09
A68: 2.3.10
A69: 2.3.11 | B69: Ýçäèéí ºì÷èéí ä¿í | C69: =SUM(C59:C68) -> 4.9908967e+09 | D69: =SUM(D59:D68) -> 4.9477931e+09
A70: 2.4 | B70: ªÐ ÒªËÁªÐ ÁÀ ÝÇÄÈÉÍ ªÌ× | C70: =+C69+C57 -> 5.379583e+09 | D70: =+D69+D57 -> 5.3795823e+09
C71: =+C70-C33 -> 0 | D71: =+D70-D33 -> 0
B73: Çàõèðàë __________________________________/ /
B75: Ерөнхий нÿãòëàí áîäîã÷ ____________________________/............................../

Sheet orlogo
A1: ОРЛОГЫН ДЭЛГЭРЭНГҮЙ ТАЙЛАН
C2: =+blanc!C3 -> 2025 îíû 12 ñàðûí 31 ºäºð
A3: =+blanc!A3 -> "Монгол шилтгээн" ХК
A4: (Àæ àõóéí íýãæèéí íýð)
A6: Ìºðèéí äóãààð | B6: ¯Ç¯¯ËÝËÒ | D6: Өмнөх оны дүн | E6: Òàéëàíò үеийн ä¿í
A8: 1 | B8: Áîðëóóëàëòûí îðëîãî (öýâýð) | D8: 54581818 | E8: 48680909
A9: 2 | B9: Áîðëóóëàëòûí ºðòºã
A10: 3 | B10: Íèéò àøèã (àëäàãäàë) | D10: =+D8-D9 -> 54581818 | E10: =+E8-E9 -> 48680909
A11: 4 | B11: Ò¿ðýýñèéí îðëîãî
A12: 5 | B12: Õ¿¿ний îðëîãî
A13: 6 | B13: Íîãäîë àøãèéí îðëîãî
A14: 7 | B14: Ýðõèéí øèìòãýëèéí îðëîãî
A15: 8 | B15: Áóñàä îðëîãî
A16: 9 | B16: Áîðëóóëàëò, ìàðêåòèíãèéí çàðäàë
A17: 10 | B17: Ерөнхий ба удирдлагын зардал | D17: 1.169486e+08 | E17: 91092455
A18: 11 | B18: Ñàíõ¿¿ãèéí çàðäàë
A19: 12 | B19: Áóñàä çàðäàë
A20: 13 | B20: Ãàäààä âàëþòûí õàíøûí çºð¿¿íèé îëç (ãàðç)
A21: 14 | B21: ¯íäñýí õºðºíãº äàíñíààñ õàññàíû îëç (ãàðç)
A22: 15 | B22: Áèåò áóñ õºðºíãº äàíñíààñ õàññàíû îëç (ãàðç)
A23: 16 | B23: Õºðºíãº îðóóóëàëò áîðëóóëñíаас ¿¿ññýí îëç (ãàðç)
A24: 17 | B24: Áóñàä àøèã (àëäàãäàë) | E24: 692037.92
A25: 18 | B25: Òàòâàð òºëºõèéí ºìíºõ àøèã (àëäàãäàë) | D25: =+D10-D16-D17-D18-D19+D20+D12+D15 -> -62366778 | E25: =+E10-E16-E17-E18-E19+E20+E12+E15-E23-E24 -> -43103583
A26: 19 | B26: Îðëîãûí òàòâàðûí çàðäàë | D26: 0 | E26: 0
A27: 20 | B27: Òàòâàðûí äàðààõ àøèã (àëäàãäàë) | D27: =+D25-D26 -> -62366778 | E27: =+E25-E26 -> -43103583
A28: 21 | B28: Çîãñîîñîí ¿éë àæèëëàãààíû òàòâàðûí äàðààõ àøèã (àëäàãäàë)
A29: 22 | B29: Òàéëàíò ¿åèéí öýâэð àøèã (àëäàãäàë) | D29: =+D27-D28 -> -62366778 | E29: =+E27 -> -43103583
A30: 23 | B30: Áóñàä äýëãýðýíã¿é îðëîãî | E30: =E31+E32+E33 -> 0
A31: 23.1 | B31: Õºðºíãèéí äàõèí ¿íýëãýýíèé нэмэгдэлийн çºð¿¿
A32: 23.2 | B32: Ãàäààä âàëþòûí õºðâ¿¿ëýëòèéí çºð¿¿
A33: 23.3 | B33: Áóñàä îëç (ãàðç)
A34: 24 | B34: Îðëîãûí íèéò ä¿í | D34: =+D29-D30-D31-D32-D33 -> -62366778 | E34: =+E29+E30 -> -43103583
A35: 25 | B35: Íýãæ õóâüöààíä ногдох ñóóðü àøèã (àëäàãäàë)
B38: =+blanc!B73 -> Çàõèðàë __________________________________/ /
B40: =+blanc!B75 -> Ерөнхий нÿãòëàí áîäîã÷ ____________________________/............................../

Sheet uu
A3: ªÌ×ÈÉÍ ªªÐ×ËªËÒÈÉÍ ÒÀÉËÀÍ
A4: =+orlogo!A3 -> "Монгол шилтгээн" ХК | E4: =+orlogo!C2 -> 2025 îíû 12 ñàðûí 31 ºäºð
A5: (Àæ àõóéí íýãæèéí íýð)
A7: ¹ | B7: ¯Ç¯¯ËÝËÒ | C7: ªì÷ | D7: Халаасны хувьцаа | E7: Нýìæ òºëºãäñºí êàïèòàë | F7: Õºðºíãèéí дàõèí ¿íýëãýýíèé íýìýãäýë | G7: Ãàäààä âàëþòûí õºðв¿¿ëýëòèéí íººö | H7: Ýçäèéí ºì÷èéí áóñàä õýñýã | I7: Õóðèìòëàãäñàí àøèã | J7: Íèéò д¿í
A8: 1 | B8: 2025 îíû 01-ð ñàðûí 01 -íèé ¿ëäýãäýë | C8: =+blanc!C59+blanc!C60 -> 5400000100 | E8: =+blanc!C63 -> 509998500 | H8: =+blanc!C66 -> 138023400 | I8: =+blanc!C67 -> -1.0571253e+09 | J8: =SUM(C8:I8) -> 4.9908967e+09
A9: =+A8+1 -> 2 | B9: Íÿãòëàí áîäîõ б¿ðòãýëèéí áîäëîãûí ººð÷ëºëòèéí íºëºº, àëäààíû çàëðóóëãà | J9: =SUM(C9:I9) -> 0
A10: =+A9+1 -> 3 | B10: Çàëðóóëñàí ¿ëäýãäýë | J10: =SUM(C10:I10) -> 0
A11: =+A10+1 -> 4 | B11: Òàéëàíò ¿åèéí öýâýð àøèã (алдагдал) | I11: =+orlogo!E27 -> -43103583 | J11: =SUM(C11:I11) -> -43103583
A12: =+A11+1 -> 5 | B12: Áóñàä äýëãýðýíã¿é îðëîãî | J12: =SUM(C12:I12) -> 0
A13: =+A12+1 -> 6 | B13: ªì÷èä ãàðñàí ººð÷ëºëò | J13: =SUM(C13:I13) -> 0
A14: =+A13+1 -> 7 | B14: Зарласан ногдол ашиг | J14: =SUM(C14:I14) -> 0
A15: =+A14+1 -> 8 | B15: Äàõèí ¿íýëãýýíèé íýìýãäëèéí õýðýãæñýí ä¿í | J15: =SUM(C15:I15) -> 0
A16: =+A15+1 -> 9 | B16: 2025 îíû 12-ð ñàðûí 31-íèé ¿ëäýãäýë | C16: =SUM(C8:C15) -> 5400000100 | D16: =SUM(D8:D15) -> 0 | E16: =SUM(E8:E15) -> 509998500 | F16: =SUM(F8:F15) -> 0 | G16: =SUM(G8:G15) -> 0 | H16: =SUM(H8:H15) -> 138023400 | I16: =SUM(I8:I15) -> -1.1002289e+09 | J16: =SUM(C16:I16) -> 4.9477931e+09
C19: =+orlogo!B38 -> Çàõèðàë __________________________________/ /
A21: Ерөнхий нягтлан бодогч /......................../

Sheet MG
A2: МӨНГӨН ГҮЙЛГЭЭНИЙ ТАЙЛАН
A3: =+blanc!A3 -> "Монгол шилтгээн" ХК | E3: =+uu!E4 -> 2025 îíû 12 ñàðûí 31 ºäºð
A4: (Àæ àõóéí íýãæèéí íýð)
A6: Ìºðèéí äóãààð | B6: ¯Ç¯¯ËÝËÒ | D6: Өмнөх жилийн ä¿í | E6: Òàéëàíò үеийн ä¿í
A7: 1 | B7: ¯íäñýí ¿éë àæèëëàãààíû ìºíãºí ã¿éëãýý
A8: 1.1 | B8: Ìºíãºí îðëîãèéí ä¿í (+) | D8: =D9+D14 -> 60040000 | E8: =SUM(E9:E14) -> 53549000
A9: 1.1.1 | C9: Áàðàà áîðëóóëñàíû, ¿éë÷èëãýý ¿ç¿¿ëñíèé îðëîãî | D9: 60040000 | E9: 53549000
A10: 1.1.2 | C10: Ýðõèéí øèìòãýë, õóðààìæ, òºëáºðèéí îðëîãî
A11: 1.1.3 | C11: Даатгалын нөхвөрөөс хүлээн авсан мөнгө
A12: 1.1.4 | C12: Áóöààí àâñàí àëáàí òàòâàð
A13: 1.1.5 | C13: Òàòààñ, ñàíõ¿¿æèëòèéí îðëîãî
A14: 1.1.6 | C14: Áóñàä ìºíãºí îðëîãî
A15: 1.2 | B15: Ìºíãºí çàðëàãûí ä¿í (-) | D15: =SUM(D16:D24) -> 1.2357874e+08 | E15: =SUM(E16:E24) -> 96634430
A16: 1.2.1 | C16: Àæèëëàã÷äàä òºëñºí | D16: 16264766 | E16: 13731966
A17: 1.2.2 | C17: Íèéãìèéí äààòãàëûí áàéãóóëëàãàä òºëñºí | D17: 978230.73 | E17: 4163759.4
A18: 1.2.3 | C18: Áàðàà ìàòåðèàë õóäàëäàí àâàõàä òºëñºí | D18: 2885616.4 | E18: 5028550
A19: 1.2.4 | C19: Àøèãëàëòûí çàðäàëä òºëñºí | D19: 11244444 | E19: 13264781
A20: 1.2.5 | C20: Ò¿ëø øàòàõóóí, òýýâðèéí õºëñ, ñýëáýã õýðýãñýëä òºëñºí | D20: 7755000 | E20: 5517704
A21: 1.2.6 | C21: Õ¿¿íèé òºëáºðò òºëñºí
A22: 1.2.7 | C22: Òàòâàðûí áàéãóóëëàãàä òºëñºí | D22: 24097849 | E22: =838248+1935980+391272.73 -> 3165500.7
A23: 1.2.8 | C23: Даатгалын төлбөрт төлсөн
A24: 1.2.9 | C24: Бусад ìºíãºí çàðëàãà | D24: 60352832 | E24: 51762169
A25: 1.3 | B25: ¯íäñýí ¿éë àæèëëàãààíû öýâýð ìºíãºí ã¿éëãýýíèé ä¿í | D25: =+D8-D15 -> -63538738 | E25: =+E8-E15 -> -43085430
A26: 2 | B26: Õºðºíãº îðóóëàëòûí àæèëëàãààíû ìºíãºí ã¿éëãýý | D26: =SUM(D27:D31) -> 0
A27: 2.1 | B27: Ìºíãºí îðëîãèéí ä¿í (+) | D27: =SUM(D28:D35) -> 0 | E27: =SUM(E28:E35) -> 0
A28: 2.1.1 | C28: ¯íäñýí õºðºíãº áîðëóóëñíû îðëîãî
A29: 2.1.2 | C29: Áèåò áóñ õºðºíãº áîðëóóëñíû îðëîãî
A30: 2.1.3 | C30: Õºðºíãº îðóóëàëò áîðëóóëñíû îðëîãî
A31: 2.1.4 | C31: Áóñàä óðò õóãàöààò õºðºíãº áîðëóóëñíû îðëîãî
A32: 2.1.5 | C32: Áóñäàä îëãîñîí çýýë, ìºíãºí óðüä÷èëãààíû áóöààí òºëºëò
A33: 2.1.6 | C33: Õ¿ëýýí àâñàí õ¿үíèé îðëîãî
A34: 2.1.7 | C34: Õ¿ëýýí àâñàí íîãäîë àøèã
A35: 2.1.8
A36: 2.2 | C36: Ìºíãºí çàðëàãûí ä¿í (-) | D36: =SUM(D37:D42) -> 0 | E36: =SUM(E37:E42) -> 0
A37: 2.2.1 | C37: ¯íäñýí õºðºíãº îëæ ýçýìøèõýä òºëñºí
A38: 2.2.2 | C38: Áèåò áóñ õºðºíãº îëæ ýçýìøèõýä òºëñºí
A39: 2.2.3 | C39: Õºðºíãº îðóóëàëò îëæ ýçýìøèõýä òºëñºí
A40: 2.2.4 | C40: Áóñàä óðò õóãàöààò хөрөнгө îëæ ýçýìøèõýä òºëñºí
A41: 2.2.5 | C41: Áóñäàä îëãîñîí çýýë áîëîí óðüä÷èëãàà
A42: 2.2.6
A43: 2.3 | B43: Õºðºíãº îðóóëàëòûí ¿éë àæèëëàãààíû öýâýð ìºíãºí гүйлгээний ä¿í | D43: =+D27-D36 -> 0 | E43: =+E27-E36 -> 0
A44: 3 | B44: Ñàíõ¿¿гийн ¿éë àæèëëàãààíû мºíãºí гүйлгээ
A45: 3.1 | B45: Ìºíãºí îðëîãèéí ä¿í (+) | D45: =SUM(D46:D49) -> 64278000 | E45: =SUM(E46:E49) -> 43084777
A46: 3.1.1 | B46: Çýýë àâñàí, ºðèéí ¿íýò öààñ ãàðãàñíààñ õ¿ëýýí àâñàí | D46: 64278000 | E46: 43084777
A47: 3.1.2 | B47: Õóâüöàà áîëîí өмчийн áóñàä ¿íýò öààñ ãàðãàñíààñ õ¿ëýýí àâñàí
A48: 3.1.3 | B48: Òºðºë á¿ðèéí õàíäèâ
A49: 3.1.4
A50: 3.2 | B50: Ìºíãºí çàðëàãûí ä¿í (-) | D50: =SUM(D51:D55) -> 0 | E50: =SUM(E51:E55) -> 0
A51: 3.2.1 | C51: Çýýë àâñàí, ºðèéí ¿íýò öààñíû òºëáºðò òºëñºí ìºíãº
A52: 3.2.2 | C52: Ñàíõ¿¿ãèéí ò¿ðýýñèéí ºãëºãò òºëñºí
A53: 3.2.3 | C53: Õóâüöàà áóöààí õóäàëäàæ àâàõàä òºëñºí
A54: 3.2.4 | C54: Òºëñºí íîãäîë àøèã
A55: 3.2.5 | C55: бусад
A56: 3.3 | B56: Ñàíõ¿¿ãèéí ¿éë àæèëëàãààíû öýâýð ìºíãºí ã¿éëãýýíèé ä¿í | D56: =+D45-D50 -> 64278000 | E56: =+E45-E50 -> 43084777
A57: 4 | B57: Á¿õ öýâýð ìºíãºí ã¿éëãýý | D57: =+D25+D43+D56 -> 739262.15 | E57: =+E25+E43+E56 -> -653.6
A58: 5 | B58: Ìºíãº, ò¿¿íòýé àäèëòãàõ õºðºíãèéí ýõíèé ¿ëäýãäýë | D58: =18228482.8+28179.02 -> 18256662 | E58: =+blanc!C11 -> 18995924
A59: 6 | B59: Ìºíãº, ò¿¿íòýé àäèëòãàõ õºðºíãèéí ýöñèéí ¿ëäýãäýë | D59: =+blanc!C11 -> 18995924 | E59: =+blanc!D11 -> 18995270
D60: =+D57+D58-D59 -> 0 | E60: =+E57+E58-E59 -> 0
C61: =+blanc!B73 -> Çàõèðàë __________________________________/ /
C63: Ерөнхий нягтлан бодогч…………………………………………./……………./
