Workbook

Sheet BS
A1: Байгууллагын нэр: | B1: " БиДиСек ҮЦК " ХК
A2: Тайлант үе: | B2: [2026/06/30]
A3: Санхүүгийн байдлын тайлан | C3: /төгрөг/
A4: Үзүүлэлт | B4: 12 -р сарын 31 | C4: 06 -р сарын 30
A5: ХӨРӨНГӨ | B5: =+B6+B43 -> 5.484099e+10 | C5: =+C6+C43 -> 5.8336891e+10
A6: Эргэлтийн хөрөнгө | B6: =B7+B15+B18+B22+B29+B36+B37+B41+B42 -> 5.0537696e+10 | C6: =C7+C15+C18+C22+C29+C36+C37+C41+C42 -> 4.915357e+10
A7: Мөнгө, түүнтэй адилтгах хөрөнгө | B7: =B8+B11+B14 -> 7.0722885e+09 | C7: =C8+C11+C14 -> 3.5179723e+09 | D7: =IF((ROUND(C7,2)-ROUND(CS!C56,2))=0," ","C7 дүн нь Мөнгөн гүйлгээний тайлангийн C56 дүнтэй зөрж байна")
A8: Касс дахь мөнгө | B8: =SUM(B9:B10) -> 2.5879343e+09 | C8: =SUM(C9:C10) -> 1293410.2
A9: Төгрөгөөр | B9: 2.5879343e+09 | C9: 1293410.2
A10: Валютаар | B10: 0 | C10: 0
A11: Банкин дахь мөнгө | B11: =SUM(B12:B13) -> 4.4843542e+09 | C11: =SUM(C12:C13) -> 3.5166789e+09
A12: Төгрөгөөр | B12: =7072288539.02-B9 -> 4.4843542e+09 | C12: 3.5166789e+09
A13: Валютаар | B13: 0 | C13: 0
A14: Мөнгөтэй адилтгах хөрөнгө | B14: 0 | C14: 0
A15: Дансны авлага /цэврээр/ | B15: =SUM(B16:B17) -> 3.1237678e+09 | C15: =SUM(C16:C17) -> 9.467225e+09
A16: Дансны авлага | B16: 3.1237678e+09 | C16: 9.467225e+09
A17: Найдваргүй авлагын хасагдуулга | B17: 0 | C17: 0
A18: Татвар, НДШ-ийн авлага | B18: =SUM(B19:B21) -> 0 | C18: =SUM(C19:C21) -> 2855212.6
A19: ААНОАТ-ын авлага | B19: 0 | C19: 0
A20: НӨАТ-ын авлага | B20: 0 | C20: 0
A21: НДШ-ийн авлага | B21: 0 | C21: 2855212.6
A22: Бусад авлага | B22: =SUM(B23:B28) -> 6.0989361e+08 | C22: =SUM(C23:C28) -> 8.4192281e+08
A23: Холбоотой талаас авах авлага | B23: =436199254.46-175806673.8 -> 2.6039258e+08 | C23: 8.4192281e+08
A24: Ажиллагчдаас авах авлага | B24: 3.480758e+08 | C24: 0
A25: Ногдол ашгийн авлага | B25: 0 | C25: 0
A26: Хүүний авлага | B26: 0 | C26: 0
A27: Богино хугацаат авлагын бичиг | B27: 0 | C27: 0
A28: Бусад талуудаас авах авлага | B28: =[1]Sheet!$N$107 -> 1425224.7 | C28: 0
A29: Санхүүгийн хөрөнгө | B29: =SUM(B30:B35) -> 3.9731357e+10 | C29: =SUM(C30:C35) -> 3.532307e+10
A30: Арилжааны үнэт цаас | B30: =31501175813.41+7626180758.71 -> 3.9127357e+10 | C30: 3.456597e+10
A31: Хугацааны эцэс хүртэл эзэмших үнэт цаас | B31: 0 | C31: 0
A32: Зээл ба авлага гэж ангилсан үнэт цаас | B32: 0 | C32: 0
A33: Борлуулахад бэлэн үнэт цаас | B33: 604000000 | C33: 757100000
A34: Хараат болон охин компанид оруулсан хөрөнгө оруулалт | B34: 0 | C34: 0
A35: Дериватив | B35: 0 | C35: 0
A36: Бараа материал | B36: 0 | C36: 0
A37: Урьдчилж төлсөн зардал/тооцоо | B37: =SUM(B38:B40) -> 389867.8 | C37: =SUM(C38:C40) -> 525374.34
A38: Урьдчилж төлсөн зардал | B38: 389867.8 | C38: 525374.34
A39: Урьдчилж төлсөн түрээс, даатгал | B39: 0 | C39: 0
A40: Бэлтгэн нийлүүлэгчдэд төлсөн урьдчилгаа төлбөр | B40: 0 | C40: 0
A41: Бусад эргэлтийн хөрөнгө | B41: 0 | C41: 0
A42: Борлуулах зорилгоор эзэмшиж буй эргэлтийн бус хөрөнгө (борлуулах бүлэг хөрөнгө) | B42: 0 | C42: 0
A43: Эргэлтийн бус хөрөнгө | B43: =B44+B54+B64+B65+B66+B67 -> 4.3032939e+09 | C43: =C44+C54+C64+C65+C66+C67 -> 9.1833203e+09
A44: Үндсэн хөрөнгө /цэврээр/ | B44: =B45+B53 -> 4.2993407e+09 | C44: =C45+C53 -> 9.1784726e+09
A45: Үндсэн хөрөнгө | B45: =SUM(B46:B52) -> 6.8044142e+09 | C45: =SUM(C46:C52) -> 1.1787299e+10
A46: Газрын сайжруулалт | B46: =[1]Sheet!$N$121 -> 27900000 | C46: 1743462000
A47: Барилга, байгууламж | B47: =[1]Sheet!$N$122 -> 5.7263961e+09 | C47: 8998578000
A48: Машин, тоног төхөөрөмж | B48: =[1]Sheet!$N$123 -> 549627840 | C48: =[1]Sheet!$N$123 -> 549627840
A49: Тээврийн хэрэгсэл | B49: 2.7488642e+08 | C49: 2.7002762e+08
A50: Тавилга эд хогшил | B50: 40262270 | C50: 40262270
A51: Комьпютер, бусад хэрэгсэл | B51: =[1]Sheet!$N$126 -> 47379679 | C51: =[1]Sheet!$N$126 -> 47379679
A52: Бусад үндсэн хөрөнгө | B52: =[1]Sheet!$N$127 -> 1.3796188e+08 | C52: =[1]Sheet!$N$127 -> 1.3796188e+08
A53: Хуримтлагдсан элэгдэл (-) | B53: =-2565828402.99+60754902.63 -> -2.5050735e+09 | C53: =-2608826693.36 -> -2.6088267e+09
A54: Биет бус хөрөнгө /цэврээр/ | B54: =B55+B63 -> 3953210.8 | C54: =C55+C63 -> 4847715.3
A55: Биет бус хөрөнгө | B55: =SUM(B56:B62) -> 35768417 | C55: =SUM(C56:C62) -> 55883318
A56: Зохиогчийн эрх | B56: 0 | C56: 0
A57: Комьпютерийн програм хангамж | B57: 35768417 | C57: 55883318
A58: Патент | B58: 0 | C58: 0
A59: Барааны тэмдэг | B59: 0 | C59: 0
A60: Тусгай зөвшөөрөл | B60: 0 | C60: 0
A61: Газар эзэмших эрх | B61: 0 | C61: 0
A62: Бусад биет бус хөрөнгө | B62: 0 | C62: 0
A63: Хуримтлагдсан элэгдэл (-) | B63: =-26477994.6-5337211.44 -> -31815206 | C63: -51035603
A64: Дуусаагүй барилга | B64: 0 | C64: 0
A65: Урт хугацаат хөрөнгө оруулалт | B65: 0 | C65: 0
A66: Хойшлогдсон татварын хөрөнгө | B66: 0 | C66: 0
A67: Хөрөнгө оруулалтын зориулалттай үл хөдлөх хөрөнгө | B67: 0 | C67: 0
A68: ӨР ТӨЛБӨР БА ЭЗДИЙН ӨМЧ | B68: =B69+B99 -> 5.484099e+10 | C68: =C69+C99 -> 5.8336891e+10 | D68: =IF((ROUND(B5,2)-ROUND(B68,2))=0," ","B5-н дүн нь B68-н дүнтэй зөрж байна") | E68: =IF((ROUND(C5,2)-ROUND(C68,2))=0," ","C5-н дүн нь C68-н дүнтэй зөрж байна")
A69: Өр төлбөр | B69: =B70+B91 -> 2.5383145e+10 | C69: =C70+C91 -> 2.2020737e+10
A70: Богино хугацаат өр төлбөр | B70: =B71+B74+B75+B81+B82+B85+B86+B87+B88+B89+B90 -> 7.2555138e+09 | C70: =C71+C74+C75+C81+C82+C85+C86+C87+C88+C89+C90 -> 1.0050706e+10
A71: Дансны өглөг | B71: =SUM(B72:B73) -> 3.9500091e+08 | C71: =SUM(C72:C73) -> 6.7707124e+09
A72: Төлөгдөх хугацаандаа байгаа | B72: 3.9500091e+08 | C72: 6.7707124e+09
A73: Хугацаа хэтэрсэн | B73: 0 | C73: 0
A74: Цалингийн өглөг | B74: 0 | C74: 0
A75: Татварын өр | B75: =SUM(B76:B80) -> 2.8525375e+08 | C75: =SUM(C76:C80) -> 2.8187092e+08
A76: ААНОАТ өр | B76: 2.5126072e+08 | C76: 2.3862518e+08
A77: НӨАТ-ын өр | B77: 0 | C77: 0
A78: ХХОАТ-ын өр | B78: 33993031 | C78: 43245735
A79: ОАТ-ын өр | B79: 0 | C79: 0
A80: Бусад татварын өр | B80: 0 | C80: 0
A81: НДШ-ийн өглөг | B81: 44332652 | C81: 0
A82: Богино хугацаат зээл | B82: =SUM(B83:B84) -> 2.4787622e+09 | C82: =SUM(C83:C84) -> 21236797
A83: Төлөгдөх хугацаандаа байгаа | B83: 2.4787622e+09 | C83: 21236797
A84: Хугацаа хэтэрсэн | B84: 0 | C84: 0
A85: Хүүний өглөг | B85: 497374850 | C85: 29839973
A86: Ногдол ашгийн өглөг | B86: 57374539 | C86: 0
A87: Урьдчилж орсон орлого
A88: Нөөц (өр төлбөр) | B88: 41084649 | C88: 41084649
A89: Бусад богино хугацаат өр төлбөр | B89: 3.4563302e+09 | C89: 2.9059615e+09
A90: Борлуулах зорилгоор эзэмшиж буй эргэлтийн бус хөрөнгө (борлуулах бүлэг хөрөнгө)-нд хамаарах өр төлбөр | B90: 0 | C90: 0
A91: Урт хугацаат өр төлбөр | B91: =B92+B96+B97+B98 -> 1.8127631e+10 | C91: =C92+C96+C97+C98 -> 1.1970031e+10
A92: Урт хугацаат зээл | B92: =SUM(B93:B95) -> 1.8125096e+10 | C92: =SUM(C93:C95) -> 1.1967496e+10
A93: Гадаадын байгууллагаас шууд авсан зээл
A94: Гадаадын байгууллагаас дамжуулан авсан зээл | B94: 0 | C94: 0
A95: Дотоодын эх үүсвэрээс авсан зээл | B95: 1.8125096e+10 | C95: 1.1967496e+10
A96: Нөөц (өр төлбөр) | B96: 0 | C96: 0
A97: Хойшлогдсон татварын өр | B97: 0 | C97: 0
A98: Бусад урт хугацаат өр төлбөр (гадаад, дотоодын зах зээлд гаргасан бонд, өрийн бичиг) | B98: =[1]Sheet!$N$189 -> 2535395.8 | C98: =[1]Sheet!$N$189 -> 2535395.8
A99: Эздийн өмч | B99: =B100+B104+B105+B107+B110+B114+B115+B106 -> 2.9457846e+10 | C99: =C100+C104+C105+C107+C110+C114+C115+C106 -> 3.6316154e+10 | D99: =IF((ROUND(CA!J12,2)-ROUND(B99,2))=0," ","B99 дүн нь Өмчийн өөрчлөлтийн тайлангийн J12 дүнтэй зөрж байна") | E99: =IF((ROUND(CA!J20,2)-ROUND(C99,2))=0," ","C99 дүн нь Өмчийн өөрчлөлтийн тайлангийн J20 дүнтэй зөрж байна")
A100: Өмч | B100: =SUM(B101:B103) -> 9.3267631e+09 | C100: =SUM(C101:C103) -> 9.3267631e+09 | D100: =IF((ROUND(CA!B12,2)-ROUND(B100,2))=0," ","B100 дүн нь Өмчийн өөрчлөлтийн тайлангийн B12 дүнтэй зөрж байна") | E100: =IF((ROUND(CA!B20,2)-ROUND(C100,2))=0," ","C100 дүн нь Өмчийн өөрчлөлтийн тайлангийн B20 дүнтэй зөрж байна")
...

Sheet IS
A2: Орлогын дэлгэрэнгүй тайлан
A3: Үзүүлэлт | B3: Өмнөх оны дүн | C3: Тайлант оны дүн
A4: Үйл ажиллагааны орлого | B4: =SUM(B5:B11) -> 1.5026139e+10 | C4: =SUM(C5:C11) -> 2.9286912e+09
A5: Брокерын үйл ажиллагааны орлого | B5: 1.4286753e+09 | C5: 2.7224801e+08
A6: Дилерийн үйл ажиллагааны орлого | B6: 0 | C6: 0
A7: Андеррайтерийн үйл ажиллагааны орлого | B7: 651000000 | C7: 167500000
A8: Хөрөнгө оруулалтын зөвлөхийн үйл ажиллагааны орлого | B8: 0 | C8: 49000000
A9: Үнэт цаасны арилжааны цэвэр орлого | B9: 6.9678442e+09 | C9: 9.5051011e+08
A10: Бусад үйл ажиллагааны орлого | B10: 0 | C10: 0
A11: Үнэт цаасны үнэлгээний тэгшитгэлийн цэвэр орлого | B11: 5978619401 | C11: 1.4894331e+09
A12: Түрээсийн орлого | B12: 0 | C12: 0
A13: Хүүний орлого | B13: 7.5160906e+08 | C13: 4.6882514e+08
A14: Ногдол ашгийн орлого | B14: =SUM(B15:B16) -> 1.0950142e+09 | C14: =SUM(C15:C16) -> 9.4232399e+08
A15: Хувьцааны ногдол ашиг | B15: 1.0950142e+09 | C15: 9.4232399e+08
A16: Хараат болон хамтарсан компаниас олсон ашиг | B16: 0 | C16: 0
A17: Эрхийн шимтгэлийн орлого | B17: 0 | C17: 0
A18: Бусад орлого | B18: 8.6673443e+08 | C18: 6.8778539e+08
A19: Борлуулалт маркетингийн болон ерөнхий ба удирдлагын зардал | B19: =SUM(B30:B46)+B20+B23+B24 -> 5.1257215e+09 | C19: =SUM(C30:C46)+C20+C23+C24 -> 2.0558869e+09
A20: Ажиллагчдын цалингийн зардал | B20: =SUM(B21:B22) -> 2.0328868e+09 | C20: =SUM(C21:C22) -> 1.0116692e+09
A21: Удирдлагын цалингийн зардал | B21: 353938000 | C21: 9.9452925e+08
A22: Бусад ажиллагчдын зардал | B22: 1.6789488e+09 | C22: =[2]Sheet!$J$34 -> 17139900
A23: Аж ахуйн нэгжээс төлсөн НДШ, ЭМД-ын зардал | B23: 2.2884666e+08 | C23: 1.2760203e+08
A24: Албан татвар, төлбөр, хураамжийн зардал | B24: =SUM(B25:B29) -> 1.5519927e+09 | C24: =SUM(C25:C29) -> 3.4612931e+08
A25: Зохицуулалтын үйлчилгээний хөлс | B25: 20553519 | C25: =[2]Sheet!$J$50+40000000 -> 40256045
A26: Гишүүнчлэлийн хураамж | B26: 14809101 | C26: =11300998.97+[2]Sheet!$J$13 -> 19861729
A27: Арилжааны шимтгэл /МХБ/ | B27: 78237710 | C27: =60461281.08+[2]Sheet!$J$11-22437912.1100011-40000000 -> 44655888
A28: Арилжааны шимтгэл /ҮЦТТТХТ/ | B28: 31307795 | C28: =21420893.17+[2]Sheet!$J$12 -> 29663079
A29: Бусад | B29: =100444201.14+1306640325.3 -> 1.4070845e+09 | C29: =8362220+[2]Sheet!$O$43 -> 2.1169257e+08
A30: Томилолтын зардал | B30: 2.5388931e+08 | C30: 54405989
A31: Бичиг хэргийн зардал | B31: 39153848 | C31: 11749384
A32: Шуудан холбооны зардал | B32: 76169403 | C32: =1014019+[2]Sheet!$J$31+[2]Sheet!$J$21 -> 19928081
A33: Мэргэжлийн үйлчилгээний зардал | B33: 2.3808881e+08 | C33: 158030750
A34: Сургалтын зардал | B34: 46965533 | C34: 21670892
A35: Сонин сэтгүүл захиалгын зардал | B35: 1319950 | C35: 10312519
A36: Даатгалын зардал | B36: 5827330 | C36: 5328236
A37: Ашиглалтын зардал | B37: 27930
A38: Засварын зардал | B38: 54149190 | C38: 42949650
A39: Элэгдэл, хорогдлын зардал | B39: 1.7610959e+08 | C39: 1.0408375e+08
A40: Түрээсийн зардал | B40: 38385480 | C40: 24289325
A41: Харуул хамгааллын зардал | B41: 9194830 | C41: 39645771
A42: Цэвэрлэгээ үйлчилгээний зардал | B42: 1.2054125e+08 | C42: 225000
A43: Тээврийн зардал | B43: 1402977 | C43: 1855830
A44: Шатахууны зардал | B44: 39765324 | C44: 8733792
A45: Хүлээн авалтын зардал | B45: 182419250 | C45: =61672175+[2]Sheet!$J$57 -> 62708025
A46: Зар сурталчилгааны зардал | B46: 28585399 | C46: 4569418
A47: Санхүүгийн зардал | B47: =SUM(B48:B49) -> 2.0131006e+09 | C47: =SUM(C48:C49) -> 1.0588617e+09
A48: Зээлийн хүүгийн зардал | B48: 2.0131006e+09 | C48: 1.0577289e+09
A49: Бусад санхүүгийн зардал | B49: 0 | C49: 1132817.8
A50: Бусад зардал | B50: =SUM(B51:B53) -> 26587829 | C50: =SUM(C51:C53) -> 8404302.7
A51: Алданги, торгуулийн зардал | B51: 20000000 | C51: 0
A52: Хандивын зардал | B52: 6000000 | C52: 2000000
A53: Найдваргүй авлагын зардал | B53: 587828.62 | C53: 6404302.7
A54: Гадаад валютын ханшийн зөрүүний олз (гарз) | B54: =SUM(B55:B58) -> -8.2850647e+08 | C54: =SUM(C55:C58) -> -1.1979716e+08
A55: Мөнгөн хөрөнгийн үлдэгдэлд хийсэн ханшийн тэгшитгэлийн ханшийн зөрүү
A56: Эргэлтийн авлага, өр төлбөртэй холбоотой үүссэн ханшийн зөрүү
A57: Эргэлтийн бус авлага, өр төлбөртэй холбоотой үүссэн ханшийн зөрүү
A58: Валютын арилжаанаас үүссэн олз/гарз | B58: -8.2850647e+08 | C58: -1.1979716e+08
A59: Үндсэн хөрөнгө данснаас хассаны олз (гарз)
A60: Биет бус хөрөнгө данснаас хассаны олз (гарз) | B60: 0 | C60: 0
A61: Бусад ашиг (алдагдал) | B61: =SUM(B62:B66) -> 0 | C61: =SUM(C62:C66) -> 0
A62: Хөрөнгийн үнэ цэнийн бууралтын гарз | B62: 0 | C62: 0
A63: ХОЗҮХХ-ийн бодит үнэ цэнийн өөрчлөлтийн олз (гарз) | B63: 0
A64: ХОЗҮХХ данснаас хассаны олз (гарз) | B64: 0 | C64: 0
A65: Хөрөнгийн дахин үнэлгээний олз (гарз) | B65: 0 | C65: 0
A66: Хөрөнгийн үнэ цэнийн бууралтын гарз (гарзын буцаалт) | B66: 0
A67: Татвар төлөхийн өмнөх ашиг (алдагдал) | B67: =B4+B12+B13+B14+B17+B18-B19-B47-B50+B54+B59+B60+B61 -> 9.7455801e+09 | C67: =C4+C12+C13+C14+C17+C18-C19-C47-C50+C54+C59+C60+C61 -> 1.7846757e+09
A68: Орлогын татварын зардал | B68: 5.1540983e+08 | C68: 1.4530417e+08
A69: Татварын дараах ашиг (алдагдал) | B69: =+B67-B68 -> 9.2301703e+09 | C69: =+C67-C68 -> 1.6393715e+09
A70: Зогсоосон үйл ажиллагааны татварын дараах ашиг (алдагдал) | B70: 0 | C70: 0
A71: Тайлант үеийн цэвэр ашиг (алдагдал) | B71: =+B69+B70 -> 9.2301703e+09 | C71: =+C69+C70 -> 1.6393715e+09
A72: Бусад дэлгэрэнгүй орлого | B72: =SUM(B73:B75) -> 0 | C72: =SUM(C73:C75) -> 0
A73: Хөрөнгийн дахин үнэлгээний нэмэгдлийн зөрүү | B73: 0 | C73: 0
A74: Гадаад валютын хөрвүүлэлтийн зөрүү | B74: 0 | C74: 0
A75: Бусад олз (гарз) | B75: 0 | C75: 0
A76: Орлогын нийт дүн | B76: =+B71+B72 -> 9.2301703e+09 | C76: =+C71+C72 -> 1.6393715e+09
A77: Нэгж хувьцаанд ногдох суурь ашиг (алдагдал) | B77: =+B76/B78 -> 673.9868 | C77: =+C76/C78 -> 119.70686
A78: Нийт гаргасан хувьцааны тоо | B78: 13694883 | C78: 13694883
B80: Тайланг үнэн зөв гаргасан:
A81: Гүйцэтгэх захирал | C81: /Б.Лхагвадорж/
A83: Ерөнхий ня-бо | C83: Э.Анхилуун-Үйлс

Sheet CA
A2: Өмчийн өөрчлөлтийн тайлан
B3: Өмч | C3: Халаасны хувьцаа | D3: Нэмж төлөгдсөн капитал | E3: Сангууд | F3: Хөрөнгийн дахин үнэлгээний нэмэгдэл | G3: Гадаад валютын хөрвүүлэлтийн нөөц | H3: Эздийн өмчийн бусад хэсэг | I3: Хуримтлагдсан ашиг | J3: Нийт дүн
A4: ..... оны ..... -р сарын ...... -ний үлдэгдэл | B4: 9.3267631e+09 | C4: 0 | D4: 34472.68 | E4: 0 | F4: 3.8214371e+09 | G4: 0 | H4: 0 | I4: 1.6309611e+10 | J4: =SUM(B4:I4) -> 2.9457846e+10
A5: Нягтлан бодох бүртгэлийн бодлогын өөрчлөлтийн нөлөө, алдааны залруулга | B5: 0 | C5: 0 | D5: 0 | E5: 0 | F5: 0 | G5: 0 | I5: 0 | J5: =SUM(B5:I5) -> 0
A6: Залруулсан үлдэгдэл | B6: 0 | C6: 0 | D6: 0 | E6: 0 | F6: 0 | G6: 0 | H6: 0 | I6: 0 | J6: =SUM(B6:I6) -> 0
A7: Тайлант үеийн цэвэр ашиг (алдагдал) | B7: 0 | C7: 0 | D7: 0 | E7: 0 | F7: 0 | G7: 0 | H7: 0 | J7: =SUM(B7:I7) -> 0
A8: Бусад дэлгэрэнгүй орлого | B8: 0 | C8: 0 | D8: 0 | E8: 0 | F8: 0 | G8: 0 | H8: 0 | I8: 0 | J8: =SUM(B8:I8) -> 0
A9: Өмчид гарсан өөрчлөлт | C9: 0 | E9: 0 | F9: 0 | G9: 0 | H9: 0 | I9: 0 | J9: =SUM(B9:I9) -> 0
A10: Зарласан ногдол ашиг | B10: 0 | C10: 0 | D10: 0 | E10: 0 | F10: 0 | G10: 0 | H10: 0 | I10: 0 | J10: =SUM(B10:I10) -> 0
A11: Дахин үнэлгээний нэмэгдлийн хэрэгжсэн дүн | B11: 0 | C11: 0 | D11: 0 | E11: 0 | F11: 0 | G11: 0 | H11: 0 | I11: 0 | J11: =SUM(B11:I11) -> 0
A12: ..... оны ..... -р сарын ...... -ний үлдэгдэл | B12: =SUM(B4:B11) -> 9.3267631e+09 | C12: =SUM(C4:C11) -> 0 | D12: =SUM(D4:D11) -> 34472.68 | E12: =SUM(E4:E11) -> 0 | F12: =SUM(F4:F11) -> 3.8214371e+09 | G12: =SUM(G4:G11) -> 0 | H12: =SUM(H4:H11) -> 0 | I12: =SUM(I4:I11) -> 1.6309611e+10 | J12: =SUM(J4:J11) -> 2.9457846e+10
A13: Нягтлан бодох бүртгэлийн бодлогын өөрчлөлтийн нөлөө, алдааны залруулга | B13: 0 | C13: 0 | D13: 0 | E13: 0 | F13: 0 | G13: 0 | H13: 0 | I13: 0 | J13: =SUM(B13:I13) -> 0
A14: Залруулсан үлдэгдэл | B14: 0 | C14: 0 | D14: 0 | E14: 0 | F14: 0 | G14: 0 | H14: 0 | I14: 0 | J14: =SUM(B14:I14) -> 0
A15: Тайлант үеийн цэвэр ашиг (алдагдал) | B15: 0 | C15: 0 | D15: 0 | E15: 0 | F15: 0 | G15: 0 | H15: 0 | I15: =IS!C76 -> 1.6393715e+09 | J15: =SUM(B15:I15) -> 1.6393715e+09
A16: Бусад дэлгэрэнгүй орлого | B16: 0 | C16: 0 | D16: 0 | E16: 0 | F16: 0 | G16: 0 | H16: 0 | I16: 0 | J16: =SUM(B16:I16) -> 0
A17: Өмчид гарсан өөрчлөлт | B17: 0 | C17: 0 | D17: 0 | E17: 0 | F17: 6.9522545e+09 | G17: 0 | H17: 0 | I17: 0 | J17: =SUM(B17:I17) -> 6.9522545e+09
A18: Зарласан ногдол ашиг | B18: 0 | C18: 0 | D18: 0 | E18: 0 | F18: 0 | G18: 0 | H18: -1733318026 | I18: 0 | J18: =SUM(B18:H18) -> -1733318026
A19: Дахин үнэлгээний нэмэгдлийн хэрэгжсэн дүн | B19: 0 | C19: 0 | D19: 0 | E19: 0 | F19: 0 | G19: 0 | H19: 0 | I19: 0 | J19: =SUM(B19:I19) -> 0
A20: ..... оны ..... -р сарын ...... -ний үлдэгдэл | B20: =SUM(B12:B19) -> 9.3267631e+09 | C20: =SUM(C12:C19) -> 0 | D20: =SUM(D12:D19) -> 34472.68 | E20: =SUM(E12:E19) -> 0 | F20: =SUM(F12:F19) -> 1.0773692e+10 | G20: =SUM(G12:G19) -> 0 | H20: =SUM(H12:H19) -> -1733318026 | I20: =SUM(I12:I19) -> 17948982403 | J20: =SUM(J12:J19) -> 3.6316154e+10
B22: Тайланг үнэн зөв гаргасан:
A23: Гүйцэтгэх захирал | D23: /Б.Лхагвадорж/
A25: Ерөнхий ня-бо | D25: Э.Анхилуун-Үйлс

Sheet CS
A2: Мөнгөн гүйлгээний тайлан
B3: Өмнөх оны дүн | C3: Тайлант оны дүн
A4: Үндсэн үйл ажиллагааны мөнгөн гүйлгээ
A5: Мөнгөн орлогын дүн (+) | B5: =SUM(B6:B14) -> 1.5710871e+10 | C5: =SUM(C6:C14) -> 1.778589e+10
A6: Бараа борлуулсан, үйлчилгээ үзүүлсний орлого | B6: 8.8541151e+09 | C6: 2.4678676e+09
A7: Эрхийн шимтгэл, хураамж, төлбөрийн орлого | B7: 0 | C7: 0
A8: Даатгалын нөхвөрөөс хүлээн авсан мөнгө | B8: 10961274 | C8: 4166018
A9: Буцаан авсан албан татвар | B9: 9404663.9 | C9: 0
A10: Татаас, санхүүжилтийн орлого | B10: 0 | C10: 0
A11: Хөрөнгө оруулалт борлуулсны орлого | B11: 4.5865117e+09 | C11: 1.0535964e+10
A12: Хүлээн авсан хүүний орлого | B12: 1.101363e+09 | C12: 7.1134453e+08
A13: Хүлээн авсан ногдол ашиг | B13: 1.0934662e+09 | C13: 8.959165e+08
A14: Бусад мөнгөн орлого | B14: 55048787 | C14: 3.1706312e+09
A15: Мөнгөн зарлагын дүн (-) | B15: =SUM(B16:B26) -> -8.2756527e+09 | C15: =SUM(C16:C26) -> -7.8580966e+09
A16: Хөрөнгө оруулалт олж эзэмшихэд төлсөн | B16: 0 | C16: 0
A17: Ажиллагчдад төлсөн | B17: -1.6517517e+09 | C17: -9.739317e+08
A18: Нийгмийн даатгалын байгууллагад төлсөн | B18: -4.1230681e+08 | C18: -2.7761127e+08
A19: Бараа материал худалдан авахад төлсөн | B19: -2.8463233e+09 | C19: -4.1531381e+09
A20: Ашиглалтын зардалд төлсөн | B20: -16497604 | C20: 0
A21: Түлш шатахуун, тээврийн хөлс, сэлбэг хэрэгсэлд төлсөн | B21: -30279876 | C21: -18345011
A22: Хүүний төлбөрт төлсөн | B22: -1.589556e+09 | C22: -1.5283254e+09
A23: Татварын байгууллагад төлсөн | B23: -4.6005899e+08 | C23: -1.1575715e+08
A24: Даатгалын төлбөрт төлсөн | B24: -10303023 | C24: -6507227
A25: Зохицуулалтын хөлс, шимтгэл, хураамжинд төлсөн | C25: 0
A26: Бусад мөнгөн зарлага | B26: -1.2585754e+09 | C26: -7.8448072e+08
A27: Үндсэн үйл ажиллагааны цэвэр мөнгөн гүйлгээний дүн | B27: =+B5+B15 -> 7.4352181e+09 | C27: =+C5+C15 -> 9.927793e+09
A28: Хөрөнгө оруулалтын үйл ажиллагааны мөнгөн гүйлгээ
A29: Мөнгөн орлогын дүн (+) | B29: =SUM(B30:B33) -> 1.838934e+09 | C29: =SUM(C30:C33) -> 2.9048723e+09
A30: Үндсэн хөрөнгө борлуулсны орлого | B30: 0 | C30: 14652055
A31: Биет бус хөрөнгө борлуулсны орлого | B31: 0 | C31: 0
A32: Бусад урт хугацаат хөрөнгө борлуулсны орлого | B32: 0 | C32: 0
A33: Бусдад олгосон зээл, мөнгөн урьдчилгааны буцаан төлөлт | B33: 1.838934e+09 | C33: 2890220255
A34: Мөнгөн зарлагын дүн (-) | B34: =SUM(B35:B38) -> -2.8141018e+09 | C34: =SUM(C35:C38) -> -6.4042526e+09
A35: Үндсэн хөрөнгө олж эзэмшихэд төлсөн | B35: -9422448 | C35: -31855659
A36: Биет бус хөрөнгө олж эзэмшихэд төлсөн | B36: 0 | C36: 0
A37: Бусад урт хугацаат хөрөнгө олж эзэмшихэд төлсөн | B37: 0 | C37: -5000000000
A38: Бусдад олгосон зээл болон урьдчилгаа | B38: -2.8046794e+09 | C38: -1.3723969e+09
A39: Хөрөнгө оруулалтын үйл ажиллагааны цэвэр мөнгөн гүйлгээний дүн | B39: =+B29+B34 -> -9.7516782e+08 | C39: =+C29+C34 -> -3.4993803e+09
A40: Санхүүгийн үйл ажиллагааны мөнгөн гүйлгээ
A41: Мөнгөн орлогын дүн (+) | B41: =SUM(B42:B45) -> 4.0601986e+10 | C41: =SUM(C42:C45) -> 1.6462712e+10
A42: Зээл авсан, өрийн үнэт цаас гаргаснаас хүлээн авсан | B42: 1.0448616e+10 | C42: 2722279500
A43: Хувьцаа болон өмчийн бусад үнэт цаас гаргаснаас хүлээн авсан | B43: 0 | C43: 0
A44: Төрөл бүрийн хандив | B44: -6000000 | C44: -2000000
A45: Бусад мөнгөн орлого | B45: 3.015937e+10 | C45: 1.3742432e+10
A46: Мөнгөн зарлагын дүн (-) | B46: =SUM(B47:B51) -> -4.1289734e+10 | C46: =SUM(C47:C51) -> -2.6449439e+10
A47: Зээл, өрийн үнэт цаасны төлбөрт төлсөн мөнгө | B47: -1.0142417e+10 | C47: -1.1505535e+10
A48: Санхүүгийн түрээсийн өглөгт төлсөн | B48: -4.2751587e+08 | C48: 0
A49: Хувьцаа буцаан худалдаж авахад төлсөн | B49: 0 | C49: 0
A50: Төлсөн ногдол ашиг | B50: -1.0964256e+09 | C50: 0
A51: Бусад мөнгөн зарлага | B51: -2.9623376e+10 | C51: -1.4943904e+10
A52: Санхүүгийн үйл ажиллагааны цэвэр мөнгөн гүйлгээний дүн | B52: =+B41+B46 -> -6.8774839e+08 | C52: =+C41+C46 -> -9.9867275e+09
A53: Валютын ханшийн зөрүү | B53: 42368722 | C53: 8361808
A54: Бүх цэвэр мөнгөн гүйлгээ | B54: =+B53+B52+B39+B27 -> 5.8146706e+09 | C54: =+C53+C52+C39+C27 -> -3.549953e+09
A55: Мөнгө, түүнтэй адилтгах хөрөнгийн эхний үлдэгдэл | B55: 4.9650403e+09 | C55: =+B56 -> 7.0679253e+09
A56: Мөнгө, түүнтэй адилтгах хөрөнгийн эцсийн үлдэгдэл | B56: 7.0679253e+09 | C56: =+C54+C55 -> 3.5179723e+09
B58: Тайланг үнэн зөв гаргасан:
A59: Гүйцэтгэх захирал | C59: /Б.Лхагвадорж/
A61: Ерөнхий ня-бо | C61: Э.Анхилуун-Үйлс

Sheet Solvency
A1: “.............................” ХХК-ИЙН 20.. ОНЫ ... ХАГАС ЖИЛ/ЖИЛИЙН ЭЦСИЙН ТӨЛБӨРИЙН ЧАДВАРЫН ШАЛГУУР ҮЗҮҮЛЭЛТ
B3: Үзүүлэлт | C3: Тооцсон дүн (төгрөг)
A4: 1 | B4: Нийт хөрөнгө | C4: =BS!C5 -> 5.8336891e+10
A5: 2 | B5: Өөрийн хөрөнгө | C5: =BS!C99 -> 3.6316154e+10
A6: 3 | B6: Эргэлтийн бус хөрөнгө | C6: =BS!C43 -> 9.1833203e+09
A7: 4 | B7: Урт хугацаат хөрөнгө оруулалт * x | C7: =BS!C65*1 -> 0
A8: 5 | B8: Урт хугацаат өр төлбөр | C8: =BS!C91 -> 1.1970031e+10
A9: 6 | B9: Богино хугацаат өр төлбөр | C9: =BS!C70 -> 1.0050706e+10
A10: 7 | B10: (Урт хугацаат өр төлбөр + Богино хугацаат өр төлбөр) * y | C10: =(C8+C9)*1 -> 2.2020737e+10
A11: 8 | B11: Үйл ажиллагааны зардал | C11: =IS!C19 -> 2.0558869e+09
A12: 9 | B12: Элэгдлийн зардал | C12: =IS!C38 -> 42949650
A13: 10 | B13: (Үйл ажиллагааны зардал - Элэгдлийн зардал) * z | C13: =(C11-C12)*1 -> 2.0129373e+09
A14: 11 | B14: Хөрөнгийн зохистой харьцаа /(2-3)/(4+7+10)x100%≥100%/ | C14: =((C5-C6)/(C7+C10+C13))*100 -> 112.89507
A15: 12 | B15: Эргэлтийн хөрөнгө /андеррайтерийн компанийн хувьд/ | C15: =BS!C6 -> 4.915357e+10
A16: 13 | B16: Эргэлтийн хөрөнгийн хөрөнгийн хувийн жин /12/1х100%/≥70%/ | C16: =(C15/C4)*100 -> 84.258125
