Workbook

Sheet Нүүр
K2: Сангийн сайдын оны дугаар тушаалын дугаар хавсралт
A4: Регистрийн дугаар: | D4: 5 | E4: 6 | F4: 3 | G4: 1 | H4: 0 | I4: 8 | J4: 4
A6: Хаяг:
A7: Шуудангийн хаяг: ______________________________________________
A8: Утас: Факс__________________
A9: Өмчийн хэлбэр: Төрийн…….. Хувийн Хувийн 100 хувь
C15: Б
C22: МЕРЕКС ХХК-ИЙН
C23: 2026 ОНЫ 2-Р УЛИРЛЫН
C24: САНХҮҮГИЙН ТАЙЛАН
A33: Хянаж хүлээн авсан байгууллагын нэр | H33: Сар, өдөр | L33: Гарын үсэг
A34: Санхүү
A35: Татвар

Sheet Нүүр1
B4: МЕРЕКС ХХК-ийн
B5: 2026 оны 2-р улиралын санхүүгийн тайлангийн бодит байдлын тухай мэдэгдэл
B8: 2026 оны 6 сарын 30 өдөр
B11: Захирал Г.Чинхүслэн, ерөнхий нягтлан бодогч Д.Доржпалам, бид манай аж ахуйн нэгжийн 2026 оны 6 сарын 30-ны өдрөөр тасалбар болгон гаргасан санхүүгийн тайланд тайлант хугацааны үйл ажиллагааны үр дүн, санхүүгийн байдлыг "Нягтлан бодох бүртгэлийн тухай" хуулийн 17.1 дэх заалтын дагуу үнэн зөв, бүрэн тусгасан болохыг баталж байна Үүнд: __
B13: 1. _ | C13: Бүх ажил гүйлгээ бодитоор гарсан бөгөөд холбогдох анхан шатны баримтыг үндэслэн нягтлан бодох бүртгэл, санхүүгийн тайланд үнэн зөв тусгасан;
B15: 2. _ | C15: Санхүүгийн тайланд тусгагдсан бүх тооцоолол үнэн зөв хийгдсэн;
B17: 3. _ | C17: Аж ахуйн нэгжийн үйл ажиллагааны эдийн засаг, санхүүгийн бүхий л үйл явцыг иж бүрэн хамарсан;
B19: 4. _ | C19: Тайлант үеийн үр дүнд өмнөх оны ажил гүйлгээнээс шилжин тусгагдаагүй, мөн тайлант оны ажил гүйлгээнээс орхигдсон зүйл байхгүй;
B21: 5. _ | C21: Бүх хөрөнгө, авлага, өр төлбөр, орлого, зардлыг Санхүүгийн тайлагналын олон улсын стандартын дагуу үнэн зөв тусгасан;
B23: 6. _ | C23: Энэ тайланд тусгагдсан бүхий л зүйл манай байгууллагын албан ёсны өмчлөлд байдаг бөгөөд орхигдсон зүйл үгүй болно.
B28: Захирал: _____________________ ( Г.Чинхүслэн )
B29: Ерөнхий нягтлан бодогч: _____________________( Д.Доржпалам )

Sheet Баланс
C2: САНХҮҮ БАЙДЛЫН ТАЙЛАН
C4: МЕРЕКС ХХК | G4: 2026 оны 6-р сарын 30 өдөр
B5: ( Аж ахуйн нэгжийн нэр )
H6: (төгрөгөөр)
B7: Мөрийн дугаар | C7: БАЛАНСЫН ЗҮЙЛ | G7: Үлдэгдэл
G8: 1-р сарын 1 | H8: 6-р сарын 30
B9: 1 | C9: ХӨРӨНГӨ
B10: 1.1 | C10: Эргэлтийн хөрөнгө
B11: 1.1.1 | C11: Мөнгө, түүнтэй адилтгах хөрөнгө | G11: 5007747 | H11: 25700255
B12: 1.1.2 | C12: Дансны авлага | G12: 9.2045918e+09 | H12: 9.2045918e+09
B13: 1.1.3 | C13: Татвар, НДШ-ийн авлага | G13: 314120016 | H13: 314120016
B14: 1.1.4 | C14: Бусад авлага | G14: 1.6312923e+09 | H14: 1.6383687e+09
B15: 1.1.5 | C15: Бусад санхүүгийн авлага
B16: 1.1.6 | C16: Бараа материал | G16: 3.8805892e+08 | H16: 2.826213e+08
B17: 1.1.7 | C17: Урьдчилж төлсөн зардал/тооцоо | G17: 3.1697425e+09 | H17: 3.0139929e+09
B18: 1.1.8 | C18: Бусад эргэлтийн хөрөнгө
B19: 1.1.9 | C19: Борлуулах зорилгаар эзэмшиж буй эргэлтийн бус хөрөнгө /Борлуулах бүлэг хөрөнгө/ | G19: 5.879915e+08 | H19: 5.879915e+08
B20: 1.1.10
B21: 1.1.11 | C21: Эргэлтийн хөрөнгийн дүн | G21: =SUM(G11:G20) -> 1.5300805e+10 | H21: =SUM(H11:H20) -> 1.5067386e+10
B22: 1.2 | C22: Эргэлтийн бус хөрөнгө
B23: 1.2.1 | C23: Үндсэн хөрөнгө | G23: 1.4947789e+09 | H23: 1.4950962e+09
B24: 1.2.2 | C24: Биет бус хөрөнгө | G24: 72633176 | H24: 72633176
B25: 1.2.3 | C25: Биологийн хөрөнгө
B26: 1.2.4 | C26: Урт хугацаат хөрөнгө оруулалт
B27: 1.2.5 | C27: Хайгуул ба үнэлгээний хөрөнгө
B28: 1.2.6 | C28: Хойшлогдсон татварын хөрөнгө
B29: 1.2.7 | C29: Хөрөнгө оруулалтын зориулалттай үл хөдлөх хөрөнгө
B30: 1.2.8 | C30: Бусад эргэлтийн бус хөрөнгө
B31: 1.2.9
B32: 1.2.10 | C32: Эргэлтийн бус хөрөнгийн дүн | G32: =SUM(G23:G31) -> 1.5674121e+09 | H32: =SUM(H23:H31) -> 1.5677294e+09
B33: 1.3 | C33: НИЙТ ХӨРӨНГИЙН ДҮН | G33: =+G32+G21 -> 1.6868217e+10 | H33: =+H32+H21 -> 1.6635116e+10
B34: 2 | C34: Өр төлбөр ба эздийнөмч
B35: 2.1 | C35: ӨР ТӨЛБӨР
B36: 2.1.1 | C36: Богино хугацаат өр төлбөр
B37: 2.1.1.1 | C37: Дансны өглөг | G37: 1.419249e+09 | H37: 1.1422693e+09
B38: 2.1.1.2 | C38: Цалингийн өглөг | G38: 1.1266694e+08 | H38: 2740175
B39: 2.1.1.3 | C39: Татварын өр | G39: 9.2873154e+08 | H39: 1.0106155e+09
B40: 2.1.1.4 | C40: НДШ-ийн өглөг | G40: 1.2880082e+08 | H40: 1.9866834e+08
B41: 2.1.1.5 | C41: Богино хугацаат зээл | G41: 8000000 | H41: 8000000
B42: 2.1.1.6 | C42: Хүүний өглөг
...

Sheet Орлогын тайлан
B2: ОРЛОГЫН ДЭЛГЭРЭНГҮЙ ТАЙЛАН
C4: =+Баланс!C4 -> МЕРЕКС ХХК | F4: =+Баланс!G4 -> 2026 оны 6-р сарын 30 өдөр
C5: ( Аж ахуйн нэгжийн нэр )
H6: (төгрөгөөр)
B7: Мөрийн дугаар | C7: Үзүүлэлт | G7: Өмнөх үеийн дүн | H7: Тайлант үеийн дүн
B8: 1 | C8: Борлуулалтын орлого /цэвэр/ | G8: 1.6958109e+09 | H8: 8.0732473e+08
B9: =+B8+1 -> 2 | C9: Борлуулалтын өртөг | G9: 7.2535636e+08 | H9: 6.3241566e+08
B10: =+B9+1 -> 3 | C10: Нийт ашиг (алдагдал) | G10: =+G8-G9 -> 9.7045453e+08 | H10: =+H8-H9 -> 1.7490906e+08
B11: =+B10+1 -> 4 | C11: Түрээсийн орлого
B12: =+B11+1 -> 5 | C12: Хүүний орлого | G12: 214498.89
B13: =+B12+1 -> 6 | C13: Ноогдол ашигын орлого
B14: =+B13+1 -> 7 | C14: Эрхийн шимтгэлийн орлого
B15: =+B14+1 -> 8 | C15: Бусад орлого
B16: =+B15+1 -> 9 | C16: Борлуулалт, Маркетингийн зардал | H16: 1.7262697e+08
B17: =+B16+1 -> 10 | C17: Ерөнхий ба удирдлагын зардал | G17: 9.7027353e+08
B18: =+B17+1 -> 11 | C18: Санхүүгийн зардал
B19: =+B18+1 -> 12 | C19: Бусад зардал
B20: =+B19+1 -> 13 | C20: Гадаад валютын ханшийн зөрүүний олз гарз
B21: =+B20+1 -> 14 | C21: Үндсэн хөрөнгө данснаас хассаны олз /гарз/
B22: =+B21+1 -> 15 | C22: Бусад биет бус хөрөнгө данснаас хассаны олз /ãàðç/
B23: =+B22+1 -> 16 | C23: Хөрөнгө оруулалт борлуулснаас үүссэн олз /гарз/
B24: =+B23+1 -> 17 | C24: Бусад ашиг /алдагдал/
B25: =+B24+1 -> 18 | C25: Татвар төлөхийн өмнөх ашиг (алдагдал) | G25: =+G10+G11+G12+G13+G14+G15-G16-G17-G18-G19-G20-G21-G22-G23-G24 -> 395497.97 | H25: =+H10+H11+H12+H13+H14+H15-H16-H17-H18-H19-H20-H21-H22-H23-H24 -> 2282092.4
B26: =+B25+1 -> 19 | C26: Орлогын татварын зардал | G26: 39549.8 | H26: 228209.24
B27: =+B26+1 -> 20 | C27: Татварын дараах ашиг (алдагдал) | G27: =+G25-G26 -> 355948.17 | H27: =+H25-H26 -> 2053883.2
B28: =+B27+1 -> 21 | C28: Зогсоосон үйл ажиллагааны татварын дараах ашиг /алдагдал/
B29: =+B28+1 -> 22 | C29: Тайлант үеийн цэвэр ашиг (алдагдал) | G29: =+G27 -> 355948.17 | H29: =+H27 -> 2053883.2
B30: =+B29+1 -> 23 | C30: Бусад дэлгэрэнгүй орлого
C31: Хөрөнгийн дахин үнэлгээний нэмэгдлийн зөрүү
C32: Гадаад валютын хөрвүүлэлтийн зөрүү
C33: Бусад олз /гарз/
B34: =+B30+1 -> 24 | C34: Орлогын нийт дүн
B35: =+B34+1 -> 25 | C35: Нэгж хувьцаанд ногдох ашиг (алдагдал)
C38: =+Нүүр1!B28 -> Захирал: _____________________ ( Г.Чинхүслэн )
C39: =+Нүүр1!B29 -> Ерөнхий нягтлан бодогч: _____________________( Д.Доржпалам )

Sheet Өмчийн өөрчлөлтийн тайлан
H2: ӨМЧИЙН ӨӨРЧЛӨЛТИЙН ТАЙЛАН
C3: =+Баланс!C4 -> МЕРЕКС ХХК | K3: =+Баланс!G4 -> 2026 оны 6-р сарын 30 өдөр
C4: ( Аж ахуйн нэгжийн нэр ) | N4: (төгрөгөөр)
C5: ҮЗҮҮЛЭЛТ | G5: Өмч | H5: Халаасны хувьцаа | I5: Нэмж төлөгдсөн капитал | J5: Хөрөнгийн дахин үнэлгээний нэмэгдэл | K5: Гадаад валютын хөрвүүлэлтийн нөөц | L5: Эздийн өмчийн бусад хэсэг | M5: Хуримтлагдсан ашиг | N5: Нийт дүн
B6: 1 | C6: Нягтлан бодох бүртгэлийн бодлогын өөрчлөлтийн нөлөө, алдааны залруулга | N6: =SUM(G6:M6) -> 0
B7: =+B6+1 -> 2 | C7: Залруулсан үлдэгдэл | G7: 6500500000 | N7: =SUM(G7:M7) -> 6500500000
B8: =+B7+1 -> 3 | C8: Тайлант үеийн цэвэр ашиг /алдагдал/ | M8: =+Баланс!G67 -> -2.7431108e+09 | N8: =SUM(G8:M8) -> -2.7431108e+09
B9: =+B8+1 -> 4 | C9: Бусад дэлгэрэнгүй орлого | N9: =SUM(G9:M9) -> 0
B10: =+B9+1 -> 5 | C10: Өмчид гарсан өөрчлөлт | N10: =SUM(G10:M10) -> 0
B11: =+B10+1 -> 6 | C11: Зарласан ногдол ашиг | N11: =SUM(G11:M11) -> 0
B12: =+B11+1 -> 7 | C12: Дахин үнэлгээний нэмэгдлийн хэрэгжсэн дүн | N12: =SUM(G12:M12) -> 0
B13: =+B12+1 -> 8 | C13: Эхний үлдэгдэл /төгрөгөөр/ | G13: =SUM(G7:G12) -> 6500500000 | H13: =SUM(H7:H12) -> 0 | I13: =SUM(I7:I12) -> 0 | J13: =SUM(J7:J12) -> 0 | K13: =SUM(K7:K12) -> 0 | L13: =SUM(L7:L12) -> 0 | M13: =SUM(M7:M12) -> -2.7431108e+09 | N13: =SUM(G13:M13) -> 3.7573892e+09
B14: =+B13+1 -> 9 | C14: Нягтлан бодох бүртгэлийн бодлогын өөрчлөлтийн нөлөө, алдааны залруулга | N14: =SUM(G14:M14) -> 0
B15: =+B14+1 -> 10 | C15: Залруулсан үлдэгдэл | G15: =+G13+G14 -> 6500500000 | H15: =+H13+H14 -> 0 | I15: =+I13+I14 -> 0 | J15: =+J13+J14 -> 0 | K15: =+K13+K14 -> 0 | L15: =+L13+L14 -> 0 | M15: =+M13+M14 -> -2.7431108e+09 | N15: =+N13+N14 -> 3.7573892e+09
B16: =+B15+1 -> 11 | C16: Тайлант үеийн цэвэр ашиг /алдагдал/ | M16: =+'Орлогын тайлан'!H29 -> 2053883.2 | N16: =SUM(G16:M16) -> 2053883.2
B17: =+B16+1 -> 12 | C17: Бусад дэлгэрэнгүй орлого | N17: =SUM(G17:M17) -> 0
B18: =+B17+1 -> 13 | C18: Өмчид гарсан өөрчлөлт | N18: =SUM(G18:M18) -> 0
B19: =+B18+1 -> 14 | C19: Зарласан ногдол ашиг | N19: =SUM(G19:M19) -> 0
B20: =+B19+1 -> 15 | C20: Дахин үнэлгээний нэмэгдлийн хэрэгжсэн дүн | N20: =SUM(G20:M20) -> 0
B21: =+B20+1 -> 16 | C21: Эцсийн үлдэгдэл /төгрөгөөр/ | G21: =SUM(G15:G20) -> 6500500000 | H21: =SUM(H15:H20) -> 0 | I21: =SUM(I15:I20) -> 0 | J21: =SUM(J15:J20) -> 0 | K21: =SUM(K15:K20) -> 0 | L21: =SUM(L15:L20) -> 0 | M21: =SUM(M15:M20) -> -2.7410569e+09 | N21: =SUM(N15:N20) -> 3.7594431e+09
N22: =+N21-Баланс!H69 -> 0
E23: =+Баланс!C73 -> Захирал: _____________________ ( Г.Чинхүслэн )
E24: =+Баланс!C74 -> Ерөнхий нягтлан бодогч: _____________________( Д.Доржпалам )

Sheet Мөнгөн гүйлгээний тайлан
C1: МӨНГӨН ГҮЙЛГЭЭНИЙ ТАЙЛАН
B2: =+Баланс!C4 -> МЕРЕКС ХХК | F2: =+Баланс!G4 -> 2026 оны 6-р сарын 30 өдөр
B3: ( Аж ахуйн нэгжийн нэр ) | G3: (төгрөгөөр)
B4: Үзүүлэлт | F4: Тайлант үеийн дүн | G4: Тайлант үеийн дүн
B5: 1. Үндсэн үйл ажиллагааны мөнгөн гүйлгээ
B6: 1.1 мөнгөн орлогын дүн /+/ | F6: =SUM(F7:F12) -> 74580000 | G6: =SUM(G7:G12) -> 888057200
B7: 1.1.1 Бараа борлуулсан, үйлчилгээ үзүүлсэний орлого | F7: 74580000 | G7: 888057200
B8: 1.1.2 Эрхийн шимтэл, хураамж, төлбөрийн орлого
B9: 1.1.3 Даатгалын нөхвөрөөс хүлээн авсан мөнгө
B10: 1.1.4 Буцаан авсан албан татвар
B11: 1.1.5 Татаас, санхүүжилтийн орлого
B12: 1.1.6 Бусад мөнгөн орлого
B13: 1.2 Мөнгөн зарлагын дүн /-/ | F13: =SUM(F14:F22) -> 6.3908818e+08 | G13: =SUM(G14:G22) -> 8.6701569e+08
B14: 1.2.1 Ажиллагчдад төлсөн | F14: 58525424 | G14: 41312221
B15: 1.2.2 Нийгмийн даатгалын байгууллагад төлсөн | F15: 5000000 | G15: 5000000
B16: 1.2.3 Бараа материал худалдан авахад төлсөн | F16: 79276725 | G16: 628354495
B17: 1.2.4 Ашиглалтын зардалд төлсөн | F17: 19665939 | G17: 6310647
B18: 1.2.5 Түлш шатахуун, тээврийн хөлс, сэлбэг хэрэгсэлд төлсөн | F18: 144468032 | G18: 177751034
B19: 1.2.6 Хүүний төлбөрт төлсөн
B20: 1.2.7 Татварын байгууллагад төлсөн | F20: 5591409.5 | G20: 5140645.5
B21: 1.2.8 Даатгалын төлбөрт төлсөн
B22: 1.2.9 Бусад мөнгөн зарлага | F22: 3.2656065e+08 | G22: 3146650
B23: 1.3 Үндсэн үйл ажиллагааны цэвэр мөнгөн гүйлгээний дүн | F23: =+F6-F13 -> -5.6450818e+08 | G23: =+G6-G13 -> 21041508
B24: 2. Хөрөнгө оруулалтын үйл ажиллагааны мөнгөн гүйлгээ
B25: 2.1 Мөнгөн орлогын дүн /+/ | F25: =SUM(F26:F33) -> 11386949 | G25: =SUM(G26:G33) -> 0
B26: 2.1.1 Үндсэн хөрөнгө борлуулсаны орлого
B27: 2.1.2 Биет бус хөрөнгө борлуулсаны орлого
B28: 2.1.3 Хөрөнгө оруулалт борлуулсаны орлого
B29: 2.1.4 бусад урт хугацаат хөрөнгө борлуулсаны орлого
B30: 2.1.5 Бусдад олгосон зээл, Мөнгөн урьдчилгааны буцаан төлөлт | F30: 11193900
B31: 2.1.6 Хүлээн авсан хүүгийн орлого | F31: 193049
B32: 2.1.7 Хүлээн авсан ногдол ашиг
B33: 2.1.8
B34: 2.2 Мөнгөн карлагын дүн /-/ | F34: =SUM(F35:F40) -> 68514723 | G34: =SUM(G35:G40) -> 349000
B35: 2.2.1 Үндсэн хөрөнгө олж эзэмшид төлсөн | G35: 349000
B36: 2.2.2 Биет бус хөрөнгө олж эзэмшид төлсөн
B37: 2.2.3 Хөрөнгө оруулалт олж эзэмшид төлсөн
B38: 2.2.4 Бусад урт хугацаат хөрөнгө олж эзэмшид төлсөн
B39: 2.2.5 Бусдад олгосон зээл болон урьдчилгаа | F39: 68514723
B40: 2.2.6
...
