Workbook
Name ____USD1: 1215
Name ____USD2: 1220
Name ___USD1: 1179
Name ___USD2: 1220
Name __USD1: 1179
Name __USD2: 1220
Name __VAT1: 15%
Name _2004_SUMMARY: #REF!
Name _5LAB_1: #REF!
Name _6LAB_2: #REF!
Name _CON2: #REF!
Name _NB03: #N/A
Name _NB04: #N/A
Name _USD1: 1179
Name _USD2: 1220
Name _VAT1: 15%
Name A_EMTSUB: #REF!
Name A_EMTSUBDEP: #REF!
Name A_LEAVES: #REF!
Name A_MOBDEMAL: #REF!
Name A_MOBDEMOB: #REF!
Name A_MONTHLY: #REF!
Name A_VPSUB: #REF!
Name A_VPSUBDEP: #REF!
Name A_YEARLY: #REF!
Name AccessStockPrev: #N/A
Name AcctyFees: #N/A
Name AcctyFeesPrev: #N/A
Name AccumProfit: #N/A
Name AccumProfitPrev: #N/A
Name AccumProfitVelcoWaiorauPrev: #N/A
Name Actual2002: #REF!
Name Actual2002_12: #REF!
Name Actual2003: #REF!
Name Actual2003_12: #REF!
Name Actual2003_12_coating: #REF!
Name Actual2003_12_Tin: #REF!
Name Actual2003_Coating: #REF!
Name Actual2003_Tin: #REF!
Name Actual2004: #REF!
Name Actual2004_Coating: #REF!
Name Actual2004_Tin: #REF!
Name ad: #REF!
Name Adv: #REF!
Name Advertising_HK: #REF!
Name Advertising_UK: #REF!
Name AdvPromo: #N/A
Name AdvPromoPrev: #N/A
Name Air_Conditioning_OTH: #REF!
Name Air_Conditioning_UK: #REF!
Name Allowances_a_c: #REF!
Name Allowances_a_c_OTH: #REF!
Name Allowances_a_c_UK: #REF!
Name AmortGoodwill: #N/A
Name AmortGoodwillPrev: #N/A
Name ap: #REF!
Name aq: #REF!
Name Aquarius_Group_Ltd: #REF!
Name ar: #REF!,#REF!
Name Ara7.5: 1

Sheet BS
A1: НЭГТГЭСЭН САНХҮҮГИЙН БАЙДЛЫН ТАЙЛАН
A2: " Премиум Нэксус " ХК | D2: 2025 оны 12-р сарын 31-ний өдөр
A3: (Аж ахуйн нэгжийн нэр) | D3: /төгрөгөөр/
A4: Мөрийн дугаар | B4: Үзүүлэлт | C4: 2024 оны 12-р сарын 31 | D4: 2025 оны 12-р сарын 31
A5: 1 | B5: ХӨРӨНГӨ
A6: 1.1 | B6: Эргэлтийн хөрөнгө
A7: 1.1.1 | B7: Мөнгө, түүнтэй адилтгах хөрөнгө | C7: 1.0431531e+10 | D7: 2.1731871e+10
A8: 1.1.2 | B8: Дансны авлага | C8: 6.0428038e+09 | D8: 7.8402073e+09
A9: 1.1.3 | B9: Татвар, НДШ-ийн авлага | C9: 2.3508757e+09 | D9: 4.3935567e+09
A10: 1.1.4 | B10: Бусад авлага | C10: 1.9361761e+09 | D10: 2.4797136e+09
A11: 1.1.5 | B11: Бусад санхүүгийн хөрөнгө | C11: 27598771 | D11: 0
A12: 1.1.6 | B12: Бараа материал | C12: 4.7194509e+10 | D12: 6.7459512e+10
A13: 1.1.7 | B13: Урьдчилж төлсөн зардал/тооцоо | C13: 7.3263576e+09 | D13: 1.2453703e+10
A14: 1.1.8 | B14: Бусад эргэлтийн хөрөнгө | C14: 3.1191358e+09 | D14: 3.9463188e+09
A15: 1.1.9 | B15: Борлуулах зорилгоор эзэмшиж буй эргэлтийн бус хөрөнгө (борлуулах бүлэг хөрөнгө) | C15: 0 | D15: 0
A16: 1.1.10 | C16: 0 | D16: 0
A17: 1.1.11 | B17: Эргэлтийн хөрөнгийн дүн | C17: =SUM(C7:C16) -> 7.8428988e+10 | D17: =SUM(D7:D16) -> 1.2030488e+11
A18: 1.2 | B18: Эргэлтийн бус хөрөнгө
A19: 1.2.1 | B19: Үндсэн хөрөнгө | C19: 1.1813347e+11 | D19: 1.6793091e+11
A20: 1.2.1а | B20: Ашиглах эрхтэй хөрөнгө | C20: 6.056863e+10 | D20: 7.9127259e+10
A21: 1.2.2 | B21: Биет бус хөрөнгө | C21: 3.9774042e+10 | D21: 4.531016e+10
A22: 1.2.3 | B22: Биологийн хөрөнгө | C22: 0 | D22: 0
A23: 1.2.4 | B23: Урт хугацаат хөрөнгө оруулалт | C23: 0 | D23: -0.42999268
A24: 1.2.5 | B24: Хайгуул ба үнэлгээний хөрөнгө | C24: 0 | D24: 0
A25: 1.2.6 | B25: Хойшлогдсон татварын хөрөнгө | C25: 1.9852196e+09 | D25: 5.3519e+09
A26: 1.2.7 | B26: Хөрөнгө оруулалтын зориулалттай үл хөдлөх хөрөнгө | C26: 0 | D26: 0
A27: 1.2.8 | B27: Бусад эргэлтийн бус хөрөнгө | C27: 1.1204649e+10 | D27: 9.1372149e+09
A28: 1.2.9 | B28: Бусад эргэлтийн бус УТТ | C28: 3.8364583e+09 | D28: 1.1170562e+10
A29: 1.2.10 | B29: Эргэлтийн бус хөрөнгийн дүн | C29: =SUM(C19:C28) -> 2.3550247e+11 | D29: =SUM(D19:D28) -> 3.18028e+11
A30: 1.3 | B30: НИЙТ ХӨРӨНГИЙН ДҮН | C30: =C29+C17 -> 3.1393145e+11 | D30: =D29+D17 -> 4.3833288e+11
A31: 2 | B31: ӨР ТӨЛБӨР БА ЭЗДИЙН ӨМЧ
A32: 2.1 | B32: Өр төлбөр
A33: 2.1.1 | B33: Богино хугацаат өр төлбөр
A34: 2.1.1.1 | B34: Дансны өглөг | C34: 6.4162037e+10 | D34: 8.9804768e+10
A35: 2.1.1.2 | B35: Цалингийн өглөг | C35: 1.5919503e+09 | D35: 3.7638204e+09
A36: 2.1.1.3 | B36: Татварын өр | C36: 4.82083e+09 | D36: 3.7608147e+09
A37: 2.1.1.4 | B37: НДШ-ийн өглөг | C37: 8726090.7 | D37: 48293023
A38: 2.1.1.5 | B38: Богино хугацаат зээл | C38: 2.4556757e+10 | D38: 4.0781686e+10
A39: 2.1.1.6 | B39: Хүүний өглөг | C39: 1.7647284e+08 | D39: 3.5570361e+08
A40: 2.1.1.7 | B40: Ногдол ашгийн өглөг | C40: 0 | D40: 0
A41: 2.1.1.8 | B41: Урьдчилж орсон орлого | C41: 1.4577609e+09 | D41: 2.5377269e+09
A42: 2.1.1.9 | B42: Нөөц /өр төлбөр/ | C42: 5.9172943e+08 | D42: 7.5025031e+08
A43: 2.1.1.10 | B43: Бусад богино хугацаат өр төлбөр | C43: 1.8876384e+10 | D43: 2.4592528e+10
A44: 2.1.1.11 | B44: Борлуулах зорилгоор эзэмшиж буй эргэлтийн бус хөрөнгө (борлуулах бүлэг хөрөнгө)-нд хамаарах өр төлбөр | C44: 0 | D44: 0
A45: 2.1.1.12 | C45: 0 | D45: 0
A46: 2.1.1.13 | B46: Богино хугацаат өр төлбөрийн дүн | C46: =SUM(C34:C45) -> 1.1624265e+11 | D46: =SUM(D34:D45) -> 1.6639559e+11
A47: 2.1.2 | B47: Урт хугацаат өр төлбөр
A48: 2.1.2.1 | B48: Урт хугацаат зээл | C48: 2.3389242e+10 | D48: 7.9172223e+10
A49: 2.1.2.2 | B49: Нөөц /өр төлбөр/ | C49: 0 | D49: 0
A50: 2.1.2.3 | B50: Хойшлогдсон татварын өр | C50: 4.5985577e+09 | D50: 4.4404998e+09
A51: 2.1.2.4 | B51: Бусад урт хугацаат өр төлбөр | C51: 6.6912197e+10 | D51: 7.4097783e+10
A52: 2.1.2.5 | C52: 0 | D52: 0
A53: 2.1.2.6 | B53: Урт хугацаат өр төлбөрийн дүн | C53: =SUM(C48:C52) -> 9.4899996e+10 | D53: =SUM(D48:D52) -> 1.5771051e+11
A54: 2.2 | B54: Өр төлбөрийн нийт дүн | C54: =C46+C53 -> 2.1114264e+11 | D54: =D46+D53 -> 3.241061e+11
A55: 2.3 | B55: Эздийн өмч
A56: 2.3.1 | B56: Өмч: - Төрийн | C56: 0 | D56: 0
A57: 2.3.2 | B57: - Хувийн | C57: 111425203400 | D57: 111425203400
A58: 2.3.3 | B58: - Хувьцаат | C58: 0 | D58: 0
A59: 2.3.4 | B59: Халаасны хувьцаа | C59: 0 | D59: -5050065300
A60: 2.3.5 | B60: Нэмж төлөгдсөн капитал | C60: 4.5757916e+10 | D60: 3.3133863e+10
A61: 2.3.6 | B61: Хөрөнгийн дахин үнэлгээний нэмэгдэл | C61: 0 | D61: 0
A62: 2.3.7 | B62: Гадаад валютын хөрвүүлэлтийн нөөц | C62: 0 | D62: 0
A63: 2.3.8 | B63: Эздийн өмчийн бусад хэсэг | C63: 3.1873089e+08 | D63: 3.1873089e+08
A64: 2.3.9 | B64: Хуримтлагдсан ашиг: Тайлангийн үеийн | C64: 4.6598361e+10 | D64: 2.4699875e+10
B65: Өмнөх үеийн | C65: -1.1018478e+11 | D65: -6.741666e+10
A66: 2.3.10 | B66: Хяналтын эрхгүй хувь оролцоонд ногдох | C66: 8.8733786e+09 | D66: 1.711584e+10
A67: 2.3.11 | B67: Эздийн өмчийн дүн | C67: =SUM(C56:C66) -> 1.0278881e+11 | D67: =SUM(D56:D66) -> 1.1422679e+11
A68: 2.4 | B68: ӨР ТӨЛБӨР БА ЭЗДИЙН ӨМЧИЙН ДҮН | C68: =C54+C67 -> 3.1393145e+11 | D68: =D54+D67 -> 4.3833288e+11
C69: =C30-C68 -> 0 | D69: =D30-D68 -> 0
B70: Захирал ______________________ / Г.Чинзориг /
B72: Нягтлан бодогч ______________________ / С.Оюунжаргал /

Sheet IS
A1: НЭГТГЭСЭН ОРЛОГЫН ДЭЛГЭРЭНГҮЙ ТАЙЛАН
A2: =BS!A2 -> " Премиум Нэксус " ХК | D2: 2025 оны 12-р сарын 31-ний өдөр
A3: (Аж ахуйн нэгжийн нэр) | D3: =BS!D3 -> /төгрөгөөр/
A4: Мөрийн дугаар | B4: Үзүүлэлт | C4: =BS!C4 -> 2024 оны 12-р сарын 31 | D4: =BS!D4 -> 2025 оны 12-р сарын 31
A5: 1 | B5: Борлуулалтын орлого (цэвэр) | C5: 5.9837866e+11 | D5: 7.9574245e+11
A6: 2 | B6: Борлуулалтын өртөг | C6: 5.1827279e+11 | D6: 6.8932756e+11
A7: 3 | B7: Нийт ашиг (алдагдал) | C7: =C5-C6 -> 8.0105874e+10 | D7: =D5-D6 -> 1.0641489e+11
A8: 4 | B8: Түрээсийн орлого | C8: 2.2047563e+08 | D8: 1.8264125e+08
A9: 5 | B9: Хүүний орлого | C9: 2.1728767e+09 | D9: 2.1075422e+09
A10: 6 | B10: Ногдол ашгийн орлого | C10: 0 | D10: 0
A11: 7 | B11: Эрхийн шимтгэлийн орлого | C11: 0 | D11: 0
A12: 8 | B12: Бусад орлого | C12: 2.4408887e+10 | D12: 9.3519449e+09
A13: 9 | B13: Борлуулалт, маркетингийн зардал | C13: 3.3064738e+09 | D13: 8.0914245e+09
A14: 10 | B14: Ерөнхий ба удирдлагын зардал | C14: 3.1419238e+10 | D14: 5.3201679e+10
A15: 11 | B15: Санхүүгийн зардал | C15: 1.9438179e+10 | D15: 2.4443401e+10
A16: 12 | B16: Бусад зардал | C16: 4.5957962e+09 | D16: 9.6809774e+09
A17: 13 | B17: Гадаад валютын ханшийн зөрүүний олз (гарз) | C17: 4.3535751e+08 | D17: -3.6123195e+08
A18: 14 | B18: Үндсэн хөрөнгө данснаас хассаны олз (гарз) | C18: 1.7686655e+09 | D18: 5.1197615e+08
A19: 15 | B19: Биет бус хөрөнгө данснаас хассаны олз (гарз) | C19: 0 | D19: 0
... A23: 19 | B23: Бусад ашиг (алдагдал) | C23: 0 | D23: 0
A24: 20 | B24: Татвар төлөхийн өмнөх ашиг (алдагдал) | C24: =C7+SUM(C8:C12)-SUM(C13:C16)+SUM(C17:C23) -> 5.035245e+10 | D24: =D7+SUM(D8:D12)-SUM(D13:D16)+SUM(D17:D23) -> 2.5729234e+10
A25: 21 | B25: Орлогын татварын зардал | C25: 2.9499562e+09 | D25: -1.4351573e+09
A26: 22 | B26: Татварын дараах ашиг (алдагдал) | C26: =C24-C25 -> 4.7402494e+10 | D26: =D24-D25 -> 2.7164392e+10
A27: 23 | B27: Зогсоосон үйл ажиллагааны татварын дараах ашиг (алдагдал) | C27: 0 | D27: 0
A28: 24 | B28: Тайлант үеийн цэвэр ашиг (алдагдал) | C28: =C26+C27 -> 4.7402494e+10 | D28: =D26+D27 -> 2.7164392e+10
B29: 24.1 Толгой компанийн хувьцаа эзэмшигчид | C29: 4.6598361e+10 | D29: 2.4699875e+10
B30: 24.2 Хяналтын эрхгүй хувь оролцоо | C30: 8.0413341e+08 | D30: 2.4645166e+09
A31: 25 | B31: Бусад дэлгэрэнгүй орлого | C31: =SUM(C32:C35) -> 0 | D31: =SUM(D32:D35) -> 0
B32: 25.1 Хөрөнгийн дахин үнэлгээний нэмэгдлийн зөрүү | C32: 0 | D32: 0
B33: 25.2 Гадаад валютын хөрвүүлэлтийн зөрүү | C33: 0 | D33: 0
B34: 25.3 Бусад олз (гарз) | C34: 0 | D34: 0
B35: 25.4 Бусад дэлгэрэнгүй орлогын дүн | C35: 0 | D35: 0
A36: 24 | B36: Орлогын нийт дүн | C36: =C28+C31 -> 4.7402494e+10 | D36: =D28+D31 -> 2.7164392e+10
A37: 25 | B37: Нэгж хувьцаанд ногдох суурь ашиг (алдагдал) | C37: 0 | D37: 0
B40: Захирал ______________________ / Г.Чинзориг /
B42: Нягтлан бодогч ______________________ / С.Оюунжаргал /

Sheet ES
A1: НЭГТГЭСЭН ӨМЧИЙН ӨӨРЧЛӨЛТИЙН ТАЙЛАН
A2: =BS!A2 -> " Премиум Нэксус " ХК | L2: 2025 оны 12-р сарын 31-ний өдөр
A3: =BS!A3 -> (Аж ахуйн нэгжийн нэр) | L3: =BS!D3 -> /төгрөгөөр/
A4: № | B4: ҮЗҮҮЛЭЛТ | C4: Өмч | D4: Халаасны хувьцаа | E4: Нэмж төлөгдсөн капитал | F4: Хөрөнгийн дахин үнэлгээний нэмэгдэл | G4: Гадаад валютын хөрвүүлэлтийн нөөц | H4: Эздийн өмчийн бусад хэсэг | I4: Хуримтлагдсан ашиг | J4: Нийт дүн | K4: Хяналтын эрхгүй хувь оролцоо | L4: НИЙТ ДҮН
B5: 2024 оны 1-р сарын 1-ний үлдэгдэл | C5: 81776864314 | E5: 1.3820503e+10 | H5: 318730895 | I5: -1.1018478e+11 | J5: =SUM(C5:I5) -> -1.4268682e+10 | L5: =SUM(J5:K5) -> -1.4268682e+10
A6: 1 | B6: Нягтлан бодох бүртгэлийн бодлогын өөрчлөлтийн нөлөө, алдааны залруулга | J6: =SUM(C6:I6) -> 0 | L6: =SUM(J6:K6) -> 0
A7: 2 | B7: Залруулсан үлдэгдэл | C7: =SUM(C5:C6) -> 81776864314 | D7: =SUM(D5:D6) -> 0 | E7: =SUM(E5:E6) -> 1.3820503e+10 | F7: =SUM(F5:F6) -> 0 | G7: =SUM(G5:G6) -> 0 | H7: 3.1873089e+08 | I7: =SUM(I5:I6) -> -1.1018478e+11 | J7: =SUM(J5:J6) -> -1.4268682e+10 | K7: =SUM(K5:K6) -> 0 | L7: =SUM(L5:L6) -> -1.4268682e+10
A8: 3 | B8: Тайлант үеийн цэвэр ашиг (алдагдал) | I8: 4.6598361e+10 | J8: =SUM(C8:I8) -> 4.6598361e+10 | K8: 8.0413341e+08 | L8: =SUM(J8:K8) -> 4.7402494e+10
A9: 4 | B9: Бусад дэлгэрэнгүй орлого | J9: =SUM(C9:I9) -> 0 | L9: =SUM(J9:K9) -> 0
A10: 5 | B10: Өмчид гарсан өөрчлөлт | C10: 29648339086 | E10: 3.1937413e+10 | J10: =SUM(C10:I10) -> 6.1585752e+10 | K10: 8.0692451e+09 | L10: =SUM(J10:K10) -> 6.9654997e+10
A11: 6 | B11: Зарласан ногдол ашиг | J11: =SUM(C11:I11) -> 0 | L11: =SUM(J11:K11) -> 0
A12: 7 | B12: Дахин үнэлгээний нэмэгдлийн хэрэгжсэн дүн | I12: 0 | J12: =SUM(C12:I12) -> 0 | L12: =SUM(J12:K12) -> 0
A13: 8 | B13: 2024 оны 12 -р сарын 31-ний үлдэгдэл | C13: =SUM(C7:C12) -> 111425203400 | D13: =SUM(D7:D12) -> 0 | E13: =SUM(E7:E12) -> 4.5757916e+10 | F13: =SUM(F7:F12) -> 0 | G13: =SUM(G7:G12) -> 0 | H13: =SUM(H7:H12) -> 3.1873089e+08 | I13: =SUM(I7:I12) -> -6.3586419e+10 | J13: =SUM(J7:J12) -> 9.3915431e+10 | ... L13: =SUM(L7:L12) -> 1.0278881e+11
A14: 9 | B14: Нягтлан бодох бүртгэлийн бодлогын өөрчлөлтийн нөлөө, алдааны залруулга | C14: 0 | D14: 0 | E14: 0 | F14: 0 | G14: 0 | H14: 0 | I14: 0 | J14: =SUM(C14:I14) -> 0 | L14: =SUM(J14:K14) -> 0
A15: 10 | B15: Залруулсан үлдэгдэл | C15: =SUM(C13:C14) -> 111425203400 | D15: =SUM(D13:D14) -> 0 | E15: =SUM(E13:E14) -> 4.5757916e+10 | F15: =SUM(F13:F14) -> 0 | G15: =SUM(G13:G14) -> 0 | H15: =SUM(H13:H14) -> 3.1873089e+08 | I15: =SUM(I13:I14) -> -6.3586419e+10 | J15: =SUM(J13:J14) -> 9.3915431e+10 | ... L15: =SUM(L13:L14) -> 1.0278881e+11
A16: 11 | B16: Тайлант үеийн цэвэр ашиг (алдагдал) | C16: 0 | D16: 0 | E16: 0 | F16: 0 | G16: 0 | H16: 0 | I16: 2.4699875e+10 | J16: =SUM(C16:I16) -> 2.4699875e+10 | K16: 2.4645166e+09 | L16: =SUM(J16:K16) -> 2.7164392e+10
A17: 12 | B17: Бусад дэлгэрэнгүй орлого | C17: 0 | D17: 0 | E17: 0 | F17: 0 | G17: 0 | H17: 0 | I17: 0 | J17: =SUM(C17:I17) -> 0 | K17: 0 | L17: =SUM(J17:K17) -> 0
A18: 13 | B18: Өмчид гарсан өөрчлөлт | C18: 0 | D18: -5050065300 | E18: -12624053250 | F18: 0 | G18: 0 | H18: 0 | I18: -3.8302403e+09 | J18: =SUM(C18:I18) -> -2.1504359e+10 | K18: 5.7779451e+09 | L18: =SUM(J18:K18) -> -1.5726414e+10
A19: 14 | B19: Зарласан ногдол ашиг | C19: 0 | D19: 0 | E19: 0 | F19: 0 | G19: 0 | H19: 0 | I19: 0 | J19: =SUM(C19:I19) -> 0 | K19: 0 | L19: =SUM(J19:K19) -> 0
A20: 15 | B20: Дахин үнэлгээний нэмэгдлийн хэрэгжсэн дүн | C20: 0 | D20: 0 | E20: 0 | F20: 0 | G20: 0 | H20: 0 | I20: 0 | J20: =SUM(C20:I20) -> 0 | K20: 0 | L20: =SUM(J20:K20) -> 0
A21: 16 | B21: 2025 оны 12 -р сарын 31-ний үлдэгдэл | C21: =SUM(C15:C20) -> 111425203400 | D21: =SUM(D15:D20) -> -5050065300 | E21: =SUM(E15:E20) -> 3.3133863e+10 | F21: =SUM(F15:F20) -> 0 | G21: =SUM(G15:G20) -> 0 | H21: =SUM(H15:H20) -> 3.1873089e+08 | I21: =SUM(I15:I20) -> -4.2716785e+10 | J21: =SUM(J15:J20) -> 9.7110947e+10 | ... L21: =SUM(L15:L20) -> 1.1422679e+11
C24: Захирал ______________________ / Г.Чинзориг /
C26: Нягтлан бодогч ______________________ / С.Оюунжаргал /
C31: 0 | D31: 0 | E31: 0 | F31: 0 | G31: 0 | H31: 0 | I31: 0 | J31: 0.0040588379 | K31: 0 | L31: 0.0040283203

Sheet CF
A1: НЭГТГЭСЭН МӨНГӨН ГҮЙЛГЭЭНИЙ ТАЙЛАН
A2: =BS!A2 -> " Премиум Нэксус " ХК | E2: 2025 оны 12-р сарын 31-ний өдөр
A3: =BS!A3 -> (Аж ахуйн нэгжийн нэр) | E3: =BS!D3 -> /төгрөгөөр/
A4: Мөрийн дугаар | B4: ҮЗҮҮЛЭЛТ | D4: =BS!C4 -> 2024 оны 12-р сарын 31 | E4: =BS!D4 -> 2025 оны 12-р сарын 31
A5: 1 | B5: Үндсэн үйл ажиллагааны мөнгөн гүйлгээ
A6: 1.1 | B6: Мөнгөн орлогын дүн (+) | D6: =SUM(D7:D12) -> 6.9856438e+11 | E6: =SUM(E7:E12) -> 9.1539261e+11
A7: 1.1.1 | C7: Бараа борлуулсан, үйлчилгээ үзүүлсний орлого | D7: 6.7881145e+11 | E7: 8.8758089e+11
A8: 1.1.2 | C8: Эрхийн шимтгэл, хураамж, төлбөрийн орлого | D8: 2.8250417e+09 | E8: 2.0832147e+09
A9: 1.1.3 | C9: Даатгалын нөхвөрөөс хүлээн авсан мөнгө | D9: 51854316 | E9: 1.5562306e+08
A10: 1.1.4 | C10: Буцаан авсан албан татвар | D10: 17337578 | E10: 0
A11: 1.1.5 | C11: Татаас, санхүүжилтийн орлого | D11: 0 | E11: 0
A12: 1.1.6 | C12: Бусад мөнгөн орлого | D12: 1.6858694e+10 | E12: 2.5572889e+10
A13: 1.2 | B13: Мөнгөн зарлагын дүн (-) | D13: =SUM(D14:D22) -> 6.4409136e+11 | E13: =SUM(E14:E22) -> 8.3739122e+11
A14: 1.2.1 | C14: Ажиллагчдад төлсөн | D14: 4.7848101e+10 | E14: 7.6083182e+10
A15: 1.2.2 | C15: Нийгмийн даатгалын байгууллагад төлсөн | D15: 1.4183565e+10 | E15: 2.1741591e+10
A16: 1.2.3 | C16: Бараа материал худалдан авахад төлсөн | D16: 4.3186246e+11 | E16: 4.9285259e+11
A17: 1.2.4 | C17: Ашиглалтын зардалд төлсөн | D17: 1.2793652e+10 | E17: 2.1251016e+10
A18: 1.2.5 | C18: Түлш шатахуун, тээврийн хөлс, сэлбэг хэрэгсэлд төлсөн | D18: 1.5829175e+10 | E18: 5.9901052e+10
A19: 1.2.6 | C19: Хүүний төлбөрт төлсөн | D19: 2.0094638e+10 | E19: 2.0942802e+10
A20: 1.2.7 | C20: Татварын байгууллагад төлсөн | D20: 2.5882888e+10 | E20: 4.4192232e+10
A21: 1.2.8 | C21: Даатгалын төлбөрт төлсөн | D21: 4.4949876e+08 | E21: 7.3366338e+08
A22: 1.2.9 | C22: Бусад мөнгөн зарлага | D22: 7.5147379e+10 | E22: 9.9693087e+10
A23: 1.3 | B23: Үндсэн үйл ажиллагааны цэвэр мөнгөн гүйлгээний дүн | D23: =D6-D13 -> 5.4473027e+10 | E23: =E6-E13 -> 7.8001394e+10
A24: 2 | B24: Хөрөнгө оруулалтын үйл ажиллагааны мөнгөн гүйлгээ
A25: 2.1 | B25: Мөнгөн орлогын дүн (+) | D25: =SUM(D26:D33) -> 5.1653959e+09 | E25: =SUM(E26:E33) -> 1.6556562e+09
A26: 2.1.1 | C26: Үндсэн хөрөнгө борлуулсны орлого | D26: 1.1698458e+09 | E26: 4.3587129e+08
A27: 2.1.2 | C27: Биет бус хөрөнгө борлуулсны орлого | D27: 0 | E27: 0
A28: 2.1.3 | C28: Хөрөнгө оруулалт борлуулсны орлого | D28: 1.0343816e+09 | E28: 0
A29: 2.1.4 | C29: Бусад урт хугацаат хөрөнгө борлуулсны орлого | D29: 725815 | E29: 0
A30: 2.1.5 | C30: Бусдад олгосон зээл, мөнгөн урьдчилгааны буцаан төлөлт | D30: 2818645000 | E30: 0
A31: 2.1.6 | C31: Хүлээн авсан хүүгийн орлого | D31: 1.4179769e+08 | E31: 1.4585885e+08
A32: 2.1.7 | C32: Хүлээн авсан ногдол ашиг | D32: 0 | E32: 0
A33: 2.1.8 | C33: Бусад мөнгөн орлого | D33: 0 | E33: 1.073926e+09
A34: 2.2 | B34: Мөнгөн зарлагын дүн (-) | D34: =SUM(D35:D40) -> 3.818273e+10 | E34: =SUM(E35:E40) -> 1.1143901e+11
A35: 2.2.1 | C35: Үндсэн хөрөнгө олж эзэмшихэд төлсөн | D35: 36332729000 | E35: 8.0633838e+10
A36: 2.2.2 | C36: Биет бус хөрөнгө олж эзэмшихэд төлсөн | D36: 1.821912e+09 | E36: 2.3178764e+09
A37: 2.2.3 | C37: Хөрөнгө оруулалт олж эзэмшихэд төлсөн | D37: 6559023.2 | E37: 1.8279594e+10
A38: 2.2.4 | C38: Бусад урт хугацаат хөрөнгө олж эзэмшихэд төлсөн | D38: 21529611 | E38: 1.0207702e+10
A39: 2.2.5 | C39: Бусдад олгосон зээл болон урьдчилгаа | D39: 0 | E39: -1.0728836e-06
A40: 2.2.6 | C40: Бусад мөнгөн зарлага | D40: 0 | E40: 0
A41: 2.3 | B41: Хөрөнгө оруулалтын үйл ажиллагааны цэвэр мөнгөн гүйлгээний дүн | D41: =D25-D34 -> -3.3017334e+10 | E41: =E25-E34 -> -1.0978335e+11
A42: 3 | B42: Санхүүгийн үйл ажиллагааны мөнгөн гүйлгээ
A43: 3.1 | B43: Мөнгөн орлогын дүн (+) | D43: =SUM(D44:D47) -> 6.5738764e+10 | E43: =SUM(E44:E47) -> 5.8452347e+11
A44: 3.1.1 | C44: Зээл авсан, өрийн үнэт цаас гаргаснаас хүлээн авсан | D44: 6.3371715e+10 | E44: 5.8452347e+11
A45: 3.1.2 | C45: Хувьцаа болон бусад үнэт цаас гаргаснаас хүлээн авсан | D45: 2.367049e+09 | E45: 0
A46: 3.1.3 | C46: Төрөл бүрийн хандив | D46: 0 | E46: 0
A47: 3.1.4 | C47: ХТ-оор авсан мөнгө | D47: 0 | E47: 0
A48: 3.2 | B48: Мөнгөн зарлагын дүн (-) | D48: =SUM(D49:D53) -> 7.9612262e+10 | E48: =SUM(E49:E53) -> 5.4128292e+11
A49: 3.2.1 | C49: Зээл, өрийн үнэт цаасны төлбөрт төлсөн мөнгө | D49: 6.6526553e+10 | E49: 5.1327136e+11
A50: 3.2.2 | C50: Санхүүгийн түрээсийн өглөгт төлсөн | D50: 1.3085709e+10 | E50: 2.8011565e+10
A51: 3.2.3 | C51: Хувьцаа буцаан худалдаж авахад төлсөн | D51: 0 | E51: 0
A52: 3.2.4 | C52: Төлсөн ногдол ашиг | D52: 0 | E52: 0
A53: 3.2.5 | C53: ХТ-оор төлсөн мөнгө | D53: 0 | E53: 0
A54: 3.3 | B54: Санхүүгийн үйл ажиллагааны цэвэр мөнгөн гүйлгээний дүн | D54: =D43-D48 -> -1.3873498e+10 | E54: =E43-E48 -> 4.324055e+10
A55: 4 | B55: Мөнгө, түүнтэй адилтгах хөрөнгийн гадаад валютын ханшийн зөрүү | D55: -1.3124858e+08 | E55: -1.5825014e+08
A56: 4.1 | B56: Бүх цэвэр мөнгөн гүйлгээ | D56: =SUM(D23,D41,D54,D55) -> 7.4509463e+09 | E56: =SUM(E23,E41,E54,E55) -> 1.130034e+10
A57: 5 | B57: Мөнгө, түүнтэй адилтгах хөрөнгийн эхний үлдэгдэл | D57: 2.9805849e+09 | E57: 1.0431531e+10
A58: 6 | B58: Мөнгө, түүнтэй адилтгах хөрөнгийн эцсийн үлдэгдэл | D58: =D56+D57 -> 1.0431531e+10 | E58: =E56+E57 -> 2.1731871e+10
D59: =D58-BS!C7 -> 0.0029945374 | E59: =E58-BS!D7 -> 0.0042304993
B60: Захирал ______________________ / Г.Чинзориг /
B62: Нягтлан бодогч ______________________ / С.Оюунжаргал /
