Workbook
Name button15: #REF!

Sheet nuur
M1: Сангийн сайдын 2017 оны 361 дугаар тушаалын 2 дугаар хавсралт
A5: Регистрийн дугаар: | D5: 2 | E5: 0 | F5: 3 | G5: 8 | H5: 2 | I5: 8 | J5: 5
A6: Хаяг: | B6: ХУД, 13-р хороо, Туул тосгон, Өөрийн байр
A7: Шуудангийн хаяг: | R7: =+D21 -> "БӨХӨГ" ХК-ИЙН
A8: Утас: | B8: 99108484 | H8: Факс: | R8: 2026 ОНЫ 02 -Р УЛИРЛЫН САНХҮҮГИЙН ТАЙЛАНГИЙН
A9: Өмчийн хэлбэр: | E9: Төрийн | I9: хувь | K9: хувийн | L9: 100 | M9: хувь | R9: БОДИТ БАЙДЛЫН ТУХАЙ МЭДЭГДЭЛ
V12: 2026 оны 07 сарын 21 өдөр
R14: Çàõèðàë Ц.ГАНЦЭЦЭГ , åðºíõèé íÿãòëàí áîäîã÷ Ж.ЭНХБАТ áèä ìàíàé àæ àõóéí íýãæèéí 2026 ÎÍÛ 06 ÑÀÐÛÍ 30-ны ºäðººð òàñàëáàð áîëãîí ãàðãàñàí ñàíõ¿¿ãèéí òàéëàíä òàéëàíò õóãàöààíû ¿éë àæèëëàãààíû ¿ð дүн, ñàíõ¿¿ãèéí áàéäëûã ''Íÿãòëàí áîäîõ á¿ðòãýëèéí òóõàé'' õóóëèéí 17.1 äýõ çààëòûí äàãóó ¿íýí çºâ , á¿ðýí òóñãàñàí áîëîõûã áàòàëæ áàéíà. ¯¿íä :
B19: Б
R20: 1 | S20: Á¿õ àæèë ã¿éëãýý áîäèòîîð ãàðñàí áºãººä õîëáîãäîõ àíõàí øàòíû áàðèìòûã ¿íäýñëýí
D21: "БӨХӨГ" ХК-ИЙН | S21: íÿãòëàí áîäîõ á¿ðòãýë , ñàíõ¿¿ãèéí òàéëàíä ¿íýí çºâ òóñãàñàí
E23: 2026 ОНЫ 2-Р УЛИРЛЫН | R23: 2 | S23: Ñàíõ¿¿ãèéí òàéëàíä òóñãàãäñàí á¿õ á¿õ òîîöîîëîë ¿íýí õèéãäñýí
E24: САНХҮҮГИЙН ТАЙЛАН
R25: 3 | S25: Àæ àõóéí íýãæèéí ¿éë àæèëëàãààíû ýäèéí çàñàã , ñàíõ¿¿ãèéí á¿õèé ë ¿éë ÿâöûã èæ
S26: á¿ðýí õàìàðñàí
R28: 4 | S28: Òàéëàíò ¿åèéí ¿ð ä¿íä ºìíºõ îíû àæèë ã¿éëãýýíýýñ øèëæèí òóñãàãäààã¿é , ìºí òàéëàíò
S29: îíû àæèë ã¿éëãýýíýýñ îðõèãäñîí ç¿éë áàéõã¿é
R31: 5 | S31: Á¿õ õºðºíãº , àâëàãà , ºð òºëáºð , îðëîãî , çàðäëûã Ñàíõ¿¿ãèéí òàéëàãíàëûí îëîí
S32: óëñûí ñòàíäàðòûí äàãóó ¿íýí çºâ òóñãàñàí
R34: 6 | S34: Ýíý òàéëàíä òóñãàãäñàí á¿õèé ë ç¿éë ìàíàé áàéãóóëëàãûí àëáàí ¸ñíû ºì÷ëºëä áàéäàã
S35: áºãººä îðõèãäñîí ç¿éë ¿ã¿é áîëíî.
T40: Захирал____________________ / Ц.ГАНЦЭЦЭГ /
B41: Хянаж х¿ëýýí àâñàí áàéãóóëëàãûí íýð | L41: Ñàð, ºäºð | N41: Ãàðûí ¿ñýã
B42: САНХҮҮ ТӨРИЙН САНГИЙН ХЭЛТЭС | T42: Ерөнхий нягтлан бодогч________________ / Ж.ЭНХБАТ /

Sheet balance
H1: 0
B2: САНХҮҮГИЙН БАЙДЛЫН ТАЙЛАН
A4: "БӨХӨГ" ХК | C4: 2026 оны 06 сарын 30 өдөр
A5: /Àæ àõóéí íýãæ, байгууллагын нэр/
D6: 0
A8: Мөрийн дугаар | B8: ÁÀËÀÍÑÛÍ Ç¯ÉË | C8: ¯ëäýãäýë
C9: 1-р сарын 1 | D9: 06-р сарын 30
A11: А | B11: Б | C11: 1 | D11: 2
A12: 1 | B12: ÕªÐªÍÃª | C12: * | D12: *
A13: 1.1 | B13: Ýðãýëòèéí õºðºíãº | C13: * | D13: *
A14: 1.1.1 | B14: Мөнгө ба түүнтэй адилтгах хөрөнгө | C14: 14035602 | D14: =12222551.54+65050.6 -> 12287602 | F14: 570000 | J14: 2070000
A15: 1.1.2 | B15: Дансны авлага | C15: 60690800 | D15: 62510800 | F15: 0 | J15: 0
A16: 1.1.3 | B16: Татвар, НДШ-ийн авлага | F16: 0 | J16: 0
A17: 1.1.4 | B17: Бусад авлага | D17: 27272.73 | F17: -244000 | J17: 256000
A18: 1.1.5 | B18: Бусад санхүүгийн хөрөнгө | F18: 0 | J18: 0
A19: 1.1.6 | B19: Бараа материал | C19: 141057100 | D19: 141057100 | F19: 0 | J19: 0
A20: 1.1.7 | B20: Урьдчилж төлсөн зардал/тооцоо | C20: 766278400 | D20: 766278400 | F20: 402000 | G20: 158000 | J20: 622000
A21: 1.1.8 | B21: Бусад үндсэн хөрөнгө | F21: 0 | J21: 0
A22: 1.1.9 | B22: Борлуулах зорилгоор эзэмшиж буй эргэлтийн бус хөрөнгө (борлуулах бүлэг хөрөнгө) | F22: 0 | J22: 420000
A23: 1.1.10 | F23: 0 | J23: 0
B24: Ýðãýëòèéí õºðºíãèéí ä¿í | C24: =SUM(C14:C23) -> 9.820619e+08 | D24: =SUM(D14:D23) -> 9.8216117e+08 | J24: 3368000
A25: 1.2 | B25: Ýðãýëòèéí áóñ õºðºíãº | J25: *
A26: 1.2.1 | B26: Үндсэн хөрөнгө | C26: 193217800 | D26: 193217800 | F26: 360000 | J26: 360000
A27: 1.2.2 | B27: Биет бус хөрөнгө | F27: 0 | J27: 0
A28: 1.2.3 | B28: Биологийн хөрөнгө | F28: 0 | J28: 0
A29: 1.2.4 | B29: Урт хугацаат хөрөнгө оруулалт | F29: 0 | J29: 0
A30: 1.2.5 | B30: Хайгуул ба үнэлгээний хөрөнгө | F30: 0 | J30: 0
A31: 1.2.6 | B31: Хойшлогдсон татварын хөрөнгө | F31: 0 | J31: 0
A32: 1.2.7 | B32: Хөрөнгө оруулалтын зориулалттай үл хөдлөх хөрөнгө | J32: 0
A33: 1.2.8 | B33: Бусад эргэлтийн бус хөрөнгө | C33: 2172793000 | D33: 2172793000 | J33: 0
A34: 1.2.9 | C34: 0 | D34: 0 | J34: 0
A35: 1.2.10 | B35: Ýðãýëòèéí áóñ õºðºíãèéí ä¿í | C35: =SUM(C26:C34) -> 2366010800 | D35: =SUM(D26:D34) -> 2366010800 | J35: 360000
A36: 1.3 | B36: ÍÈÉÒ ÕªÐªÍÃÈÉÍ Ä¯Í | C36: =+C35+C24 -> 3.3480727e+09 | D36: =+D35+D24 -> 3.348172e+09 | J36: 3728000
J37: 0
A38: 2 | B38: ªÐ ÒªËÁªÐ ÁÀ ÝÇÝÌØÈÃ×ÄÈÉÍ ªÌ× | J38: *
A39: 2.1 | B39: ӨР ТӨЛБӨР | J39: *
A40: 2.1.1 | B40: Áîãèíî õóãàöààò ºð òºëáºð | J40: *
A41: 2.1.1.1 | B41: Дансны өглөг | C41: 708911278 | D41: 708911278 | J41: 726000
A42: 2.1.1.2 | B42: Цалингийн өглөг | C42: 26090600 | D42: 26090600 | J42: 0
A43: 2.1.1.3 | B43: Татварын өр /ХАОАТ, Татварын акт/ | C43: 1.8265179e+08 | D43: 1.8311309e+08 | J43: 0
A44: 2.1.1.4 | B44: НДШ-ийн өглөг | D44: 1000000 | J44: 0
A45: 2.1.1.5 | B45: Богино хугацаат зээл | C45: 79491700 | D45: 79491700 | J45: 0
A46: 2.1.1.6 | B46: Хүүний өглөг | J46: 0
A47: 2.1.1.7 | B47: Ногдол ашгийн өглөг | J47: 0
A48: 2.1.1.8 | B48: Урьдчилж олсон орлого | J48: 0
A49: 2.1.1.9 | B49: Нөөц /өр төлбөр/ | J49: 1200000
A50: 2.1.1.10 | B50: Богино хугацаат өр төлбөр | C50: 833724400 | D50: 833724400 | J50: 0
A51: 2.1.1.11 | B51: Борлуулах зорилгоор эзэмшиж буй эргэлтийн бус хөрөнгө (борлуулах бүлэг хөрөнгө)- нд хамаарах өр төлбөр | J51: 0
A52: 2.1.1.12
A53: 2.1.1.13 | B53: Áîãèíî õóãàöààò ºð төлбөрèéí ä¿í | C53: =SUM(C41:C52) -> 1.8308698e+09 | D53: =SUM(D41:D52) -> 1.8323311e+09 | F53: 546000 | J53: 1926000
A54: 2.1.2 | B54: Óðò õóãàöààò ºð òºëáºð
A55: 2.1.2.1 | B55: Урт хугацаат зээл | J55: 0
A56: 2.1.2.2 | B56: Нөөц /өр төлбөр/ | J56: 0
A57: 2.1.2.3 | B57: Хойшлогдсон татварын өр | J57: 0
A58: 2.1.2.4 | B58: Бусад урт хугацаат өр төлбөр | J58: 0
A59: 2.1.2.5
A60: 2.1.2.6 | B60: Óðò õóãàöààò ºð төлбөрèéí ä¿í | C60: =SUM(C55:C59) -> 0 | D60: =SUM(D55:D59) -> 0 | F60: 0 | J60: 0
A61: 2.1.2.10 | B61: ªð òºëáºðèéí íèéò ä¿í | C61: =C53+C60 -> 1.8308698e+09 | D61: =D53+D60 -> 1.8323311e+09 | F61: -546000 | J61: 1926000
A62: 2.3 | B62: 2. Ýçýìøèã÷èéí ºì÷ | J62: *
A63: 2.3.1 | B63: ªì÷: -төрийн | J63: *
A64: 2.3.2 | B64: - хувийн | J64: 0
A65: 2.3.3 | B65: - хувьцаат | C65: 45729300 | D65: 1588160200 | J65: 1260000
A66: 2.3.4 | B66: Халаасны хувьцаа | J66: 0
A67: 2.3.5 | B67: Нэмж төлөгдсөн капитал | J67: 1260000
A68: 2.3.6 | B68: Хөрөнгийн дахин үнэлгээний нэмэгдэл | F68: 0 | J68: 0
A69: 2.3.7 | B69: Гадаад валютын хөрвүүлэлтийн нөөц | J69: 0
A70: 2.3.8 | B70: Эздийн өмч бусад хэсэг | C70: 1962373300 | D70: 419942400 | J70: 0
A71: 2.3.9 | B71: Õóðèìòëàãäñàí àøèã: | C71: -4.9089966e+08 | D71: =+C71+OUDT!E56 -> -4.9226169e+08 | F71: 542000 | J71: 0
A72: 2.3.10
A73: 2.3.11 | B73: Ýçдèéí ºì÷èéí ä¿í | C73: =SUM(C63:C72) -> 1.5172029e+09 | D73: =SUM(D63:D72) -> 1.5158409e+09 | J73: 0
A74: 2.4 | B74: ӨР ТӨЛБӨР БА ЭЗДИЙН ӨМЧИЙН ДҮН | C74: =+C61+C73 -> 3.3480727e+09 | D74: =+D61+D73 -> 3.348172e+09
C75: =+C74-C36 -> 0.0036001205 | D75: =+D74-D36 -> 0.0036001205
B80: =nuur!T40 -> Захирал____________________ / Ц.ГАНЦЭЦЭГ /
B82: =nuur!T42 -> Ерөнхий нягтлан бодогч________________ / Ж.ЭНХБАТ /

Sheet OUDT
C1: ÎÐËÎÃÛÍ ДЭЛГЭРЭНГҮЙ ÒÀÉËÀÍ | K1: 1
B3: =balance!A4 -> "БӨХӨГ" ХК
B4: /Àæ àõóéí íýãæ, байгууллагын нэр/ | E4: =balance!C4 -> 2026 оны 06 сарын 30 өдөр
E6: 0 | L6: ҮАЗ
B8: Мөрийн дугаар | C8: Үзүүлэлт | D8: Тайлант үеийн дүн | G8: 1-ð óëèðàëä ¿ëäýãä îðóóëàõã¿é. | J8: Тайлангийн өмнөх үе | K8: Тайлант үе | L8: Тайлангийн өмнөх үе | M8: Тайлант үе | N8: 2008 îíû Ñ2 îðóóëíà.
B10: 1 | C10: Борлуулалтын орлого (цэвэр) | E10: 7200000
A11: Шүүлт | B11: 2 | C11: Борлуулалтын өртөг | G11: 0 | N11: 0
A12: Шүүлт | B12: 3 | C12: Íèéò àøèã /алдагдал/ | E12: =+E10-E11 -> 7200000 | G12: 0 | J12: #REF! | K12: 100 | L12: #REF! | N12: 0
B13: 4 | C13: Түрээсийн орлого
B14: 5 | C14: Хүүний орлого
B15: 6 | C15: Ногдол ашгийн орлого
B16: 7 | C16: Эрхийн шимтгэлийн орлого
B17: 8 | C17: Бусад орлого
B18: 9 | C18: Борлуулалт, маркетингийн зардал
B19: 10 | C19: Ерөнхий ба удирдлагын зардал | E19: 8562027.3
B20: 11 | C20: Санхүүгийн зардал
B21: 12 | C21: Бусад зардал
B22: 13 | C22: Гадаад валютын ханшийн зөрүүний олз (гарз)
B23: 14 | C23: Үндсэн хөрөнгө данснаас хассаны олз (гарз)
B24: 15 | C24: Биет бус хөрөнгө данснаас хассаны олз (гарз)
B25: 16 | C25: Хөрөнгө оруулалт борлуулснаас үүссэн олз (гарз)
B26: 17 | C26: Бусад ашиг (алдагдал)
B27: 18 | C27: Татвар төлөхийн өмнөх ашиг (алдагдал) | E27: =+E12+E13+E14+E15+E16+E17-E18-E19-E20-E21+E22-E23-E24-E25-E26 -> -1362027.3
B28: 19 | C28: Орлогын татварын зардал
B29: 20 | C29: Татварын дараах ашиг (алдагдал) | E29: =+E27-E28 -> -1362027.3
B30: 21 | C30: Цалин хөлс, шагнал | G30: 0 | J30: #REF! | K30: 0 | L30: #REF! | M30: 0 | N30: 0
B31: 22 | C31: Нийгмийн даатгалын шимтгэл | G31: 0 | J31: #REF! | K31: 0 | L31: #REF! | M31: 0 | N31: 0
B32: 23 | C32: Удирдлагын зардал | G32: 0 | J32: #REF! | K32: 0 | L32: #REF! | M32: 0 | N32: 0
B33: 24 | C33: Бичиг хэргийн зардал | G33: 0 | J33: #REF! | K33: 0 | L33: #REF! | M33: 0 | N33: 0
B34: 25 | C34: Урсгал засварын зардал | G34: 0 | J34: #REF! | K34: 0 | L34: #REF! | M34: 0 | N34: 0
B35: 26 | C35: Үйлчилгээний зардал | G35: 0 | J35: #REF! | K35: 0 | L35: #REF! | M35: 0 | N35: 0
A36: Шүүлт | B36: 27 | C36: Ашиглалтын зардал | G36: 0 | J36: #REF! | K36: 0.41958042 | L36: #REF! | M36: 1.734104 | N36: 0
B37: 28 | C37: Түрээсийн зардал | G37: 0 | J37: #REF! | K37: 0 | L37: #REF! | M37: 0 | N37: 0
B38: 29 | C38: Томилолтын зардал | G38: 0 | J38: #REF! | K38: 0 | L38: #REF! | M38: 0 | N38: 0
B39: 30 | C39: Хангамжын материалын зардал | G39: 0 | J39: #REF! | K39: 0 | L39: #REF! | M39: 0 | N39: 0
B40: 31 | C40: Элэгдлийн зардал | G40: 0 | J40: #REF! | K40: 0 | L40: #REF! | M40: 0 | N40: 0
A41: Шүүлт | B41: 32 | C41: Зар сурталчилгаа | G41: 0 | J41: #REF! | K41: 16.783217 | L41: #REF! | M41: 69.364162 | N41: 0
A42: Шүүлт | B42: 33 | C42: Шуудан холбооны зардал | G42: 0 | J42: #REF! | K42: 6.993007 | L42: #REF! | M42: 28.901734 | N42: 0
B43: 34 | C43: Тээврийн зардал | G43: 0 | J43: #REF! | K43: 0 | L43: #REF! | M43: 0 | N43: 0
B44: 35 | C44: Хүүгийн зардал | G44: 0 | J44: #REF! | K44: 0 | L44: #REF! | M44: 0 | N44: 0
B45: 36 | C45: Түүхий эд материалын зардал | G45: 0 | J45: #REF! | K45: 0 | L45: #REF! | M45: 0 | N45: 0
B46: 37 | C46: Борлуулалтын зардал | G46: 0 | J46: #REF! | K46: 0 | L46: #REF! | M46: 0 | N46: 0
B47: 38 | C47: Бусдаар гүйцэт-сэн ажлын хөлс /Суутган-1/ | G47: 0 | J47: #REF! | K47: 0 | L47: #REF! | M47: 0 | N47: 0
B48: 39 | C48: Шатахууны зардал | G48: 0 | J48: #REF! | K48: 0 | L48: #REF! | M48: 0 | N48: 0
B49: 40 | C49: Сургалтын зардал | G49: 0 | J49: #REF! | K49: 0 | L49: #REF! | M49: 0 | N49: 0
B50: 41 | C50: Даатгалын зардал | G50: 0 | J50: #REF! | K50: 0 | L50: #REF! | M50: 0 | N50: 0
B51: 42 | C51: Найдваргүй авлагын зардал | G51: 0 | J51: #REF! | K51: 0 | L51: #REF! | M51: 0 | N51: 0
B52: 43 | C52: Банкны шимтгэлийн зардал | G52: 0 | J52: #REF! | K52: 0 | L52: #REF! | M52: 0 | N52: 0
B53: 44 | C53: Гаалийн татварын зардал | G53: 0 | J53: #REF! | K53: 0 | L53: #REF! | M53: 0 | N53: 0
B54: 45 | C54: Бусад зардал | G54: 0 | J54: #REF! | K54: 0 | L54: #REF! | M54: 0 | N54: 0
A55: Шүүлт | B55: =+B29+1 -> 21 | C55: Зогсоосон үйл ажиллагааны татварын дараах ашиг (алдагдал) | G55: 0 | J55: #REF! | K55: 24.195804 | N55: 0
A56: Шүүлт | B56: =+B55+1 -> 22 | C56: Тайлант үеийн цэвэр ашиг /алдагдал/ | E56: =+E29+E55 -> -1362027.3 | G56: 0 | J56: #REF! | K56: 75.804196 | L56: #REF! | N56: 0
A57: Шүүлт | B57: =+B56+1 -> 23 | C57: Бусад дэлгэрэнгүй орлого | E57: =SUM(E58:E60) -> 0 | J57: #REF! | K57: 0
C58: Хөрөнгийн дахин үнэлгээний нэмэгдлийн зөрүү | G58: 0 | J58: #REF! | K58: 0 | N58: 0
C59: Гадаад валютын хөрвүүлэлтийн зөрүү | G59: 0 | J59: #REF! | K59: 0 | N59: 0
C60: Бусад олз (гарз) | G60: 0 | J60: #REF! | K60: 0 | N60: 0
B61: 24 | C61: Орлогын нийт дүн | E61: =+E56+E57 -> -1362027.3 | G61: 0 | J61: #REF! | K61: 0 | N61: 0
B62: =+B61+1 -> 25 | C62: Нэгж хувьцаанд ногдох суурь ашиг /алдагдал/ | J62: #REF! | K62: 0
C67: =balance!B80 -> Захирал____________________ / Ц.ГАНЦЭЦЭГ /
C69: =balance!B82 -> Ерөнхий нягтлан бодогч________________ / Ж.ЭНХБАТ /

Sheet UUT
D3: ªÌ×ÈÉÍ ªªÐ×ËªËÒÈÉÍ ÒÀÉËÀÍ
B5: =balance!C4 -> 2026 оны 06 сарын 30 өдөр
C6: =balance!A4 -> "БӨХӨГ" ХК
C7: Àæ àõóéí íýãæèéí íýð
K8: 0
B9: ¹ | C9: ¯Ç¯¯ËÝËÒ | D9: Өмч | E9: Халаасны хувьцаа | F9: Нэмж төлөгдсөн капитал | G9: Хөрөнгийн дàõèí ¿íýëãýýíèé нэмэгдэл | H9: Гадаад валютын хөрвүүлэлтийн нөөц | I9: Эзний өмчийн бусад хэсэг | J9: Õóðèìòëàãäñàí àøèã | K9: Нийт дүн
B10: 1 | C10: 2025 оны 12 сарын 31 үлдэгдэл | D10: 45729300 | E10: 0 | F10: 0 | G10: 0 | H10: 0 | I10: 1962373300 | J10: -4.9089966e+08 | K10: =SUM(D10:J10) -> 1.5172029e+09
B11: 2 | C11: Нягтлан бодох б¿ðòãýëèéí áîäëîãûí ººð÷ëºëòийн нөлөө, алдааны залруулга | K11: =SUM(D11:J11) -> 0
B12: 3 | C12: Çàëðóóëñàí ¿ëäýãäýë | D12: =+D10+D11 -> 45729300 | E12: =+E10+E11 -> 0 | F12: =+F10+F11 -> 0 | G12: =+G10+G11 -> 0 | H12: =+H10+H11 -> 0 | I12: =+I10+I11 -> 1962373300 | J12: =+J10+J11 -> -4.9089966e+08 | K12: =SUM(D12:J12) -> 1.5172029e+09
B13: 4 | C13: Òàéëàíò ¿åèéí öýâýð àøèã | J13: =+OUDT!E56 -> -1362027.3 | K13: =SUM(D13:J13) -> -1362027.3
B14: 5 | C14: Бусад дэлгэрэнгүй орлого | K14: =SUM(D14:J14) -> 0
B15: 6 | C15: Өмчид гарсан өөрчлөлт | K15: =SUM(D15:J15) -> 0
B16: 7 | C16: Зарласан ногдол ашиг | K16: =SUM(D16:J16) -> 0
B17: 8 | C17: Дахин үнэлгээний нэмэгдлийн хэрэгжсэн дүн | K17: =SUM(D17:J17) -> 0
B18: 9 | C18: =+balance!C4 -> 2026 оны 06 сарын 30 өдөр | D18: =SUM(D12:D17) -> 45729300 | E18: =SUM(E12:E17) -> 0 | F18: =SUM(F12:F17) -> 0 | G18: =SUM(G12:G17) -> 0 | H18: =SUM(H12:H17) -> 0 | I18: =SUM(I12:I17) -> 1962373300 | J18: =SUM(J12:J17) -> -4.9226169e+08 | K18: =SUM(K12:K17) -> 1.5158409e+09
K19: =+K18-balance!D73 -> 0
K22: 0
D25: =balance!B80 -> Захирал____________________ / Ц.ГАНЦЭЦЭГ /
D27: =balance!B82 -> Ерөнхий нягтлан бодогч________________ / Ж.ЭНХБАТ /

Sheet MGT
A2: МӨНГӨН ГҮЙЛГЭЭНИЙ ТАЙЛАН
B4: =balance!A4 -> "БӨХӨГ" ХК | C4: =balance!C4 -> 2026 оны 06 сарын 30 өдөр
B5: Àæ àõóéí íýãæèéí íýð
C6: 0
A7: Ìºðèéí äóãààð | B7: ¯Ç¯¯ËÝËÒ | C7: Тайлант хугацааны дүн /Өссөн/
A9: 1 | B9: ¯íäñýí ¿éë àæèëëàãààíû ìºíãºí ã¿éëãýý
A10: 1.1. | B10: Мºíãºí îðëîãын дүн (+) | C10: =SUM(C11:C16) -> 6600000
B11: Áараа борлуулсан, үйлчилгээ үзүүлсний орлого | C11: 6600000
B12: Эрхийн шимтгэл, хураамж, төлбөрийн орлого
B13: Даатгалын нөхвөрөөс хүлээн авсан мөнгө
B14: Буцаан авсан албан татвар
B15: Татаас, санхүүжилтийн орлого
B16: Бусад мөнгөн орлого
A17: 1.2 | B17: Мөнгөн зарлагын дүн (-) | C17: =SUM(C18:C26) -> 8348000
B18: Ажилчдад төлсөн | C18: 3492968
B19: Нийгмийн даатгалын байгууллагад төлсөн | C19: 640480
B20: Бараа материал худалдан авахад төлсөн | C20: 500000
B21: Ашиглалтын зардалд төлсөн | C21: 600000
B22: Түлш, шатахуун, тээврийн хөлс, сэлбэг хэрэгсэлд төлсөн
B23: Хүүний төлбөрт төлсөн
B24: Татварын байгууллагад төлсөн | C24: 312552
B25: Даатгалын төлбөрт төлсөн
B26: Бусад мөнгөн зарлага | C26: 2802000
A27: 1.3 | B27: ¯íäñýí ¿éë àæèëëàãààíû öýâýð ìºíãºí ã¿éëãýýíèé ä¿í | C27: =+C10-C17 -> -1748000
A28: 2 | B28: Õºðºíãº îðóóëàëòûí ¿éë àæèëëàãààíû ìºíãºí ã¿éëãýý
B29: Мºíãºí îðëîãын дүн (+) | C29: =SUM(C30:C37) -> 0
B30: Үндсэн хөрөнгө борлуулсны орлого
B31: Биет бус хөрөнгө борлуулсны орлого
B32: Хөрөнгө оруулалт борлуулсны орлого
B33: Бусад урт хугацаат хөрөнгө борлуулсны орлого
B34: Бусдад олгосон зээл, мөнгөн урьдчилгааны буцаан төлөлт
B35: Хүлээн авсан хүүний орлого
B36: Хүлээн авсан ногдол ашиг
A38: 2.2 | B38: Мөнгөн зарлагын дүн (-) | C38: =SUM(C39:C44) -> 0
B39: Үндсэн хөрөнгө олж эзэмшихэд төлсөн мөнгө
B40: Биет бус хөрөнгө олж эзэмшихэд төлсөн мөнгө
B41: Хөрөнгө оруулалт олж эзэмшихэд төлсөн мөнгө
B42: Бусад урт хугацаат хөрөнгө олж эзэмшихэд төлсөн мөнгө
B43: Бусдад олгосон зээл болон урьдчилгаа
A45: 2.3 | B45: Хөрөнгө оруулалтын үйл ажиллагааны цэвэр мөнгөн гүйлгээ | C45: =+C29-C38 -> 0
A46: 3 | B46: Санхүүгийн үйл ажиллагааны мөнгөн гүйлгээний дүн
A47: 3.1 | B47: Мºíãºí îðëîãын дүн (+) | C47: =SUM(C48:C51) -> 0
B48: Зээл авсан, өрийн үнэт цаас гаргаснаас хүлээн авсан
B49: Хувьцаа болон өмчийн бусад үнэт цаас гаргаснаас хүлээн авсан
B50: Төрөл бүрийн хандив
A52: 3.2 | B52: Мөнгөн зарлагын дүн (-) | C52: =SUM(C53:C57) -> 0
B53: Зээл, өрийн үнэт цаасны төлбөрт төлсөн мөнгө
B54: Санхүүгийн түрээсийн өглөгт төлсөн
B55: Хувьцаа буцаан авахад төлсөн
B56: Төлсөн ногдол ашиг
A58: 3.3 | B58: Ñàíõ¿¿ãèéí ¿éë àæèëëàãààíû öýâýð ìºíãºí ã¿éëãýýíèé ä¿í | C58: =+C47-C52 -> 0
A59: 4 | B59: Валютын ханшийн зөрүү | C59: =+OUDT!E22 -> 0
A60: 5 | B60: Á¿õ öýâýð ìºíãºí ã¿éëãýý | C60: =+C27+C45+C58+C59 -> -1748000
A61: 6 | B61: Ìºíãº, ò¿¿íòýé àäèëòãàõ õºðºíãèéí ýõíèé ¿ëäýãäýë | C61: =+balance!C14 -> 14035602
A62: 7 | B62: Ìºíãº, ò¿¿íòýé àäèëòãàõ õºðºíãèéí ýöñèéí ¿ëäýãäýë | C62: =+balance!D14 -> 12287602
C63: =+C62-C61-C60 -> -1.8626451e-09
B65: =balance!B80 -> Захирал____________________ / Ц.ГАНЦЭЦЭГ /
B67: =balance!B82 -> Ерөнхий нягтлан бодогч________________ / Ж.ЭНХБАТ /
B72: Дансны нэрс | C72: ДТ
B73: Мөнгө ба түүнтэй адилтгах хөрөнгө | C73: 959000 | G73: DT | H73: KT
B74: Богино хугацаат хөрөнгө оруулалт | C74: 0 | F74: Мөнгө ба түүнтэй адилтгах хөрөнгө | G74: 959000 | H74: #VALUE!
B75: Үнэлгээний хасагдуулга | C75: 0 | F75: Мөнгө ба түүнтэй адилтгах хөрөнгө | G75: 0 | H75: 0
B76: Дансны авлага | C76: 0 | D76: Өгсөн зээл | F76: Мөнгө ба түүнтэй адилтгах хөрөнгө | G76: 0 | H76: 0
B77: Найдваргүй авлагын нөөц | C77: 0 | F77: Мөнгө ба түүнтэй адилтгах хөрөнгө | G77: 0 | H77: 0
B78: Бусад авлага | C78: 0 | D78: Өгсөн зээл | F78: Мөнгө ба түүнтэй адилтгах хөрөнгө | G78: 0 | H78: 0
B79: Бараа материал | C79: 266000 | F79: Мөнгө ба түүнтэй адилтгах хөрөнгө | G79: 0 | H79: 0
B80: Мал амьтад /эргэлтийн/ | C80: 0 | F80: Богино хугацаат хөрөнгө оруулалт | G80: 0 | H80: 0
B81: Урьдчилж төлсөн зардал/тооцоо | C81: 0 | F81: Дансны авлага | G81: 0 | H81: 500000
B82: Урьдчилж төлсөн тооцоо | C82: 0 | F82: Дансны авлага | G82: 0 | H82: 0
B83: 0 | C83: 0 | F83: Дансны авлага | G83: 0 | H83: 0
B84: Үндсэн хөрөнгө | C84: 0 | D84: Õóäàëäñàí óðò õóãàöààò õºðºíãèéí îðëîãî | F84: Найдваргүй авлагын нөөц | G84: 0 | H84: 0
B85: Хуримтлагдсан элэгдэл. | C85: 0 | F85: Дансны авлага | G85: 0 | H85: 0
B86: Бусад үндсэн хөрөнгө | C86: 0 | F86: Бусад авлага | G86: 0 | H86: 0
B87: Хуримтлагдсан элэгдэл. БУХ | C87: 0 | F87: Дансны авлага | G87: 0 | H87: 0
B88: Дуусаагүй барилга | C88: 0 | F88: Дансны авлага | G88: 0 | H88: 0
B89: Мал амьтан /Эргэлтийн бус/ | C89: 0 | F89: Бараа материал | G89: 130000 | H89: 0
B90: Биет бус хөрөнгө | C90: 0 | F90: Бараа материал | G90: 0 | H90: 0
B91: Хөрөнгө оруулалт ба бусад хөрөнгө | C91: 0 | F91: Бараа материал | G91: 0 | H91: 0
B92: Үнэлгээний хасагдуулга | C92: 0 | F92: Бараа материал | G92: 0 | H92: 0
B93: 0 | C93: 0 | F93: Бараа материал | G93: 136000 | H93: 0
B94: Дансны өглөг | C94: #VALUE! | D94: Байгууллага хувь хүнээс авсан зээл | F94: Мал амьтад /эргэлтийн/ | G94: 0 | H94: 0
B95: Цалингийн өглөг | C95: 0 | F95: Бараа материал | G95: 0 | H95: 0
B96: Орлогын татварын өглөг | C96: 0 | F96: Урьдчилж төлсөн зардал/тооцоо | G96: 0 | H96: 0
B97: ХАОАТ-ын өглөг | C97: 0 | F97: Урьдчилж төлсөн тооцоо | G97: 0 | H97: 0
B98: НӨАТ-ын өглөг | C98: 0 | F98: Үндсэн хөрөнгө | G98: 0 | H98: 0
B99: Бусад татварын өглөг | C99: 0 | F99: Үндсэн хөрөнгө | G99: 0 | H99: 0
B100: ЭМНД-ийн шимтгэлийн өглөг | C100: 0 | F100: Хуримтлагдсан элэгдэл. | G100: 0 | H100: 0
B101: Ногдол ашгийн өглөг | C101: 0 | F101: Үндсэн хөрөнгө | G101: 0 | H101: 0
B102: Банкны богино хугацаат зээл | C102: 0 | F102: Хуримтлагдсан элэгдэл. | G102: 0 | H102: 0
B103: Бусад өглөг | C103: 0 | D103: Байгууллага хувь хүнээс авсан зээл | F103: Үндсэн хөрөнгө | G103: 0 | H103: 0
B104: Урьдчилж орсон орлого | C104: 0 | D104: Байгууллага хувь хүнээс авсан зээл | F104: Хуримтлагдсан элэгдэл. | G104: 0 | H104: 0
B105: Урт хугацаатай зээлийн хүү | C105: 0 | D105: Байгууллага хувь хүнээс авсан зээл | F105: Бусад үндсэн хөрөнгө | G105: 0 | H105: 0
B106: Урт хугацаат зээл | C106: 0 | D106: Áàíêíààñ àâñàí çýýë | F106: Хуримтлагдсан элэгдэл. БУХ | G106: 0 | H106: 0
B107: Урт хугацаат бондын өглөг | C107: 0 | D107: Áàíêíààñ àâñàí çýýë | F107: Дуусаагүй барилга | G107: 0 | H107: 0
B108: Бусад урт хугацаат өглөг | C108: 0 | D108: Áàíêíààñ àâñàí çýýë | F108: Мал амьтан /Эргэлтийн бус/ | G108: 0 | H108: 0
C109: 0 | F109: Биет бус хөрөнгө | G109: 0 | H109: 0
B110: Төрийн өмч | C110: 0 | F110: Биет бус хөрөнгө | G110: 0 | H110: 0
B111: Хувийн өмч | C111: 0 | F111: Биет бус хөрөнгө | G111: 0 | H111: 0
B112: Халаасны хувьцаа | C112: 0 | F112: Дансны өглөг | G112: #VALUE! | H112: 0
B113: Дахин үнэлгээний нөөц | C113: 0 | F113: НӨАТ-ын өглөг | G113: 0 | H113: 0
...

Sheet todruulga
A1: САНХҮҮГИЙН ТАЙЛАНГИЙН ТОДРУУЛГА
A4: /Àæ àõóé íýãæ áàéãóóëëàãûí íýð/ | H4: 2011 оны 12 сарын 31
A6: 1.ÒАНИЛЦУУЛГА
A8: 1 | B8: Áàéøèë
A10: 2 | B10: Øóóäàíãèéí õàÿã: | C10: 0 | F10: Óòàñ: | G10: 0 | I10: Ôàêñ:
A12: 3 | B12: ªì÷èéí õýëáýð: | C12: Òºðèéí | E12: õóâü | G12: Õóâèéí | I12: õóâü
A14: 4 | B14: ¯éë àæèëëàãàà ÿâóóëæ ýõýëñýí îãíîî
A16: 5 | B16: Õàðèëöäàã ñàíõ¿¿, òàòâàðûí áàéãóóëëàãà:
A18: 6 | B18: ¯éë àæèëëàãààíû ¿íäñýí ÷èãëýë /òºðºë/ :
B20: à/
B21: á/
B22: â/
A24: 7 | B24: Òóñëàõ ¿éë àæèëëàãààíû /òºðºë/:
B26: à/
B27: á/
B28: â/
B29: ã/
B30: ä/
A32: 8 | B32: Ñàëáàð òºëººëºã÷èéí ãàçðûí íýð áàéðøèë:
B34: à/
B35: á/
B36: â/
B37: ã/
A39: 9 | B39: Ã¿éöýòãýõ çàõèðàë /çàõèðàë/:
B41: Îâîã: | F41: Óòàñ:
B42: Íýð: | C42: М. Мандал | F42: Ôàêñ:
B43: E-mail õàÿã:
A45: 10 | B45: Åðºíõèé íÿãòëàí áîäîã÷:
B47: Îâîã: | F47: Óòàñ:
B48: Íýð: | C48: Тайван | F48: Ôàêñ:
B49: E-mail õàÿã:
A51: 2. НЯГТЛАН БОДОХ БҮРТГЭЛИЙН БОДЛОГО
A52: Монгол улсын татварын хуулийн дагуу НББОУС-ын дагуу аккурэль сууриар санхүүгийн тайлан гарсан болно.
A54: Санхүүгийн тайлангаа доорх дарааллын дагуу гаргасан
A55: Ерөнхий журнал хөтлөх
A56: Ерөнхий дэвтэр хөтлөх
A57: Ажлын хүснэгт бэлтгэх
A58: Санхүүгийн үндсэн 4-н тайлан гаргах
A92: 3. МӨНГӨ БА ТҮҮНТЭЙ АДИЛТГАХ ХӨРӨНГӨ
A94: Êàññ äàõü ìºíãº | H94: (Òºãðºã/âàëþò)
A96: ¹ | B96: Òºðºë | F96: Ýõíèé ¿ëäýãäýë | H96: Ýöñèéí ¿ëäýãäýë
F97: Âàëþòààð | G97: Òºãðºãººð | H97: Âàëþòààð | I97: Òºãðºãººð
A98: 1 | B98: Төгрөгийн касс-КассТ
A99: 2 | B99: Долларын касс-КассД
A100: 3 | B100: Хаан банк-Хаан
A101: 4 | B101: ХХБ-ХХБ Т
A102: 5 | B102: Голомт-Голомт$
B103: Ä¿í
A105: Áàíêèí äàõü ìºíãº | H105: (Òºãðºã/âàëþò)
A107: ¹ | B107: Òºðºë | F107: Ýõíèé ¿ëäýãäýë | H107: Ýöñèéí ¿ëäýãäýë
F108: Âàëþòààð | G108: Òºãðºãººð | H108: Âàëþòààð | I108: Òºãðºãººð
A109: 1 | B109: Хас банк-Голомт
A110: 2 | B110: Бусад татварын өглөг-бтө
A111: 3 | B111: Хөрөнгө оруулалт ба бусад хөрөнгө-123
A112: 4 | B112: -
A113: 5 | B113: -
A114: 6 | B114: -
B116: Ä¿í | F116: 0 | G116: 0 | H116: 0 | I116: 0
A118: Жич: Банкны данс дахь барьцаалсан буюу хязгаарласан мөнгөн хөрөнгийн талаар тусгай хавсралтаар тодруулга хийнэ.
A120: 4. БОГИНО ХУГАЦААТ ХӨРӨНГӨ ОРУУЛАЛТ
A122: Õºðºíãº îðóóëàëòûí òºðºë | F122: Ýõíèé ¿ëäýãäýë | H122: Ýöñèéí ¿ëäýãäýë
A126: ДҮН | F126: 0 | H126: 0
A128: 5. АВЛАГА
A130: Äàíñíû àâëàãà
A132: ¹ | B132: Àâëàãûí àíãèëàë | F132: Ýõíèé ¿ëäýãäýë | H132: Ýöñèéí ¿ëäýãäýë
A133: 1 | B133: Äàíñíû àâëàãà. ¯¿íýýñ | F133: 0 | H133: 0
B134: Òºëºãäºõ õóãàöààíäàà áàéãàà
B135: Õóãàöàà õýòýðñýí
B136: Òºëºãäºõ íàéäâàðã¿é
A137: 2 | B137: Õàñàõ íü: Íàéäâàðã¿é àâëàãûí õàñàãäóóëãà | F137: 0 | H137: 0
A138: 3 | B138: Äàíñíû àâëàãà /öýâýð/ | F138: 0 | H138: 0
A140: Áóñàä àâëàãà / àâëàãûí òºðëººð íü àíãèëíà/
A142: ¹ | B142: Àâëàãûí àíãèëàë | F142: Ýõíèé ¿ëäýãäýë | H142: Ýöñèéí ¿ëäýãäýë
A143: 1 | B143: Õîëáîîòîé òàëààñ àâàõ àâëàãà
A144: 2 | B144: Õàðààò êîìïàíèàñ àâàõ àâëàãà
A145: 3 | B145: Òàòâàðûí àâëàãà
B147: Ä¿í
A149: Óðüä÷èëãàà òºëáºð¿¿ä
A151: ¹ | B151: Óðüä÷èëãàà òºëáºðèéí àíãèëàë | F151: Ýõíèé ¿ëäýãäýë | H151: Ýöñèéí ¿ëäýãäýë
A152: 1 | B152: Áýëòãýí íèéë¿¿ëýã÷äýä òºëñºí óðüä÷èëãàà
A153: 2 | B153: Óðüä÷èëæ òºëñºí çàðäàë
A154: 3 | B154: Óðüä÷èëæ òºëñºí ò¿ðýýñ
B156: Ä¿í
A159: 6. БАРАА МАТЕРИАЛ
A161: Áàðàà ìàòåðèàëûí òºðºë, áàéðøèë /ºðòãººð/ | F161: Ýõíèé ¿ëäýãäýë | H161: Ýöñèéí ¿ëäýãäýë
A162: Түүхий эд материал-ТЭМ
A163: Дуусаагүй үйлдвэрлэл-ДҮ
A164: Бэлэн бүтээгдэхүүн-ББ
A165: Хагас боловсруулсан бүтээгдэхүүн-ХББ
A166: Хангамжын материал-ХМ
A167: -
A168: -
A170: Íèéò ä¿í
A172: ¯íý öýíý íü áóóðñàí áàðàà ìàòåðèàëûí æàãñààëò:
A174: ¹ | B174: Íýð òºðºë | D174: Äàíñíû ¿íý | F174: Áóóðñàí ¿íý | H174: Òàéëáàð
B179: Ä¿í | D179: 0 | F179: 0 | H179: 0
A181: Æè÷: Áàðüöààëñàí áóþó áóñäûí ºì÷ëºëèéí ýñâýë áóñäûí àãóóëàõàä õàäãàëàãäàæ áóé áàðàà ìàòåðèàëûí òàëààð òóñãàé õàâñðàëòààð òîäðóóëãà õèéíý.
A184: 7. ДУУСААГҮЙ БАРИЛГА
A186: Äóóñààã¿é áàðèëãûí íýð | D186: Ýõýëñýí îí | E186: Äóóñãàëòûí õóâü | G186: Íèéò òºñºâò ºðòºã | H186: Àøèãëàëòàíä îðîõ ýöñèéí õóãàöàà
A192: ДҮН | D192: 0 | E192: 0 | G192: 0 | H192: 0
...
