Workbook
Name __USD1: 1179
Name __USD2: 1220
Name _CMX4: '[10]Contribution Margin'!$G$20
Name _USD1: 1195
Name _USD2: 1220
Name A: #REF!
Name à140: [13]Mate_beer!$F$194,[13]Mate_beer!$F$213
Name À151: [14]vodka!$E$158
Name àà40: '[15]Perf_III ul'!$D$65
Name AB: #REF!
Name AccDep1Q: [10]Capital!$B$23
Name AccDep2Q: [10]Capital!$C$23
Name AccDep3Q: [10]Capital!$D$23
Name AccDep4Q: [10]Capital!$E$23
Name AccumulatedDepreciation: '[16]1h 2003'!#REF!
Name AccumulatedDepreciation1H2003: '[16]1h 2003'!#REF!
Name Actmonth: '[17]Data Set'!$D$11
Name Actyear: '[17]Data Set'!$D$12
Name AddAP1Q: '[10]Inventory and Purchases'!$B$21
Name AddAP2Q: '[10]Inventory and Purchases'!$C$21
Name AddAP3Q: '[10]Inventory and Purchases'!$D$21
Name AddAP4Q: '[10]Inventory and Purchases'!$E$21
Name AddAPX4: '[10]Inventory and Purchases'!$G$21
Name AddAR1Q: '[10]Sales and Collections'!$B$22
Name AddAR2Q: '[10]Sales and Collections'!$C$22
Name AddAR3Q: '[10]Sales and Collections'!$D$22
Name AddAR4Q: '[10]Sales and Collections'!$E$22
Name AddARX4: '[10]Sales and Collections'!$G$22
Name æ423: #REF!
Name Amino: 187640
Name Ammortization: [18]Workings_updated!$I$370:$S$370
Name AP1H2003: '[16]1h 2003'!$C$33
Name APCf: [16]Workings!$C$152:$K$152
Name APDoHIn: '[19]Input APU&APU TRADING 2005-2012'!#REF!
Name APHist: '[16]2001&2002'!$D$32
Name APUTradingassetsBf: #REF!
Name APUTradingassetsCapex: #REF!
Name APUTradingassetsCf: #REF!
Name APUTradingCapex: #REF!
Name APUTradingCapexLCU: #REF!
Name APUTradingCapexUSDin: #REF!
Name AR1H2003: '[16]1h 2003'!$C$8
Name arate13: [20]FX!$B$2
Name arate14: [20]FX!$B$3
Name arate18CNY: [21]FXrate18!$G$2
Name arate18EUR: [21]FXrate18!$C$2
Name arate18RUB: [21]FXrate18!$F$2
Name arate18USD: [21]FXrate18!$B$2
Name arate19: [22]FXrate19!$B$2
Name ARCf: [16]Workings!$C$147:$K$147
Name ARDoHIn: '[19]Input APU&APU TRADING 2005-2012'!#REF!
Name ARHist: '[16]2001&2002'!$D$7
Name ARPUTable: [23]Sensitivities!$F$15:$M$17
Name as: [24]limit1!#REF!
Name asd: #REF!
Name ATEBIT1Q: '[10]Free Cash Flows'!$B$7
Name ATEBIT2Q: '[10]Free Cash Flows'!$C$7
Name ATEBIT3Q: '[10]Free Cash Flows'!$D$7
Name ATEBIT4Q: '[10]Free Cash Flows'!$E$7
Name ATEBITX4: '[10]Free Cash Flows'!$G$7

Sheet Nuur
K1: Сангийн сайдын 2017 оны 12 дугаар сарын 14-ны өдрийн 361 тоот тушаалын 2 дугаар хавсралт
A7: Байгууллагын регистр | B7: 2 | C7: 7 | D7: 0 | E7: 2 | F7: 6 | G7: 7 | H7: 3
A9: Хаяг: | C9: УБ хот,ХУД Чингисийн өргөн чөлөө-14, АПУ ХК-ийн байр
A11: Шуудангийн хаяг: | C11: Улаанбаатар-36
A13: Утас: | C13: 11 342419 | I13: Факс: | J13: 11 343063
A15: Өмчийн хэлбэр: | C15: Төрийн.......хувь | J15: Хувийн..100....хувь
A28: АПУ ХК-ийн
A30: 2025 оны 4-р улирлын
A32: Нэгтгэсэн санхүүгийн тайлан
A33: (аудитлагдаагүй)
A48: Хянаж хүлээн авсан байгууллагын нэр | J48: Сар, өдөр | K48: Гарын үсэг

Sheet Medegdel
A4: АПУ ХК-ийн 2025 оны 4-р улирлын
A5: нэгтгэсэн санхүүгийн тайлангийн
A6: бодит байдлын тухай мэдэгдэл
A7: =+Nuur!A33 -> (аудитлагдаагүй)
A9: 2025 оны 12 сарын 31 өдөр
A12: Гүйцэтгэх захирал Цэвээнжав овогтой Эрдэнэбилэг, Санхүү эрхэлсэн захирал Гончиг овогтой Энхбилэг бид манай аж ахуйн нэгжийн 2025 оны 12 сарын 31-ны өдрөөр тасалбар болгон гаргасан нэгтгэсэн санхүүгийн тайланд тайлант хугацааны үйл ажиллагааны үр дүн, санхүүгийн байдлыг “Нягтлан бодох бүртгэлийн тухай” хуулийн 17.1 дэх заалтын дагуу үнэн зөв, бүрэн тусгасан болохыг баталж байна. Үүнд:
A14: 1. Бүх ажил гүйлгээ бодитоор гарсан бөгөөд холбогдох анхан шатны баримтыг үндэслэн нягтлан бодох бүртгэл, санхүүгийн тайланд үнэн зөв тусгасан
A15: 3. Аж ахуйн нэгжийн үйл ажиллагааны эдийн засаг, санхүүгийн бүхий л үйл явцыг иж бүрэн хамарсан
A16: 4. Тайлант үеийн үр дүнд өмнөх оны ажил гүйлгээнээс шилжин тусгагдаагүй, мөн тайлант оны ажил гүйлгээнээс орхигдсон зүйл байхгүй
A17: 5. Бүх хөрөнгө, авлага, өр төлбөр, орлого, зардлыг холбогдох Санхүүгийн тайлагналын олон улсын стандартын дагуу үнэн зөв тусгасан
A18: 6. Энэ тайланд тусгагдсан бүхий л зүйл манай байгууллагын албан ёсны өмчлөлд байдаг бөгөөд орхигдсон зүйл үгүй болно.
A24: ГҮЙЦЭТГЭХ ЗАХИРАЛ Ц.ЭРДЭНЭБИЛЭГ
A26: САНХҮҮ ЭРХЭЛСЭН ЗАХИРАЛ Г.ЭНХБИЛЭГ

Sheet BS
A1: АПУ ХК
A2: Нэгтгэсэн санхүү байдлын тайлан
A3: =+Nuur!A33 -> (аудитлагдаагүй)
D4: Тайлант үе: | E4: 2025.01.01-2025.12.31
A6: /төгрөгөөр/
A7: Мөрийн дугаар | B7: Балансын зүйл | D7: Эхний үлдэгдэл | E7: Эцсийн үлдэгдэл
A8: 1 | B8: ХӨРӨНГӨ
A9: 1.1 | B9: Эргэлтийн хөрөнгө
A10: 1.1.1 | B10: Мөнгө түүнтэй адилтгах хөрөнгө | D10: 92974324000 | E10: 1.0897208e+11
A11: 1.1.2 | B11: Дансны авлага | D11: 74494188000 | E11: 8.419704e+10
A12: 1.1.3 | B12: Татвар, НДШ-ийн авлага | D12: 16398831000 | E12: 2.4098131e+10
A13: 1.1.4 | B13: Бусад авлага | D13: 30263127000 | E13: 2.0095126e+10
A14: 1.1.5 | B14: Бусад санхүүгийн хөрөнгө | D14: 0 | E14: 0
A15: 1.1.6 | B15: Бараа материал | D15: 206905017000 | E15: 1.7411856e+11
A16: 1.1.7 | B16: Урьдчилж төлсөн зардал тооцоо | D16: 38116101000 | E16: 1.75515e+10
A17: 1.1.8 | B17: Бусад эргэлтийн хөрөнгө | D17: 0 | E17: 0
A18: 1.1.9 | B18: Борлуулах зорилгоор эзэмшиж буй эргэлтийн бус хөрөнгө (борлуулах бүлэг хөрөнгө) | D18: 411000000 | E18: 216000000
A19: 1.1.20 | B19: Эргэлтийн хөрөнгийн дүн | D19: =+SUM(D10:D18) -> 459562588000 | E19: =+SUM(E10:E18) -> 4.2924843e+11
A20: 1.2 | B20: Эргэлтийн бус хөрөнгө
A21: 1.2.1 | B21: Үндсэн хөрөнгө | D21: 535762942000 | E21: 5.236442e+11
A22: 1.2.2 | B22: Биет бус хөрөнгө | D22: 52915709000 | E22: 3.7411364e+10
A23: 1.2.3 | B23: Биологийн хөрөнгө | D23: 628447000 | E23: 3.6800164e+08
A24: 1.2.4 | B24: Урт хугацаат хөрөнгө оруулалт | D24: 0 | E24: 2.6695913e+10
A25: 1.2.5 | B25: Хайгуул ба үнэлгээний хөрөнгө | D25: 0 | E25: 0
A26: 1.2.6 | B26: Хойшлогдсон татварын хөрөнгө | D26: 3342666000 | E26: 3.3455491e+09
A27: 1.2.7 | B27: Хөрөнгө орлуулалтын зориулалттай үл хөдлөх хөрөнгө | D27: 0 | E27: 0
A28: 1.2.8 | B28: Бусад эргэлтийн бус хөрөнгө | D28: 10875584000 | E28: 4.5017976e+10
A29: 1.2.9 | B29: Гүүдвилл | D29: 15468093000 | E29: 15468093000
A30: 1.2.20 | B30: Эргэлтийн бус хөрөнгийн дүн | D30: =+SUM(D21:D29) -> 618993441000 | E30: =+SUM(E21:E29) -> 6.5195109e+11
A31: 1.3 | B31: НИЙТ ХӨРӨНГИЙН ДҮН | D31: =+D30+D19 -> 1078556029000 | E31: =+E30+E19 -> 1.0811995e+12
A32: 2 | B32: ӨР ТӨЛБӨР БА ЭЗДИЙН ӨМЧ
A33: 2.1 | B33: ӨР ТӨЛБӨР
A34: 2.1.1 | B34: Богино хугацаат өр төлбөр
A35: 2.1.1.1 | B35: Дансны өглөг | D35: 51714438000 | E35: 1.7207781e+10
A36: 2.1.1.2 | B36: Цалингийн өглөг | D36: 2.2078333e+09 | E36: 0
A37: 2.1.1.3 | B37: Татварын өр | D37: 16418658000 | E37: 6.2220849e+09
A38: 2.1.1.4 | B38: НДШ-ийн өглөг | D38: 15946133 | E38: 0
A39: 2.1.1.5 | B39: Богино хугацаат зээл | D39: 22504787000 | E39: 6.5146667e+09
A40: 2.1.1.6 | B40: Хүүний өглөг | D40: 2.1427184e+09 | E40: 4.1593184e+09
A41: 2.1.1.7 | B41: Ногдол ашгийн өглөг | D41: 2000329000 | E41: 2672261569
A42: 2.1.1.8 | B42: Урьдчилж орсон орлого | D42: 0 | E42: 1.3297879e+09
A43: 2.1.1.9 | B43: Нөөц / өр төлбөр / | D43: 1.4169521e+10 | E43: 9.5178292e+09
A44: 2.1.1.10 | B44: Бусад богино хугацаат өр төлбөр | D44: 3.8513017e+10 | E44: 3.4657867e+10
A45: 2.1.1.11 | B45: Борлуулах зорилгоор эзэмшиж буй эргэлтийн бус хөрөнгө ( борлуулах бүлэг хөрөнгө )- нд хамаарах өр төлбөр | D45: 0
A46: 2.1.1.20 | B46: Богино хугацаат өр төлбөрийн дүн | D46: =SUM(D35:D45) -> 1.4968725e+11 | E46: =SUM(E35:E45) -> 8.2281597e+10
A47: 2.1.2 | B47: Урт хугацаат өр төлбөр
A48: 2.1.2.1 | B48: Урт хугацаат зээл | D48: 61383927000 | E48: 1.1732626e+11
A49: 2.1.2.2 | B49: Нөөц / өр төлбөр/ | D49: 1308825000 | E49: 1.6721195e+09
A50: 2.1.2.3 | B50: Хойшлогдсон татварын өр | D50: 25484784000 | E50: 2.1278685e+10
A51: 2.1.2.4 | B51: Бусад урт хугацаат өр төлбөр | D51: 45691653000 | E51: 7.4863366e+09
A52: 2.1.2.20 | B52: Урт хугацаат өр төлбөрийн дүн | D52: =SUM(D48:D51) -> 133869189000 | E52: =SUM(E48:E51) -> 1.477634e+11
A53: 2.2 | B53: Өр төлбөрийн нийт дүн | D53: =+D52+D46 -> 2.8355644e+11 | E53: =+E52+E46 -> 2.30045e+11
A54: 2.3 | B54: Эздийн өмч
A55: 2.3.1 | B55: Төрийн өмч | D55: 0 | E55: 0
A56: 2.3.2 | B56: Хувийн өмч | D56: 106418200 | E56: 106418200
A57: 2.3.3 | B57: Хувьцаат өр төлбөр | D57: 0 | E57: 0
A58: 2.3.4 | B58: Халаасны хувьцаа | D58: 0 | E58: 0
A59: 2.3.5 | B59: Нэмж төлөгдсөн капитал | D59: 2.2664695e+11 | E59: 2.2664695e+11
A60: 2.3.6 | B60: Хөрөнгийн дахин үнэлгээний нэмэгдэл | D60: 156572931000 | E60: 1.5510975e+11
A61: 2.3.7 | B61: Гадаад валютын хөрвүүлэлтийн нөөц | D61: -457461000 | E61: 745859829
A62: 2.3.8 | B62: Эздийн өмчийн бусад хэсэг | D62: 0 | E62: 0
A63: 2.3.9 | B63: Хуримтлагдсан ашиг | D63: 392482641000 | E63: =542058342025-73512795648.1 -> 4.6854555e+11
A64: 2.3.11 | B64: Хяналтын эрхгүй хувь оролцоонд ногдох | D64: 19648112000 | E64: 0
A65: 2.3.20 | B65: Эздийн өмчийн дүн | D65: =+SUM(D55:D64) -> 7.9499959e+11 | E65: =+SUM(E55:E64) -> 8.5115453e+11
A66: 2.4 | B66: ӨР ТӨЛБӨР БА ЭЗДИЙН ӨМЧ | D66: =+D53+D65 -> 1078556029000 | E66: =+E53+E65 -> 1.0811995e+12
A70: ГҮЙЦЭТГЭХ ЗАХИРАЛ | C70: ................................. | D70: Ц. ЭРДЭНЭБИЛЭГ
A71: САНХҮҮ ЭРХЭЛСЭН ЗАХИРАЛ | C71: ................................. | D71: Г.ЭНХБИЛЭГ

Sheet IS
A1: АПУ ХК
A3: Нэгтгэсэн орлогын дэлгэрэнгүй тайлан
A4: =+BS!A3 -> (аудитлагдаагүй)
D5: Тайлант үе: | E5: 2025.01.01-2025.12.31
A6: /төгрөгөөр/
A7: Мөрийн дугаар | B7: Үзүүлэлт | D7: Өмнөх оны дүн | E7: Тайлан оны дүн
A8: 1 | B8: Борлуулалтын орлого ( цэвэр ) | D8: 1327522591000 | E8: 1.3188898e+12
A9: 2 | B9: Борлуулалтын өртөг | D9: 680502489000 | E9: 7.4740529e+11
A10: 3 | B10: Нийт ашиг ( алдагдал ) | D10: =+D8-D9 -> 647020102000 | E10: =+E8-E9 -> 5.7148452e+11
A11: 4 | B11: Түрээсийн орлого | D11: 2.3081855e+09 | E11: 7.5005031e+08
A12: 5 | B12: Хүүгийн орлого | D12: 5016464000 | E12: 4.983562e+09
A13: 6 | B13: Ногдол ашгийн орлого | D13: 0 | E13: 0
A14: 7 | B14: Эрхийн шимтгэлийн орлого | D14: 0 | E14: 0
A15: 8 | B15: Бусад орлого | D15: 5.5359275e+09 | E15: 9.1586761e+09
A16: 9 | B16: Борлуулалт, маркетингийн зардал | D16: 2.2027066e+11 | E16: 1.6986282e+11
A17: 10 | B17: Ерөнхий ба удирдлагын зардал | D17: 1.4852761e+11 | E17: 1.240443e+11
A18: 11 | B18: Санхүүгийн зардал | D18: 2.8863488e+10 | E18: 1.0631891e+10
A19: 12 | B19: Бусад зардал | D19: 1.6029321e+10 | E19: 1.5183807e+09
A20: 13 | B20: Гадаад валютын ханшийн зөрүүний олз ( гарз ) | D20: -1.6909453e+09 | E20: 1.4156783e+09
A21: 14 | B21: Үндсэн хөрөнгө данснаас хассаны олз ( гарз ) | D21: -1.5321843e+09 | E21: -4.5506464e+08
A22: 15 | B22: Биет бус хөрөнгө данснаас хассаны олз ( гарз ) | D22: 0 | E22: 0
A23: 16 | B23: Хөрөнгө орлуулалт борлуулсанаас үүссэн олз ( гарз ) | D23: 0 | E23: 0
A24: 17 | B24: Толгой компанид хамаарах хараат компанийн ашиг, алдагдал
A25: 18 | B25: Толгой компанид хамаарах хамтарсан үйлдвэрийн ашиг, алдагдал | E25: -1.9179069e+10
A26: 19 | B26: Бусад ашиг ( алдагдал ) | D26: -1.4477681e+09 | E26: -2.3688364e+08
A27: 20 | B27: Татвар төлөхийн өмнөх ашиг ( алдагдал ) | D27: =+D10+SUM(D11:D15)-SUM(D16:D19)+D21+D20+D23+D22+D24+D25+D26 -> 2.415187e+11 | E27: =+E10+SUM(E11:E15)-SUM(E16:E19)+E21+E20+E23+E22+E24+E25+E26 -> 2.6186408e+11
A28: 21 | B28: Орлогын татварын зардал | D28: 48627848000 | E28: 5.0208163e+10
A29: 22 | B29: Татварын дараах ашиг ( алдагдал ) | D29: =+D27-D28 -> 1.9289085e+11 | E29: =+E27-E28 -> 2.1165592e+11
A30: 23 | B30: Зогсоосон үйл ажиллагааны татварын дараах ашиг ( алдагдал ) | D30: 0 | E30: 0
A31: 24 | B31: Тайлант үеийн цэвэр ашиг ( алдагдал ) | D31: =+D29 -> 1.9289085e+11 | E31: =+E29 -> 2.1165592e+11
A32: 25 | B32: Бусад дэлгэрэнгүй орлого | D32: =SUM(D33:D36) -> -574399000 | E32: =SUM(E33:E36) -> 7.4747171e+08
A33: 25.1 | B33: Хөрөнгийн дахин үнэлгээний нэмэгдэлийн зөрүү | D33: 0
A34: 25.2 | B34: Гадаад валютын хөрвүүлэлтийн зөрүү | D34: -400896000 | E34: 1203320829
A35: 25.3 | B35: Бусад олз ( гарз ) | D35: 0
A36: 25.4 | B36: Ажилчдын тэтгэмжийн дахин хэмжилт | D36: -173503000 | E36: -4.5584912e+08
A37: 26 | B37: Орлогын нийт дүн | D37: =+SUM(D31,D32) -> 1.9231645e+11 | E37: =+SUM(E31,E32) -> 2.1240339e+11
A38: 26.1 | B38: Толгой компанийн хувьцаа эзэмшигчдэд ногдох | D38: =+D31-D39 -> 2.2247427e+11 | E38: =+E31-E39 -> 2.1165592e+11
A39: 26.2 | B39: Хяналтын эрхгүй хувь оролцоонд ногдох | D39: -29583416000 | E39: 0
A40: 27 | B40: Нэгж хувьцаанд ноогдох суурь ашиг ( алдагдал ) | D40: 0 | E40: 0
A43: ГҮЙЦЭТГЭХ ЗАХИРАЛ | C43: ................................. | D43: =+BS!D70 -> Ц. ЭРДЭНЭБИЛЭГ
A44: САНХҮҮ ЭРХЭЛСЭН ЗАХИРАЛ | C44: ................................. | D44: =+BS!D71 -> Г.ЭНХБИЛЭГ

Sheet CF
A1: АПУ ХК
A2: Нэгтгэсэн мөнгөн гүйлгээний тайлан
A3: =+BS!A3 -> (аудитлагдаагүй)
E4: Тайлант үе: | F4: 2025.01.01-2025.12.31
F5: /төгрөгөөр/
A6: Мөрийн дугаар | B6: Үзүүлэлт | E6: Өмнөх оны дүн | F6: Тайлант жилийн дүн
A7: 1 | B7: Үндсэн үйл ажиллагааны мөнгөн гүйлгээ
A8: 1.1 | B8: Мөнгөн орлогын дүн (+) | E8: =SUM(E9:E14) -> 1.6949944e+12 | F8: =SUM(F9:F14) -> 1.4634659e+12
A9: 1.1.1 | B9: Бараа борлуулсан, үйлчилгээ үзүүлсэний орлого | E9: 1.6795333e+12 | F9: 1.4483462e+12
A10: 1.1.2 | B10: Эрхийн шимтгэл, хураамж, төлбөрийн орлого | E10: 0
A11: 1.1.3 | B11: Даатгалын нөхвөрөөс хүлээн авсан мөнгө | E11: 1.317115e+08 | F11: 232124902
A12: 1.1.4 | B12: Буцаан авсан албан татвар | E12: 0 | F12: 1.126725e+08
A13: 1.1.5 | B13: Татаас, санхүүжилтийн орлого | E13: 0
A14: 1.1.6 | B14: Бусад мөнгөн орлого | E14: 1.5329391e+10 | F14: 1.4774923e+10
A15: 1.2 | B15: Мөнгөн зарлагын дүн (-) | E15: =SUM(E16:E24) -> -1.4371425e+12 | F15: =SUM(F16:F24) -> -1.2215855e+12
A16: 1.2.1 | B16: Ажиллагчдад төлсөн | E16: -1.3018935e+11 | F16: -1.1773434e+11
A17: 1.2.2 | B17: Нийгмийн даатгалын байгууллагад төлсөн | E17: -3.9196349e+10 | F17: -3.3347786e+10
A18: 1.2.3 | B18: Бараа материал худалдан авахад төлсөн | E18: -5.675924e+11 | F18: -3.9232627e+11
A19: 1.2.4 | B19: Ашиглалтын зардалд төлсөн | E19: -2.6808904e+10 | F19: -2.039983e+10
A20: 1.2.5 | B20: Түлш, шатахуун, тээврийн хөлс, сэлбэг хэрэгсэлд төлсөн | E20: -3.7112485e+10 | F20: -3.9536561e+10
A21: 1.2.6 | B21: Хүүний төлбөрт төлсөн | E21: -1.864762e+10 | F21: -7.8893688e+09
A22: 1.2.7 | B22: Татварын байгууллагад төлсөн | E22: -4.4092493e+11 | F22: -4.5158363e+11
A23: 1.2.8 | B23: Даатгалын төлбөрт төлсөн | E23: -2.412693e+09 | F23: -3.2276355e+09
A24: 1.2.9 | B24: Бусад мөнгөн зарлага | E24: -1.7425776e+11 | F24: -1.5554005e+11
A25: 1.3 | B25: Үндсэн үйл ажиллагааны цэвэр мөнгөн гүйлгээний дүн | E25: =+E8+E15 -> 2.578519e+11 | F25: =+F8+F15 -> 2.4188046e+11
A26: 2 | B26: Хөрөнгө оруулалтын үйл ажиллагааны мөнгөн гүйлгээ
A27: 2.1 | B27: Мөнгөн орлогын дүн (+) | E27: =SUM(E28:E34) -> 1.6197161e+10 | F27: =SUM(F28:F34) -> 3.1184531e+10
A28: 2.1.1 | B28: Үндсэн хөрөнгө борлуулсаны орлого | E28: 9787479000 | F28: 19729644
A29: 2.1.2 | B29: Биет бус хөрөнгө борлуулсаны орлого
A30: 2.1.3 | B30: Хөрөнгө оруулалт борлуулсаны орлого | F30: 0
A31: 2.1.4 | B31: Бусад урт хугацаат хөрөнгө боруулсаны орлого | F31: 26190213000
A32: 2.1.5 | B32: Бусдад олгосон зээл, мөнгөн урьдчилгааны буцаан төлөлт | F32: 0
A33: 2.1.6 | B33: Хүлээн авсан хүүний орлого | E33: 6.4096817e+09 | F33: 4.9745887e+09
A34: 2.1.7 | B34: Хүлээн авсан ногдол ашиг
A35: 2.2 | B35: Мөнгөн зарлагын дүн (-) | E35: =SUM(E36:E40) -> -134179506000 | F35: =SUM(F36:F40) -> -2.196982e+11
A36: 2.2.1 | B36: Үндсэн хөрөнгө олж эзэмшихэд төлсөн | E36: -112185127000 | F36: -1.6124039e+11
A37: 2.2.2 | B37: Биет бус хөрөнгө олж эзэмшихэд төлсөн | E37: -6894066000 | F37: 0
A38: 2.2.3 | B38: Хөрөнгө оруулалт олж эзэмшихэд төлсөн | E38: 0 | F38: -32563077636
A39: 2.2.4 | B39: Бусад урт хугацаат хөрөнгө олж эзэмшихэд төлсөн | E39: -15100313000 | F39: -25894733000
A40: 2.2.5 | B40: Бусдад олгосон зээл болон урьдчилгаа | E40: 0 | F40: 0
A41: 2.3 | B41: Хөрөнгө оруулалтын үйл ажиллагааны цэвэр мөнгөн гүйлгээний дүн | E41: =+E27+E35 -> -1.1798235e+11 | F41: =+F27+F35 -> -1.8851367e+11
A42: 3 | B42: Санхүүгийн үйл ажиллагааны мөнгөн гүйлгээ
A43: 3.1 | B43: Мөнгөн орлогын дүн (+) | E43: =SUM(E44:E47) -> 1.3712826e+11 | F43: =SUM(F44:F47) -> 2.0637012e+11
A44: 3.1.1 | B44: Зээл авсан, өрийн үнэт цаас гаргаснаас хүлээн авсан | E44: 37230000000 | F44: 1.300464e+11
A45: 3.1.2 | B45: Хувьцаа болон өмчийн бусад үнэт цаас гаргаснаас хүлээн авсан | E45: 27461457000 | F45: 0
A46: 3.1.3 | B46: Төрөл бүрийн хандив
A47: 3.1.4 | B47: Валютын ханшийн тэгшитгэлийн ашиг | E47: 7.2436803e+10 | F47: 7.6323726e+10
A48: 3.2 | B48: Мөнгөн зарлагын дүн (-) | E48: =SUM(E49:E53) -> -3.0617564e+11 | F48: =SUM(F49:F53) -> -2.4373916e+11
A49: 3.2.1 | B49: Зээл, өрийн үнэт цаасны төлбөрт төлсөн | E49: -100905786000 | F49: -2.2708014e+10
A50: 3.2.2 | B50: Санхүүгийн түрээсийн өглөгт төлсөн | E50: -27184209000 | F50: -8063829040
A51: 3.2.3 | B51: Хувьцаа буцаан худалдаж төлсөн
A52: 3.2.4 | B52: Төлсөн ногдол ашиг | E52: -104867660000 | F52: -1.3766847e+11
A53: 3.2.5 | B53: Валютын ханшийн тэгшитгэлийн алдагдал | E53: -7.3217981e+10 | F53: -7.5298846e+10
A54: 3.3 | B54: Санхүүгийн үйл ажиллагааны цэвэр мөнгөн гүйлгээний дүн | E54: =+E43+E48 -> -1.6904738e+11 | F54: =+F43+F48 -> -3.7369036e+10
A55: 4 | B55: Бүх цэвэр мөнгөн гүйлгээ | E55: =+E54+E41+E25 -> -2.9177825e+10 | F55: =+F54+F41+F25 -> 1.5997751e+10
A56: 5 | B56: Мөнгө, түүнтэй адилтгах хөрөнгийн эхний үлдэгдэл | E56: 1.2215215e+11 | F56: =+E57 -> 9.2974324e+10
A57: 6 | B57: Мөнгө, түүнтэй адилтгах хөрөнгийн эцсийн үлдэгдэл | E57: =+E55+E56 -> 9.2974324e+10 | F57: =+F55+F56 -> 1.0897208e+11
A59: ГҮЙЦЭТГЭХ ЗАХИРАЛ | C59: ........................................ | E59: Ц. ЭРДЭНЭБИЛЭГ
A60: САНХҮҮ ЭРХЭЛСЭН ЗАХИРАЛ | C60: ........................................ | E60: Г.ЭНХБИЛЭГ

Sheet Equity
A2: АПУ ХК
A6: Нэгтгэсэн өмчийн өөрчлөлтийн тайлан
A7: =+Nuur!A33 -> (аудитлагдаагүй)
L8: Тайлант үе: 2025.01.01-2025.12.31
M9: /төгрөгөөр/
A10: № | B10: Үзүүлэлт | D10: Өмч | E10: Халаасны хувьцаа | F10: Нэмж төлөгдсөн капитал | G10: Хөрөнгийн дахин үнэлгээний нэмэгдэл | H10: Гадаад валютын хөрвүүлэлтийн нөөц | I10: Эздийн өмчийн бусад хэсэг | J10: Хуримтлагдсан ашиг | K10: Нийт дүн | L10: Хяналтын бус хувь оролцоо | M10: Нийт дүн
A11: 1 | B11: 2023 оны 12-р сарын 31-ээрх үлдэгдэл | D11: 106418200 | E11: 0 | F11: 2.2664695e+11 | G11: 1.5783903e+11 | H11: -56565000 | I11: 0 | J11: 2.7426975e+11 | K11: 6.5880559e+11 | L11: 21770071000 | M11: 6.8057566e+11
A12: 2 | B12: Нягтлан бодох бүртгэлийн бодлогын өөрчлөлтийн нөлөө, алдааны залруулга | J12: 0 | M12: 0
A13: 3 | B13: Залруулсан үлдэгдэл | D13: 106418200 | E13: 0 | F13: 2.2664695e+11 | G13: 1.5783903e+11 | H13: -56565000 | I13: 0 | J13: 2.7426975e+11 | K13: 6.5880559e+11 | L13: 21770071000 | M13: 6.8057566e+11
A14: 4 | B14: Тайлант үеийн цэвэр ашиг ( алдагдал ) | J14: 2.2247427e+11 | K14: 2.2247427e+11 | L14: -29583416000 | M14: 1.9289085e+11
A15: 5 | B15: Бусад дэлгэрэнгүй орлого | H15: -400896000 | I15: 0 | J15: -173503000 | K15: -574399000 | M15: -574399000
A16: 6 | B16: Өмчид гаргасан өөрчлөлт | K16: 0 | L16: 27461457000 | M16: 27461457000
A17: 7 | B17: Зарласан ногдол ашиг | J17: -1.0535397e+11 | K17: -1.0535397e+11 | M17: -1.0535397e+11
A18: 8 | B18: Дахин үнэлгээний нэмэгдлийн хэрэгжсэн дүн | G18: -1.2660949e+09 | J18: 1.2660949e+09 | K18: 0 | M18: 0
A19: 9 | B19: 2024 оны 12-р сарын 31-ээрх үлдэгдэл | D19: 106418200 | E19: 0 | F19: 2.2664695e+11 | G19: 156572931000 | H19: -457461000 | I19: 0 | J19: 392482641000 | K19: 7.7535148e+11 | L19: 19648112000 | M19: 7.9499959e+11
A20: 10 | B20: Нягтлан бодох бүртгэлийн бодлогын өөрчлөлтийн нөлөө, алдааны залруулга | J20: 1.7432567e+09 | K20: =SUM(D20:J20) -> 1.7432567e+09 | L20: -19648112000 | M20: =+K20+L20 -> -1.7904855e+10 | O20: -3.6831321e+08 | Q20: 0 | R20: 0 | S20: 0 | T20: 0 | U20: -368313.21 | V20: 0
A21: 11 | B21: Залруулсан үлдэгдэл | D21: 106418200 | E21: 0 | F21: 2.2664695e+11 | G21: 156572931000 | H21: -457461000 | I21: 0 | J21: =+J19+J20 -> 3.942259e+11 | K21: =SUM(D21:J21) -> 7.7709474e+11 | L21: =L19+L20 -> 0 | M21: =+K21+L21 -> 7.7709474e+11 | O21: 0 | P21: MCS-Ази пасифик ХХК | S21: -21285 | T21: 0
A22: 12 | B22: Тайлант үеийн цэвэр ашиг ( алдагдал ) | J22: =+IS!E38 -> 2.1165592e+11 | K22: =SUM(D22:J22) -> 2.1165592e+11 | L22: =+IS!E39 -> 0 | M22: =+K22+L22 -> 2.1165592e+11 | Q22: 0 | R22: 0 | S22: 0 | T22: 0 | U22: 1.5956047e+08 | V22: -6032824
A23: 13 | B23: Бусад дэлгэрэнгүй орлого | H23: =+IS!E34 -> 1203320829 | I23: 0 | J23: =IS!E36 -> -4.5584912e+08 | K23: =SUM(D23:J23) -> 7.4747171e+08 | M23: =+K23+L23 -> 7.4747171e+08 | O23: 0 | P23: APU Dairy ХХК | Q23: 0 | R23: 0 | S23: 35818.834 | T23: 0 | U23: 0 | V23: 0
A24: 14 | B24: Өмчид гаргасан өөрчлөлт | K24: =SUM(D24:J24) -> 0 | L24: 0 | M24: =+K24+L24 -> 0 | O24: -580116.24 | P24: APU Dairy ХХК | Q24: 0 | R24: 0 | S24: 0 | T24: 0 | U24: 0 | V24: 0
A25: 15 | B25: Зарласан ногдол ашиг | J25: -138343601890 | K25: =SUM(D25:J25) -> -138343601890 | M25: =+K25+L25 -> -138343601890 | O25: -580116.24 | P25: total | Q25: 0 | R25: 0 | S25: 0 | T25: 0 | U25: -1.1001789e+08 | V25: 0
A26: 16 | B26: Дахин үнэлгээний нэмэгдлийн хэрэгжсэн дүн | G26: =-1463179563-1352.38 -> -1.4631809e+09 | J26: 1.4631809e+09 | K26: =SUM(D26:J26) -> 0 | M26: =+K26+L26 -> 0 | Q26: 0 | R26: -403246.86 | S26: 0 | T26: 0 | U26: 403246.86 | V26: 0
A27: 17 | B27: 2025 оны 12-р сарын 31-ээрх үлдэгдэл | D27: 106418200 | E27: =+E21-E24 -> 0 | F27: =+SUM(F21:F26) -> 2.2664695e+11 | G27: =+SUM(G21:G26) -> 1.5510975e+11 | H27: =+SUM(H21:H26) -> 745859829 | I27: =SUM(I21:I26) -> 0 | J27: =SUM(J21:J26) -> 4.6854555e+11 | K27: =SUM(D27:J27)-E27*2 -> 8.5115453e+11 | L27: =SUM(L21:L26) -> 0 | M27: =+K27+L27 -> 8.5115453e+11 | N27: 4.6420269e+10 | Q27: 4.0277885e+08
E31: ГҮЙЦЭТГЭХ ЗАХИРАЛ | G31: ...................................................... | I31: Ц. ЭРДЭНЭБИЛЭГ
E33: САНХҮҮ ЭРХЭЛСЭН ЗАХИРАЛ | G33: ...................................................... | I33: Г.ЭНХБИЛЭГ

Sheet Disclosure 2024
A1: Байгууллагын нэр: АПУ
A2: Регистр: 2702673
B4: 1. Мөнгө түүнтэй адилтгах хөрөнгө
B6: № | C6: Үзүүлэлт | D6: Эхний үлдэгдэл | E6: Эцсийн үлдэгдэл
B7: 1 | C7: Касс дахь мөнгө | D7: 1.8960235e+09 | E7: 3.6621734e+09
B8: 2 | C8: Банкин дахь мөнгө | D8: 1.2025613e+11 | E8: 8.9312151e+10
B9: 3 | C9: Мөнгөтэй адилтгах хөрөнгө | E9: 0
B10: 4 | C10: Нийт дүн | D10: =SUM(D7:D9) -> 122152149000 | E10: =SUM(E7:E9) -> 9.2974324e+10
B11: Тэмдэглэл
B14: 4.1. Дансны авлага
B16: № | C16: Үзүүлэлт | D16: Дансны авлага | E16: Найдваргүй авлагын хасагдуулга | F16: Дансны авлага (цэвэр дүнгээр)
B17: 1 | C17: Эхний үлдэгдэл | D17: 43865544700 | E17: 719617700 | F17: 43145927000
B18: 2 | C18: Нэмэгдсэн | D18: 4.1056016e+11 | E18: 0 | F18: 4.1056016e+11
B19: 3 | C19: Хасагдсан | D19: =SUM(D20:D21) -> 3.7922467e+11 | E19: =SUM(E20:E21) -> 12764302 | F19: =SUM(F20:F21) -> 3.792119e+11
B20: 3.1 | C20: -Төлөгдсөн | D20: 3.7922467e+11 | E20: 12764302 | F20: 3.792119e+11
B21: 3.2 | C21: -Найдваргүй болсон | D21: 0 | E21: 0 | F21: 0
B22: 4 | C22: Эцсийн үлдэгдэл | D22: =+D17+D18-D19 -> 7.5201041e+10 | E22: =+E17+E18-E19 -> 7.068534e+08 | F22: =+F17+F18-F19 -> 74494188000
B25: 4.2. Татвар, НДШ-ийн авлага
B27: № | C27: Үзүүлэлт | D27: Эхний үлдэгдэл | E27: Эцсийн үлдэгдэл
B28: 1 | C28: ААНОАТ-ын авлага | D28: 7.8677032e+09 | E28: 3.7101957e+09
B29: 2 | C29: НӨАТ-ын авлага | D29: 1.0464727e+10 | E29: 8.8222398e+09
B30: 3 | C30: НДШ-ийн авлага | D30: 9979205 | E30: 9229066.3
B31: 4 | C31: Бусад татварын авлага | D31: 4.5155865e+09 | E31: 3.8571664e+09
C32: Нийт дүн | D32: =SUM(D28:D31) -> 22857996000 | E32: =SUM(E28:E31) -> 16398831000
B35: 4.3. Бусад богино хугацаат авлага
B37: № | C37: Үзүүлэлт | D37: Эхний үлдэгдэл | E37: Эцсийн үлдэгдэл
B38: 1 | C38: Холбоотой талаас авах авлагын тайлант хугацаанд хамаарах дүн | D38: 3.2791327e+08 | E38: 20164115
B39: 2 | C39: Ажиллагчдаас авах авлага | D39: 1.3690329e+08 | E39: 7.1536881e+08
B40: 3 | C40: Ноогдол ашгийн авлага | D40: 0 | E40: 0
B41: 4 | C41: Хүүний авлага | D41: 21158220 | E41: 0
B42: 5 | C42: Богино хугацаат авлагын бичиг | D42: 0 | E42: 0
B43: 6 | C43: Бусад талуудаас авах авлага | D43: 3.7323764e+09 | E43: 1.2796184e+10
B44: 7 | C44: Бусад | D44: 6.9176358e+09 | E44: 1.673141e+10
C45: Нийт дүн | D45: =SUM(D38:D44) -> 11135987000 | E45: =SUM(E38:E44) -> 30263127000
B48: 5. Бусад санхүүгийн хөрөнгө
B50: № | C50: Үзүүлэлт | D50: Эхний үлдэгдэл | E50: Эцсийн үлдэгдэл
B51: 1 | C51: Бусад санхүүгийн хөрөнгө | D51: 0 | E51: 0
C52: Нийт дүн | D52: =SUM(D51) -> 0 | E52: =SUM(E51) -> 0
B57: 6. Бараа материал
B59: № | C59: Үзүүлэлт | D59: Түүхий эд материал | E59: Дуусаагүй үйлдвэрлэл | F59: Бэлэн бүтээгдэхүүн | G59: Бараа | H59: Хангамжийн материал | I59: Бусад | J59: Нийт дүн
B60: 1 | C60: Эхний үлдэгдэл (өртгөөр) | D60: 113373219214 | E60: 5439949326 | F60: 9.0622831e+10 | G60: 2.3114211e+09 | H60: 5.0846067e+09 | I60: 4.4831954e+09 | J60: 2.2131522e+11
B61: 2 | C61: Нэмэгдсэн дүн | D61: 2.1956657e+11 | E61: 2.4052067e+11 | F61: 9.7109055e+11 | G61: 2.8643355e+10 | H61: 3.9694893e+10 | I61: 1.432423e+10 | J61: 1.5138403e+12
B62: 3 | C62: Хасагдсан дүн | D62: 2.3029846e+11 | E62: 2.414358e+11 | F62: 9.7829961e+11 | G62: 2.8876035e+10 | H62: 4.0022309e+10 | I62: 8.8434536e+09 | J62: =SUM(D62:I62) -> 1.5277757e+12
B63: 4 | C63: Эцсийн үлдэгдэл (өртгөөр) | D63: 1.0264133e+11 | E63: 4.5248185e+09 | F63: 8.3413776e+10 | G63: 2.0787412e+09 | H63: 4.7571912e+09 | I63: 9.9640145e+09 | J63: =J60+J61-J62 -> 2.0737983e+11
B64: 5 | C64: Үнийн бууралтын гарз (-) | D64: 4.748112e+08 | E64: 0 | F64: 0 | G64: 0 | H64: 0 | I64: 0 | J64: 4.748112e+08
B65: 6 | C65: Үнийн бууралтын буцаалт | D65: 0 | E65: 0 | F65: 0 | G65: 0 | H65: 0 | I65: 0 | J65: 0
B66: 7 | C66: Дансны цэвэр дүн | D66: 1.0216652e+11 | E66: 4.5248185e+09 | F66: 8.3413776e+10 | G66: 2.0787412e+09 | H66: 4.7571912e+09 | I66: 9.9640145e+09 | J66: =J63-J64 -> 2.0690502e+11
B67: 7.1 | C67: Эхний үлдэгдэл | D67: 113373219214 | E67: 5439949326 | F67: 9.0622831e+10 | G67: 2.3114211e+09 | H67: 5.0846067e+09 | I67: 4.4831954e+09 | J67: 2.2131522e+11
B68: 7.2 | C68: Эцсийн үлдэгдэл | D68: 1.0216652e+11 | E68: 4.5248185e+09 | F68: 8.3413776e+10 | G68: 2.0787412e+09 | H68: 4.7571912e+09 | I68: 9.9640145e+09 | J68: =+J66 -> 2.0690502e+11
B69: Тэмдэглэл
B72: 8. Урьдчилж төлсөн зардал/тооцоо
B74: № | C74: Үзүүлэлт | D74: Эцсийн үлдэгдэл | E74: Эцсийн үлдэгдэл
B75: 1 | C75: Урьдчилж төлсөн зардал | D75: 1.9954934e+10 | E75: 2.2824985e+10
B76: 2 | C76: Урьдчилж төлсөн түрээс, даатгал | D76: 6.1020357e+08 | E76: 2.8021127e+08
B77: 3 | C77: Бэлтгэн нийлүүлэгчдэд төлсөн урьдчилгаа төлбөр | D77: 7.2153636e+09 | E77: 1.5010905e+10
B78: 4 | C78: Бусад төрөл | D78: 0 | E78: 0
C79: Нийт дүн | D79: =SUM(D75:D78) -> 27780501000 | E79: =SUM(E75:E78) -> 3.8116101e+10
B84: 9. Үндсэн хөрөнгө
B86: № | C86: Үзүүлэлт | D86: Газрын сайжруулалт | E86: Барилга байгууламж | F86: Машин, тоног | G86: Тээврийн хэрэгсэл | H86: Тавилга эд хогшил | I86: Компьютер, бусад хэрэгсэл | J86: Бусад үндсэн хөрөнгө | K86: Нийт дүн
B87: 1 | C87: ҮНДСЭН ХӨРӨНГӨ /ӨРТӨГ/
B88: 1.1 | C88: Эхний үлдэгдэл | D88: 3.5764752e+10 | E88: 1.4312389e+11 | F88: 1.8477187e+11 | G88: 1.4924269e+10 | H88: 1.4662304e+10 | I88: 1.2225139e+10 | J88: 2.0412809e+11 | K88: 6.096003e+11
B89: 1.2 | C89: Нэмэгдсэн дүн | D89: 635555556 | E89: 4.4440387e+09 | F89: 2.0905868e+10 | G89: 3.7334159e+09 | H89: 1.8078757e+09 | I89: 4.6783451e+09 | J89: 4.9702779e+10 | K89: =SUM(K91:K94) -> 8.5907878e+10
B90: 1.2.1 | C90: Өөрөө үйлдвэрлэсэн | D90: 0 | E90: 0 | F90: 0 | G90: 0 | H90: 0 | I90: 0 | J90: 0 | K90: 0
B91: 1.2.2 | C91: Худалдаж авсан | D91: 635555556 | E91: 4.4440387e+09 | F91: 2.0905868e+10 | G91: 3.7334159e+09 | H91: 1.8078757e+09 | I91: 4.6783451e+09 | J91: 4.4763813e+10 | K91: 8.0968912e+10
B92: 1.2.3 | C92: Үнэ төлбөргүй авсан | D92: 0 | E92: 0 | F92: 0 | G92: 0 | H92: 0 | I92: 0 | J92: 0 | K92: 0
B93: 1.2.4 | C93: Дахин үнэлгээний нэмэгдэл | D93: 0 | E93: 0 | F93: 0 | G93: 0 | H93: 0 | I93: 0 | J93: 0 | K93: 0
B94: 1.2.5 | C94: Бусад | D94: 0 | E94: 0 | F94: 0 | G94: 0 | H94: 0 | I94: 0 | J94: 4.938966e+09 | K94: =J94 -> 4.938966e+09
B95: 1.3 | C95: Хасагдсан дүн | D95: 1380225000 | E95: 3.3929669e+09 | F95: 7.8115953e+08 | G95: 5.9891088e+08 | H95: 1.2378695e+08 | I95: 3.2079945e+09 | J95: 2.2095907e+10 | K95: 3.1580951e+10
B96: 1.3.1 | C96: Худалдсан (-) | D96: 0 | E96: 0 | F96: 1.4957951e+08 | G96: 3.6614151e+08 | H96: 1854545.5 | I96: 68308435 | J96: 6.1214638e+09 | K96: 6.7073478e+09
B97: 1.3.2 | C97: Үнэгүй шилжүүлсэн (-) | D97: 0 | E97: 0 | F97: 0 | G97: 0 | H97: 0 | I97: 0 | J97: 0 | K97: 0
B98: 1.3.3 | C98: Акталсан (-) | D98: 0 | E98: 3.3929669e+09 | F98: 6.3158002e+08 | G98: 72744782 | H98: 1.2193241e+08 | I98: 7.7715088e+08 | J98: 1.4257143e+10 | K98: 1.9253518e+10
B99: 1.3.4 | D99: 1380225000 | E99: 0 | F99: 0 | G99: 160024589 | H99: 0 | I99: 2.3625352e+09 | J99: 1717300357 | K99: 5.6200851e+09
B100: 1.4 | C100: Үндсэн хөрөнгө дахин ангилсан | D100: 0 | E100: 0 | F100: -45869750 | G100: 0 | H100: 0 | I100: 0 | J100: 2.305626e+09 | K100: 2.2597562e+09
B101: 1.5 | C101: Үндсэн хөрөнгө, ХОЗҮХХ хооронд дахин ангилсан | D101: 0 | E101: 0 | F101: 0 | G101: 0 | H101: 0 | I101: 0 | J101: 0 | K101: 0
B102: 1.6 | C102: Эцсийн үлдэгдэл | D102: 3.5020082e+10 | E102: 1.4417496e+11 | F102: 2.0494244e+11 | G102: 1.8058774e+10 | H102: 1.6346393e+10 | I102: 1.3695489e+10 | J102: 2.2953894e+11 | K102: =K89+K88-K95-K100 -> 6.6166747e+11
B103: 2 | C103: ХУРИМТЛАГДСАН ЭЛЭГДЭЛ
B104: 2.1 | C104: Эхний үлдэгдэл | D104: 3.5761421e+09 | E104: 1.5452164e+10 | F104: 3.6280311e+10 | G104: 3.9282589e+09 | H104: 4.6881824e+09 | I104: 9.5224501e+09 | J104: 5.1629126e+10 | K104: 1.2507663e+11
B105: 2.2 | C105: Нэмэгдсэн дүн | D105: 2.5346853e+09 | E105: 7.7556717e+09 | F105: 2.2141874e+10 | G105: 2.3590009e+09 | H105: 6.4738776e+08 | I105: 5.3525912e+09 | J105: 3.5058992e+10 | K105: 7.5850202e+10
B106: 2.2.1 | C106: Байгуулсан элэгдэл | D106: 2.5346853e+09 | E106: 7.7556717e+09 | F106: 2.2141874e+10 | G106: 2.3590009e+09 | H106: 6.4738776e+08 | I106: 5.3525912e+09 | J106: 3.5058992e+10 | K106: 7.5850202e+10
B107: 2.2.2 | C107: Дахин үнэлгээгээр нэмэгдсэн | D107: 0 | E107: 0 | F107: 0 | G107: 0 | H107: 0 | I107: 0 | J107: 0 | K107: 0
B108: 2.2.3 | C108: Үнэ цэнийн бууралтын буцаалт | D108: 0 | E108: 0 | F108: 0 | G108: 0 | H108: 0 | I108: 0 | J108: 0 | K108: 0
B109: 2.3 | C109: Хасагдсан дүн | D109: 0 | E109: 2.4496704e+09 | F109: 3.8979869e+08 | G109: 4.138197e+08 | H109: 89280896 | I109: 3.1932565e+09 | J109: 9.692051e+09 | K109: 1.6227877e+10
B110: 2.3.1 | C110: Данснаас хассан хөрөнгийн элэгдэл | D110: 0 | E110: 2.4496704e+09 | F110: 3.8979869e+08 | G110: 4.138197e+08 | H110: 89280896 | I110: 3.1932565e+09 | J110: 9.692051e+09 | K110: 1.6227877e+10
B111: 2.3.2 | C111: Дахин үнэлгээгээр хасагдсан | D111: 0 | E111: 0 | F111: 0 | G111: 0 | H111: 0 | I111: 0 | J111: 0 | K111: 0
B112: 2.3.3 | C112: Үнэ цэнийн бууралт | D112: 0 | E112: 0 | F112: 0 | G112: 0 | H112: 0 | I112: 0 | J112: 0 | K112: 0
B113: 2.4 | C113: Эцсийн үлдэгдэл | D113: 6.1108274e+09 | E113: 2.0758166e+10 | F113: 5.8032386e+10 | G113: 5.87344e+09 | H113: 5.2462893e+09 | I113: 1.1681785e+10 | J113: 7.6996067e+10 | K113: 1.8469896e+11
B114: 3 | C114: ДАНСНЫ ЦЭВЭР ДҮН
B115: 3.1 | C115: Эхний үлдэгдэл | D115: 3.2188609e+10 | E115: 1.2767172e+11 | F115: 1.4849156e+11 | G115: 1.099601e+10 | H115: 9.974122e+09 | I115: 2.7026888e+09 | J115: 1.5249896e+11 | K115: 4.8452367e+11
B116: 3.2 | C116: Эцсийн үлдэгдэл | D116: 2.8909255e+10 | E116: 1.2341679e+11 | F116: 1.4691006e+11 | G116: 1.2185334e+10 | H116: 1.1100104e+10 | I116: 2.0137047e+09 | J116: 1.5254288e+11 | K116: =K102-K113 -> 4.7696851e+11
B119: 10. Биет бус хөрөнгө
B121: № | C121: Үзүүлэлт | D121: Зохиогчийн эрх | E121: Компьютерийн программ хангамж | F121: Патент | G121: Барааны тэмдэг | H121: Тусгай зөвшөөрөл | I121: Газар эзэмших эрх | J121: Бусад биет бус хөрөнгө | K121: Нийт дүн
B122: 1 | C122: БИЕТ БУС ХӨРӨНГӨ /ӨРТӨГ/
B123: 1.1 | C123: Эхний үлдэгдэл | D123: 0 | E123: 8.827844e+09 | F123: 2282936000 | G123: 0 | H123: 0 | I123: 973000800 | J123: 81093651500 | K123: 9.3177432e+10
B124: 1.2 | C124: Нэмэгдсэн дүн | D124: 0 | E124: 1.1101276e+09 | F124: 0 | G124: 0 | H124: 0 | I124: 0 | J124: 7.3410552e+09 | K124: 8.4511828e+09
B125: 1.2.1 | C125: Өөрөө үйлдвэрлэсэн | D125: 0 | E125: 0 | F125: 0 | G125: 0 | H125: 0 | I125: 0 | J125: 6.2497644e+09 | K125: 6.2497644e+09
B126: 1.2.2 | C126: Худалдаж авсан | D126: 0 | E126: 1.1101276e+09 | F126: 0 | G126: 0 | H126: 0 | I126: 0 | J126: 0 | K126: 1.1101276e+09
B127: 1.2.3 | C127: Үнэ төлбөргүй авсан | D127: 0 | E127: 0 | F127: 0 | G127: 0 | H127: 0 | I127: 0 | J127: 0 | K127: 0
B128: 1.2.4 | C128: Дахин үнэлгээний нэмэгдэл | D128: 0 | E128: 0 | F128: 0 | G128: 0 | H128: 0 | I128: 0 | J128: 0 | K128: 0
B129: 1.2.5 | C129: Бусад | D129: 0 | E129: 0 | F129: 0 | G129: 0 | H129: 0 | I129: 0 | J129: 1.0912908e+09 | K129: 1.0912908e+09
B130: 1.3 | C130: Хасагдсан дүн | D130: 0 | E130: 1.1252558e+09 | F130: 0 | G130: 0 | H130: 0 | I130: 0 | J130: 4.2197727e+08 | K130: 1.547233e+09
...

Sheet Disclosure working 2025
B1: 1. Мөнгө түүнтэй адилтгах хөрөнгө
F2: APU | H2: APUT | J2: APUD | L2: MBC | N2: SBB | P2: SBBT | R2: DC | T2: Grand | V2: Grand East | X2: Aipiyou | Z2: Console | AB2: CK
B3: № | C3: Үзүүлэлт | D3: Эхний үлдэгдэл | E3: Эцсийн үлдэгдэл | F3: Эхний үлдэгдэл | G3: Эцсийн үлдэгдэл | H3: Эхний үлдэгдэл | I3: Эцсийн үлдэгдэл | J3: Эхний үлдэгдэл | K3: Эцсийн үлдэгдэл | L3: Эхний үлдэгдэл | M3: Эцсийн үлдэгдэл | N3: Эхний үлдэгдэл | O3: Эцсийн үлдэгдэл | P3: Эхний үлдэгдэл | Q3: Эцсийн үлдэгдэл | R3: Эхний үлдэгдэл | S3: Эцсийн үлдэгдэл | T3: Эхний үлдэгдэл | U3: Эцсийн үлдэгдэл | V3: Эхний үлдэгдэл | W3: Эцсийн үлдэгдэл | X3: Эхний үлдэгдэл | Y3: Эцсийн үлдэгдэл | Z3: Эхний үлдэгдэл | AA3: Эцсийн үлдэгдэл | AB3: Эхний үлдэгдэл | AC3: Эцсийн үлдэгдэл
B4: 1 | C4: Касс дахь мөнгө | D4: =+F4+H4+J4+L4+N4+P4+R4+T4+V4+X4+Z4 -> 3.661847e+09 | E4: =+G4+I4+K4+M4+O4+Q4+S4+U4+W4+Y4+AA4+AC4 -> 3.5890242e+09 | F4: 4.873089e+08 | H4: 1.2167137e+08 | J4: 87382951 | K4: 1.6056776e+08 | L4: 3197992.7 | N4: 60789682 | P4: 5.4847195e+08 | R4: 3.7508872e+08 | T4: 1046798100 | U4: 1790576000 | V4: 632691000 | W4: 1565788000 | X4: 2.9877686e+08 | Y4: 72096517 | Z4: -330550 | AA4: -330550 | AB4: 326473 | AC4: 326473
B5: 2 | C5: Банкин дахь мөнгө | D5: =+F5+H5+J5+L5+N5+P5+R5+T5+V5+X5+Z5 -> 1.0431208e+11 | E5: =+G5+I5+K5+M5+O5+Q5+S5+U5+W5+Y5+AA5 -> 4.9148599e+10 | F5: 4.4916211e+10 | H5: 3.9718214e+09 | J5: 7.7265183e+09 | K5: 4.9148599e+10 | L5: 2.6462534e+09 | N5: 7.3916874e+09 | P5: 8.599533e+09 | R5: 2.906005e+10
B6: 3 | C6: Мөнгөтэй адилтгах хөрөнгө | D6: =+F6+H6+J6+L6+N6+P6+R6+T6+V6+X6+Z6 -> 0 | E6: =+G6+I6+K6+M6+O6+Q6+S6+U6+W6+Y6+AA6 -> 0
B7: 4 | C7: Нийт дүн | D7: =SUM(D4:D6) -> 1.0797392e+11 | E7: =SUM(E4:E6) -> 5.2737623e+10 | F7: =SUM(F4:F6) -> 4.540352e+10 | G7: =SUM(G4:G6) -> 0 | H7: =SUM(H4:H6) -> 4.0934928e+09 | I7: =SUM(I4:I6) -> 0 | J7: =SUM(J4:J6) -> 7.8139012e+09 | K7: =SUM(K4:K6) -> 4.9309167e+10 | ... S7: =SUM(S4:S6) -> 0
B8: Тэмдэглэл
B11: 4.1. Дансны авлага
G12: APU | J12: APUT | M12: APUD | P12: MBC | S12: SBB | V12: SBBT | Y12: DC | AB12: Grand | AE12: Grand East | AH12: Aipiyou | AK12: Console | AN12: Elimination
B13: № | C13: Үзүүлэлт | D13: Дансны авлага | E13: Найдваргүй авлагын хасагдуулга | F13: Дансны авлага (цэвэр дүнгээр) | G13: Дансны авлага | H13: Найдваргүй авлагын хасагдуулга | I13: Дансны авлага (цэвэр дүнгээр) | J13: Дансны авлага | K13: Найдваргүй авлагын хасагдуулга | L13: Дансны авлага (цэвэр дүнгээр) | M13: Дансны авлага | N13: Найдваргүй авлагын хасагдуулга | O13: Дансны авлага (цэвэр дүнгээр) | P13: Дансны авлага | Q13: Найдваргүй авлагын хасагдуулга | R13: Дансны авлага (цэвэр дүнгээр) | S13: Дансны авлага | T13: Найдваргүй авлагын хасагдуулга | U13: Дансны авлага (цэвэр дүнгээр) | V13: Дансны авлага | W13: Найдваргүй авлагын хасагдуулга | X13: Дансны авлага (цэвэр дүнгээр) | Y13: Дансны авлага | Z13: Найдваргүй авлагын хасагдуулга | AA13: Дансны авлага (цэвэр дүнгээр) | AB13: Дансны авлага | AC13: Найдваргүй авлагын хасагдуулга | AD13: Дансны авлага (цэвэр дүнгээр) | AE13: Дансны авлага | AF13: Найдваргүй авлагын хасагдуулга | AG13: Дансны авлага (цэвэр дүнгээр) | AH13: Дансны авлага | AI13: Найдваргүй авлагын хасагдуулга | AJ13: Дансны авлага (цэвэр дүнгээр) | AK13: Дансны авлага | AL13: Найдваргүй авлагын хасагдуулга | AM13: Дансны авлага (цэвэр дүнгээр) | AN13: Дансны авлага | AO13: Найдваргүй авлагын хасагдуулга | AP13: Дансны авлага (цэвэр дүнгээр)
B14: 1 | C14: Эхний үлдэгдэл | D14: =+G14+J14+M14+P14+S14+V14+Y14+AB14+AE14+AH14+AK14 -> 1.354902e+11 | E14: =+H14+K14+N14+Q14+T14+W14+Z14+AC14+AF14+AI14+AL14 -> 7.068533e+08 | F14: =+I14+L14+O14+R14+U14+X14+AA14+AD14+AG14+AJ14+AM14 -> 1.3478335e+11 | G14: 4.2439573e+10 | H14: 7.068533e+08 | I14: 4.173272e+10 | J14: 1.788226e+10 | L14: =+J14-K14 -> 1.788226e+10 | M14: 2.5773644e+09 | O14: =+M14 -> 2.5773644e+09 | P14: 5.4687712e+09 | Q14: 0 | R14: 5.4687712e+09 | S14: 8.3904475e+09 | U14: 8.3904475e+09 | V14: 5.7680284e+10 | X14: 5.7680284e+10 | AB14: 7.3837036e+08 | AC14: 0 | AD14: 7.3837036e+08 | AE14: 266338000 | AG14: =+AE14+AF14 -> 266338000 | AH14: 41084105 | AI14: 0 | AJ14: 41084105 | AK14: 5707929 | AL14: 0 | AM14: 5707929
B15: 2 | C15: Нэмэгдсэн | D15: =+G15+J15+M15+P15+S15+V15+Y15+AB15+AE15+AH15+AK15+AN15 -> 3.9860276e+11 | E15: =+H15+K15+N15+Q15+T15+W15+Z15+AC15+AF15+AI15+AL15 -> 0 | F15: =+I15+L15+O15+R15+U15+X15+AA15+AD15+AG15+AJ15+AM15+AP15 -> 3.9860276e+11 | I15: =+G15 -> 0 | J15: 5.8254004e+09 | L15: =+J15-K15 -> 5.8254004e+09 | M15: 153054899119 | O15: =+M15 -> 153054899119 | S15: 2.1512996e+11 | U15: 2.1512996e+11 | AB15: 8.0620464e+08 | AD15: =+AB15+AC15 -> 8.0620464e+08 | AE15: 1184697000 | AG15: =+AE15+AF15 -> 1184697000 | AJ15: =+AH15+AI15 -> 0 | AM15: =+AK15+AL15 -> 0 | AN15: 2.2601593e+10 | AP15: 2.2601593e+10
B16: 3 | C16: Хасагдсан | D16: =SUM(D17:D18) -> 3.8889991e+11 | E16: =SUM(E17:E18) -> 0 | F16: =SUM(F17:F18) -> 2.3624449e+11 | G16: =SUM(G17:G18) -> 1.075313e+10 | H16: =SUM(H17:H18) -> 0 | I16: =SUM(I17:I18) -> 1.075313e+10 | J16: =SUM(J17:J18) -> 0 | K16: =SUM(K17:K18) -> 0 | ... N16: =SUM(N17:N18) -> 0 | O16: =+M16-N16 -> 1.5265542e+11 | P16: =SUM(P17:P18) -> 3.651283e+09 | Q16: =SUM(Q17:Q18) -> 0 | R16: =SUM(R17:R18) -> 3.651283e+09 | S16: =SUM(S17:S18) -> 2.182718e+11 | T16: =SUM(T17:T18) -> 0 | U16: =SUM(U17:U18) -> 2.182718e+11 | V16: =SUM(V17:V18) -> 3.4618386e+09 | W16: =SUM(W17:W18) -> 0 | ... AM16: =SUM(AM17:AM18) -> 91567088
B17: 3.1 | C17: -Төлөгдсөн | D17: =+G17+J17+M17+P17+S17+V17+Y17+AB17+AE17+AH17+AK17+AP17 -> 3.8889991e+11 | E17: =+H17+K17+N17+Q17+T17+W17+Z17+AC17+AF17+AI17+AL17 -> 0 | F17: =+I17+L17+O17+R17+U17+X17+AA17+AD17+AG17+AJ17+AM17+AP17 -> 2.3624449e+11 | G17: 1.075313e+10 | H17: 0 | I17: =+G17-H17 -> 1.075313e+10 | M17: 1.5265542e+11 | P17: 3.651283e+09 | R17: =+P17 -> 3.651283e+09 | S17: 2.182718e+11 | U17: 2.182718e+11 | V17: 3.4618386e+09 | X17: 3.4618386e+09 | AH17: 14868111 | AJ17: =+AH17 -> 14868111 | AK17: 91567088 | AM17: =+AK17 -> 91567088
B18: 3.2 | C18: -Найдваргүй болсон | D18: =+G18+J18+M18+P18+S18+V18+Y18+AB18+AE18+AH18+AK18 -> 0 | E18: =+H18+K18+N18+Q18+T18+W18+Z18+AC18+AF18+AI18+AL18 -> 0 | F18: =+I18+L18+O18+R18+U18+X18+AA18+AD18+AG18+AJ18+AM18 -> 0 | I18: =+G18-H18 -> 0
B19: 4 | C19: Эцсийн үлдэгдэл | D19: =+D14+D15-D16 -> 1.4519305e+11 | E19: =+E14+E15-E16 -> 7.068533e+08 | F19: =+F14+F15-F16 -> 2.9714162e+11 | G19: =+G14+G15-G16 -> 3.1686444e+10 | H19: =+H14+H15-H16 -> 7.068533e+08 | I19: =+I14+I15-I16 -> 3.097959e+10 | J19: =+J14+J15-J16 -> 2.370766e+10 | K19: =+K14+K15-K16 -> 0 | ... AM19: =+AM14+AM15-AM16 -> -85859159
I20: 2.669403e+08 | L20: 2.0644641e+10 | O20: 2.7949814e+09 | R20: 98096824 | U20: 3342748.8 | X20: 5.1193054e+10
I21: =+I19-I20 -> 3.071265e+10 | L21: =+L19-L20 -> 3.0630195e+09 | O21: =+O19-O20 -> 1.8186587e+08 | R21: =+R19-R20 -> 1.7193914e+09 | U21: =+U19-U20 -> 5.2452648e+09 | X21: =+X19-X20 -> 3.0253913e+09
B24: 4.2. Татвар, НДШ-ийн авлага
F25: APU | H25: APUT | J25: APUD | L25: MBC | N25: SBB | P25: SBBT | R25: DC | T25: Grand | V25: Grand East | X25: Aipiyou | Z25: Console
B26: № | C26: Үзүүлэлт | D26: Эхний үлдэгдэл | E26: Эцсийн үлдэгдэл | F26: Эхний үлдэгдэл | G26: Эцсийн үлдэгдэл | H26: Эхний үлдэгдэл | I26: Эцсийн үлдэгдэл | J26: Эхний үлдэгдэл | K26: Эцсийн үлдэгдэл | L26: Эхний үлдэгдэл | M26: Эцсийн үлдэгдэл | N26: Эхний үлдэгдэл | O26: Эцсийн үлдэгдэл | P26: Эхний үлдэгдэл | Q26: Эцсийн үлдэгдэл | R26: Эхний үлдэгдэл | S26: Эцсийн үлдэгдэл | T26: Эхний үлдэгдэл | U26: Эцсийн үлдэгдэл | V26: Эхний үлдэгдэл | W26: Эцсийн үлдэгдэл | X26: Эхний үлдэгдэл | Y26: Эцсийн үлдэгдэл | Z26: Эхний үлдэгдэл | AA26: Эцсийн үлдэгдэл
B27: 1 | C27: ААНОАТ-ын авлага | D27: =+F27+H27+J27+L27+N27+P27+R27+T27+V27+X27+Z27 -> 7.8648607e+09 | E27: =+G27+I27+K27+M27+O27+Q27+S27+U27+W27+Y27+AA27 -> 3.7101957e+09 | F27: 7.6404967e+09 | G27: 1.2409844e+09 | H27: 27005219 | J27: 31485493 | K27: 78302961 | M27: 1.675195e+09 | O27: 7.1571336e+08 | P27: 1.6587331e+08
B28: 2 | C28: НӨАТ-ын авлага | D28: =+F28+H28+J28+L28+N28+P28+R28+T28+V28+X28+Z28 -> 1.1614796e+10 | E28: =+G28+I28+K28+M28+O28+Q28+S28+U28+W28+Y28+AA28 -> 8.8222398e+09 | F28: 2.0471787e+09 | G28: 3.4790233e+09 | J28: 1.5488907e+09 | K28: 2.1383619e+09 | L28: 4.7313198e+08 | M28: 1.1829216e+09 | N28: 1.0618914e+09 | O28: 2.067376e+08 | P28: 1.0838876e+08 | R28: 6.3753143e+09 | S28: 1.8151954e+09
B29: 3 | C29: НДШ-ийн авлага | D29: =+F29+H29+J29+L29+N29+P29+R29+T29+V29+X29+Z29 -> 11313789 | E29: =+G29+I29+K29+M29+O29+Q29+S29+U29+W29+Y29+AA29 -> 9229066.3 | F29: 7313821.8 | G29: 399064.57 | I29: 131367.09 | J29: 583661.32 | K29: 262359.59 | L29: 1334584 | M29: 1881961.9 | N29: 1305837.9 | O29: 901653 | P29: 775883.88 | Q29: 5652660.2
B30: 4 | C30: Бусад татварын авлага | D30: =+F30+H30+J30+L30+N30+P30+R30+T30+V30+X30+Z30 -> 3.7443647e+09 | E30: =+G30+I30+K30+M30+O30+Q30+S30+U30+W30+Y30+AA30-E33 -> 2.8958023e+09 | F30: 3.2166612e+09 | G30: 2.5550356e+09 | L30: 1507911.9 | M30: 60839761 | N30: 3.6673861e+08 | O30: 1.5128723e+08 | T30: 159457000 | U30: 91782900 | V30: 0 | W30: 0 | X30: 0 | Y30: 36856807
C31: Нийт дүн | D31: =SUM(D27:D30) -> 2.3235335e+10 | E31: =SUM(E27:E30) -> 1.5437467e+10 | F31: =SUM(F27:F30) -> 1.291165e+10 | G31: =SUM(G27:G30) -> 7.2754424e+09 | H31: =SUM(H27:H30) -> 27005219 | I31: =SUM(I27:I30) -> 131367.09 | J31: =SUM(J27:J30) -> 1.5809598e+09 | K31: =SUM(K27:K30) -> 2.2169272e+09 | ... S31: =SUM(S27:S30) -> 1.8151954e+09
B36: 4.3. Бусад богино хугацаат авлага
F37: APU | H37: APUT | J37: APUD | L37: MBC | N37: SBB | P37: SBBT | R37: DC | T37: Grand | V37: Grand East | X37: Aipiyou | Z37: Console | AB37: elimination
B38: № | C38: Үзүүлэлт | D38: Эхний үлдэгдэл | E38: Эцсийн үлдэгдэл | F38: Эхний үлдэгдэл | G38: Эцсийн үлдэгдэл | H38: Эхний үлдэгдэл | I38: Эцсийн үлдэгдэл | J38: Эхний үлдэгдэл | K38: Эцсийн үлдэгдэл | L38: Эхний үлдэгдэл | M38: Эцсийн үлдэгдэл | N38: Эхний үлдэгдэл | O38: Эцсийн үлдэгдэл | P38: Эхний үлдэгдэл | Q38: Эцсийн үлдэгдэл | R38: Эхний үлдэгдэл | S38: Эцсийн үлдэгдэл | T38: Эхний үлдэгдэл | U38: Эцсийн үлдэгдэл | V38: Эхний үлдэгдэл | W38: Эцсийн үлдэгдэл | X38: Эхний үлдэгдэл | Y38: Эцсийн үлдэгдэл | Z38: Эхний үлдэгдэл | AA38: Эцсийн үлдэгдэл | AB38: Эхний үлдэгдэл | AC38: Эцсийн үлдэгдэл
B39: 1 | C39: Холбоотой талаас авах авлагын тайлант хугацаанд хамаарах дүн | D39: =+F39+H39+J39+L39+N39+P39+R39+T39+V39+X39+Z39 -> 4.0105754e+08 | E39: =+G39+I39+K39+M39+O39+Q39+S39+U39+W39+Y39+AA39+AC39 -> 54161306 | F39: 3.7955403e+08 | G39: 54161306 | R39: 21503515 | S39: 0
B40: 2 | C40: Ажиллагчдаас авах авлага | D40: =+F40+H40+J40+L40+N40+P40+R40+T40+V40+X40+Z40 -> 7.1536881e+08 | E40: =+G40+I40+K40+M40+O40+Q40+S40+U40+W40+Y40+AA40 -> 36480575 | F40: 2982693.1 | G40: 0 | J40: 60734815 | K40: 36480575 | L40: 48337881 | M40: 0 | R40: 6.0331343e+08 | S40: 0
B41: 3 | C41: Ноогдол ашгийн авлага | D41: =+F41+H41+J41+L41+N41+P41+R41+T41+V41+X41+Z41 -> 0 | E41: =+G41+I41+K41+M41+O41+Q41+S41+U41+W41+Y41+AA41 -> 0 | R41: 0
B42: 4 | C42: Хүүний авлага | D42: =+F42+H42+J42+L42+N42+P42+R42+T42+V42+X42+Z42 -> 0 | E42: =+G42+I42+K42+M42+O42+Q42+S42+U42+W42+Y42+AA42 -> 0 | F42: 0 | R42: 0
B43: 5 | C43: Богино хугацаат авлагын бичиг | D43: =+F43+H43+J43+L43+N43+P43+R43+T43+V43+X43+Z43 -> 0 | E43: =+G43+I43+K43+M43+O43+Q43+S43+U43+W43+Y43+AA43 -> 0 | R43: 0
B44: 6 | C44: Бусад талуудаас авах авлага | D44: =+F44+H44+J44+L44+N44+P44+R44+T44+V44+X44+Z44 -> 1.2796184e+10 | E44: =+G44+I44+K44+M44+O44+Q44+S44+U44+W44+Y44+AA44 -> 1.4915249e+10 | F44: 8596214128 | G44: 1.2781061e+10 | H44: 4.2810436e+08 | I44: 9.1735934e+08 | L44: 1.0348828e+08 | M44: 6.9457879e+08 | P44: 16725158 | Q44: 5.2224962e+08 | R44: 3.6516525e+09 | S44: 0
B45: 7 | C45: Бусад | D45: =+F45+H45+J45+L45+N45+P45+R45+T45+V45+X45+Z45 -> 5.3523561e+08 | E45: =+G45+I45+K45+M45+O45+Q45+S45+U45+W45+Y45+AA45-AC45 -> 5.0892346e+09 | F45: 0 | J45: 1.5328096e+08 | K45: 2.0707935e+09 | L45: 0 | N45: 2.066382e+08 | O45: 1.6392067e+09 | R45: 0 | T45: 6.4442687e+08 | U45: 836508000 | V45: 9.6265202e+08 | W45: 291809000 | X45: 0 | Y45: 15527477 | Z45: -1.4317625e+09 | AA45: =-14976752+0.2 -> -14976752 | AC45: -2.5036665e+08
C46: Нийт дүн | D46: =SUM(D39:D45) -> 1.4447846e+10 | E46: =SUM(E39:E45) -> 2.0095126e+10 | F46: =SUM(F39:F45) -> 8.9787508e+09 | G46: =SUM(G39:G45) -> 1.2835223e+10 | H46: =SUM(H39:H45) -> 4.2810436e+08 | I46: =SUM(I39:I45) -> 9.1735934e+08 | J46: =SUM(J39:J45) -> 2.1401578e+08 | K46: =SUM(K39:K45) -> 2.1072741e+09 | ... S46: =SUM(S39:S45) -> 0
B47: Тэмдэглэл
B53: 5. Бусад санхүүгийн хөрөнгө
B55: № | C55: Үзүүлэлт | D55: Эхний үлдэгдэл | E55: Эцсийн үлдэгдэл
B56: 1 | C56: Бусад санхүүгийн хөрөнгө | D56: 0 | E56: 0
C57: Нийт дүн | D57: =SUM(D56) -> 0 | E57: =SUM(E56) -> 0
B62: 6. Бараа материал
K63: APU | R63: APUT | Y63: APUD | AF63: MBC | AM63: SBB | AT63: SBBT | BA63: DC | BH63: Grand | BO63: Grand East | BV63: Aipiyou | CC63: DC unrealised
B64: № | C64: Үзүүлэлт | D64: Түүхий эд материал | E64: Дуусаагүй үйлдвэрлэл | F64: Бэлэн бүтээгдэхүүн | G64: Бараа | H64: Хангамжийн материал | I64: Бусад | J64: Нийт дүн | K64: Түүхий эд материал | L64: Дуусаагүй үйлдвэрлэл | M64: Бэлэн бүтээгдэхүүн | N64: Бараа | O64: Хангамжийн материал | P64: Бусад | Q64: Нийт дүн | R64: Түүхий эд материал | S64: Дуусаагүй үйлдвэрлэл | T64: Бэлэн бүтээгдэхүүн | U64: Бараа | V64: Хангамжийн материал | W64: Бусад | X64: Нийт дүн | Y64: Түүхий эд материал | Z64: Дуусаагүй үйлдвэрлэл | AA64: Бэлэн бүтээгдэхүүн | AB64: Бараа | AC64: Хангамжийн материал | AD64: Бусад | AE64: Нийт дүн | AF64: Түүхий эд материал | AG64: Дуусаагүй үйлдвэрлэл | AH64: Бэлэн бүтээгдэхүүн | AI64: Бараа | AJ64: Хангамжийн материал | AK64: Бусад | AL64: Нийт дүн | AM64: Түүхий эд материал | AN64: Дуусаагүй үйлдвэрлэл | AO64: Бэлэн бүтээгдэхүүн | AP64: Бараа | AQ64: Хангамжийн материал | AR64: Бусад | AS64: Нийт дүн | AT64: Түүхий эд материал | AU64: Дуусаагүй үйлдвэрлэл | AV64: Бэлэн бүтээгдэхүүн | AW64: Бараа | AX64: Хангамжийн материал | AY64: Бусад | AZ64: Нийт дүн | BA64: Түүхий эд материал | BB64: Дуусаагүй үйлдвэрлэл | BC64: Бэлэн бүтээгдэхүүн | BD64: Бараа | BE64: Хангамжийн материал | BF64: Бусад | BG64: Нийт дүн | BH64: Түүхий эд материал | BI64: Дуусаагүй үйлдвэрлэл | BJ64: Бэлэн бүтээгдэхүүн | BK64: Бараа | BL64: Хангамжийн материал | BM64: Бусад | BN64: Нийт дүн | BO64: Түүхий эд материал | BP64: Дуусаагүй үйлдвэрлэл | BQ64: Бэлэн бүтээгдэхүүн | BR64: Бараа | BS64: Хангамжийн материал | BT64: Бусад | BU64: Нийт дүн | BV64: Түүхий эд материал | BW64: Дуусаагүй үйлдвэрлэл | BX64: Бэлэн бүтээгдэхүүн | BY64: Бараа | BZ64: Хангамжийн материал | CA64: Бусад | CB64: Нийт дүн | CC64: Бэлэн бүтээгдэхүүн
B65: 1 | C65: Эхний үлдэгдэл (өртгөөр) | D65: =+'[55]Disclosure 2023'!D73 -> 1.1329579e+11 | E65: =+'[55]Disclosure 2023'!E73 -> 5439949326 | F65: =+'[55]Disclosure 2023'!F73 -> 9.0622831e+10 | G65: =+'[55]Disclosure 2023'!G73 -> 2.3114211e+09 | H65: =+'[55]Disclosure 2023'!H73 -> 5.0846067e+09 | I65: =+'[55]Disclosure 2023'!I73 -> 4.4831954e+09 | J65: =+'[55]Disclosure 2023'!J73 -> 2.2123779e+11 | V65: 1.1439603e+09 | AL65: =+AF65+AG65+AH65+AI65+AJ65+AK65 -> 0 | AR65: 0 | AS65: =SUM(AM65:AR65) -> 0 | BJ65: 1736746650 | BQ65: 1052251200 | BX65: 2.5482886e+08
B66: 2 | C66: Нэмэгдсэн дүн | D66: =+K66+R66+Y66+AF66+AM66+AT66+BA66 -> 3.5617213e+11 | E66: =+L66+S66+Z66+AG66+AN66+AU66+BB66 -> 1.5606737e+11 | F66: =+M66+T66+AA66+AH66+AO66+AV66+BC66+BJ66+BQ66+BX66+CC66+H76 -> 2.9583607e+11 | G66: =+N66+U66+AB66+AI66+AP66+AW66+BD66 -> 8.5384781e+09 | H66: =+O66+V66+AC66+AJ66+AQ66+AX66+BE66+BZ66 -> 7.0897347e+09 | I66: =+P66+W66+AD66+AK66+AR66+AY66+BF66 -> 7.6346561e+09 | J66: =SUM(D66:I66) -> 8.3133843e+11 | M66: 8.282222e+09 | P66: 1.1898855e+09 | Q66: =+K66+L66+M66+O66+P66 -> 9.4721076e+09 | V66: 0 | Y66: 1.8302004e+11 | Z66: 8.2908149e+10 | AA66: 8.5189781e+10 | AC66: 1.725876e+09 | AD66: 6.4447706e+09 | AE66: =+AD66+AC66+AB66+AA66+Z66+Y66 -> 3.5928861e+11 | AF66: 1.0523652e+11 | AG66: 5.8717782e+10 | AH66: 1.9939638e+11 | AI66: 8.5384781e+09 | AJ66: 3.9345626e+08 | AL66: =+AF66+AG66+AH66+AI66+AJ66+AK66 -> 3.7228261e+11 | AM66: 6.7915569e+10 | AN66: 1.4441436e+10 | AO66: 2.4624074e+09 | AP66: 0 | AQ66: 4.9005597e+09 | AS66: =SUM(AM66:AR66) -> 8.9719972e+10 | BQ66: 287978800 | BX66: 2.1730567e+08 | BZ66: 69842775
B67: 3 | C67: Хасагдсан дүн | D67: =+K67+R67+Y67+AF67+AM67+AT67+BA67 -> 3.6643701e+11 | E67: =+L67+S67+Z67+AG67+AN67+AU67+BB67 -> 1.574017e+11 | F67: =+M67+T67+AA67+AH67+AO67+AV67+BC67+BJ67+BQ67+BX67+CC67 -> 3.1315282e+11 | G67: =+N67+U67+AB67+AI67+AP67+AW67+BD67 -> 8.7837334e+09 | H67: =+O67+V67+AC67+AJ67+AQ67+AX67+BE67 -> 9.2722731e+09 | I67: =+P67+W67+AD67+AK67+AR67+AY67+BF67 -> 9.0773907e+09 | J67: =SUM(D67:I67) -> 8.6412493e+11 | K67: 1.5823934e+09 | L67: 2.5925132e+09 | O67: 60167405 | Q67: =+K67+L67+M67+O67+P67 -> 4.235074e+09 | V67: 53823335 | Y67: 1.9046906e+11 | Z67: 8.264205e+10 | AA67: 8.4834918e+10 | AB67: 0 | AC67: 1.9372027e+09 | AD67: 6.4008288e+09 | AE67: =+AD67+AC67+AB67+AA67+Z67+Y67 -> 3.6628406e+11 | AF67: 1.0308752e+11 | AG67: 5.8977957e+10 | AH67: 1.9652675e+11 | AI67: 8.7837334e+09 | AJ67: 3.8474533e+08 | AL67: =+AF67+AG67+AH67+AI67+AJ67+AK67 -> 3.6776071e+11 | AM67: 7.0598277e+10 | AN67: 13167617647 | AO67: 2.6557408e+09 | AP67: 0 | AQ67: 4.6156348e+09 | AS67: =SUM(AM67:AR67) -> 9.1037271e+10 | AV67: 1.8058272e+08 | BA67: 6.9975921e+08 | BB67: 21567108 | BC67: 2.8932967e+10 | BE67: 2.2206995e+09 | BF67: 2.6765618e+09 | BJ67: 344603650 | CC67: -3.2274214e+08
B68: 4 | C68: Эцсийн үлдэгдэл (өртгөөр) | D68: =+D65+D66-D67 -> 1.0303091e+11 | E68: =+E65+E66-E67 -> 4.1056108e+09 | F68: =+F65+F66-F67 -> 7.3306078e+10 | G68: =+G65+G66-G67 -> 2.0661658e+09 | H68: =+H65+H66-H67 -> 2.9020683e+09 | I68: =+I65+I66-I67 -> 3.0404608e+09 | J68: =+J65+J66-J67 -> 1.8845129e+11 | K68: =+K65+K66-K67 -> -1.5823934e+09 | ... BG68: =+BG65+BG66-BG67 -> 0 | BJ68: =+BJ65+BJ66-BJ67 -> 1392143000 | BQ68: =+BQ65+BQ66-BQ67 -> 1340230000 | BX68: =+BX65+BX66-BX67 -> 472134530 | BZ68: =+BZ65+BZ66-BZ67 -> 69842775
B69: 5 | C69: Үнийн бууралтын гарз (-) | D69: =+K69+R69+Y69+AF69+AM69+AT69+BA69 -> 0 | E69: =+L69+S69+Z69+AG69+AN69+AU69+BB69 -> 0 | F69: =+M69+T69+AA69+AH69+AO69+AV69+BC69+BJ69+BQ69+BX69+CC69 -> 0 | G69: =+N69+U69+AB69+AI69+AP69+AW69+BD69 -> 0 | H69: =+O69+V69+AC69+AJ69+AQ69+AX69+BE69 -> 0 | I69: =+P69+W69+AD69+AK69+AR69+AY69+BF69 -> 0 | J69: =SUM(D69:I69) -> 0 | K69: 0 | Q69: 0
B70: 6 | C70: Үнийн бууралтын буцаалт | D70: =+K70+R70+Y70+AF70+AM70+AT70+BA70 -> 0 | E70: =+L70+S70+Z70+AG70+AN70+AU70+BB70 -> 0 | F70: =+M70+T70+AA70+AH70+AO70+AV70+BC70+BJ70+BQ70+BX70+CC70 -> 0 | G70: =+N70+U70+AB70+AI70+AP70+AW70+BD70 -> 0 | H70: =+O70+V70+AC70+AJ70+AQ70+AX70+BE70 -> 0 | I70: =+P70+W70+AD70+AK70+AR70+AY70+BF70 -> 0 | J70: =SUM(D70:I70) -> 0
B71: 7 | C71: Дансны цэвэр дүн | D71: =+D68-D69-D70 -> 1.0303091e+11 | E71: =+E68-E69-E70 -> 4.1056108e+09 | F71: =+F68-F69-F70 -> 7.3306078e+10 | G71: =+G68-G69-G70 -> 2.0661658e+09 | H71: =+H68-H69-H70 -> 2.9020683e+09 | I71: =+I68-I69-I70 -> 3.0404608e+09 | J71: =+J68-J69-J70 -> 1.8845129e+11 | K71: =+K68-K69-K70 -> -1.5823934e+09 | ... BG71: =+BG68-BG69-BG70 -> 0
B72: 7.1 | C72: Эхний үлдэгдэл | D72: =+D65 -> 1.1329579e+11 | E72: =+E65 -> 5439949326 | F72: =+F65 -> 9.0622831e+10 | G72: =+G65 -> 2.3114211e+09 | H72: =+H65 -> 5.0846067e+09 | I72: =+I65 -> 4.4831954e+09 | J72: =+J65 -> 2.2123779e+11 | BA72: =+BA65 -> 0 | BB72: =+BB65 -> 0 | BC72: =+BC65 -> 0 | BD72: =+BD65 -> 0 | BE72: =+BE65 -> 0 | BF72: =+BF65 -> 0 | BG72: =SUM(BA72:BF72) -> 0
B73: 7.2 | C73: Эцсийн үлдэгдэл | D73: =+D71 -> 1.0303091e+11 | E73: =+E71 -> 4.1056108e+09 | F73: =+F71 -> 7.3306078e+10 | G73: =+G71 -> 2.0661658e+09 | H73: =+H71 -> 2.9020683e+09 | I73: =+I71 -> 3.0404608e+09 | J73: =+J71 -> 1.8845129e+11 | K73: =+K71 -> -1.5823934e+09 | ... BG73: =+BG71 -> 0
B74: Тэмдэглэл
F75: 3.4228812e+10
B80: 8. Урьдчилж төлсөн зардал/тооцоо
F81: APU | H81: APUT | J81: APUD | L81: MBC | N81: SBB | P81: SBBT | R81: DC | T81: Grand | V81: Grand East | X81: Aipiyou | Z81: Console | AB81: Elimination
B82: № | C82: Үзүүлэлт | D82: Эцсийн үлдэгдэл | E82: Эцсийн үлдэгдэл | F82: Эцсийн үлдэгдэл | G82: Эцсийн үлдэгдэл | H82: Эцсийн үлдэгдэл | I82: Эцсийн үлдэгдэл | J82: Эцсийн үлдэгдэл | K82: Эцсийн үлдэгдэл | L82: Эцсийн үлдэгдэл | M82: Эцсийн үлдэгдэл | N82: Эцсийн үлдэгдэл | O82: Эцсийн үлдэгдэл | P82: Эцсийн үлдэгдэл | Q82: Эцсийн үлдэгдэл | R82: Эцсийн үлдэгдэл | S82: Эцсийн үлдэгдэл | T82: Эцсийн үлдэгдэл | U82: Эцсийн үлдэгдэл | V82: Эцсийн үлдэгдэл | W82: Эцсийн үлдэгдэл | X82: Эцсийн үлдэгдэл | Y82: Эцсийн үлдэгдэл | Z82: Эцсийн үлдэгдэл | AA82: Эцсийн үлдэгдэл | AB82: Эцсийн үлдэгдэл | AC82: Эцсийн үлдэгдэл
B83: 1 | C83: Урьдчилж төлсөн зардал | D83: =+F83+H83+J83+L83+N83+P83+R83+T83+V83+X83+Z83+AB83 -> 2.2824985e+10 | E83: =+G83+I83+K83+M83+O83+Q83+S83+U83+W83+Y83+AA83+AC83 -> 1.0139536e+10 | F83: 2.0468345e+10 | G83: 8.7269423e+09 | H83: 92918829 | I83: 1.8622774e+08 | J83: 1.1655836e+09 | K83: 1.063536e+09 | P83: 6.4069063e+08 | Q83: 83354193 | R83: 4.043524e+08 | T83: 24440400 | U83: 26635000 | V83: 13008600 | W83: 13008600 | X83: 15645412 | Y83: 39832340
B84: 2 | C84: Урьдчилж төлсөн түрээс, даатгал | D84: =+F84+H84+J84+L84+N84+P84+R84+T84+V84+X84+Z84+AB84 -> 2.8021127e+08 | E84: =+G84+I84+K84+M84+O84+Q84+S84+U84+W84+Y84+AA84+AC84 -> 6427150 | I84: 6427150 | R84: 2.8021127e+08
B85: 3 | C85: Бэлтгэн нийлүүлэгчдэд төлсөн урьдчилгаа төлбөр | D85: =+F85+H85+J85+L85+N85+P85+R85+T85+V85+X85+Z85+AB85 -> 3.556256e+10 | E85: =+G85+I85+K85+M85+O85+Q85+S85+U85+W85+Y85+AA85+AC85 -> 7.405537e+09 | H85: 1.6447097e+10 | I85: 2.7173212e+09 | J85: 2.3421893e+09 | K85: 1346489100 | L85: 2.987141e+09 | M85: 5.7740184e+08 | N85: 7.1470554e+09 | O85: 4.4426637e+08 | R85: 6.2694956e+09 | Z85: 3.6958175e+08 | AC85: 2.3200584e+09
B86: 4 | C86: Бусад төрөл | D86: =+F86+H86+J86+L86+N86+P86+R86+T86+V86+X86+Z86+AB86 -> 5.2686205e+09 | E86: =+G86+I86+K86+M86+O86+Q86+S86+U86+W86+Y86+AA86+AC86 -> 85355412 | J86: 1.1671922e+08 | K86: 85355412 | R86: 5.1519013e+09
C87: Нийт дүн | D87: =SUM(D83:D86) -> 6.3936376e+10 | E87: =SUM(E83:E86) -> 1.7636856e+10 | F87: =SUM(F83:F86) -> 2.0468345e+10 | G87: =SUM(G83:G86) -> 8.7269423e+09 | H87: =SUM(H83:H86) -> 1.6540016e+10 | I87: =SUM(I83:I86) -> 2.9099761e+09 | J87: =SUM(J83:J86) -> 3.6244921e+09 | K87: =SUM(K83:K86) -> 2.4953806e+09 | ... AA87: =SUM(AA83:AA86) -> 0 | AM87: Дуусаагүй барилга-Агуулах | AN87: 2024 | AO87: 95 | AP87: 2.400937e+09
D88: =+D87-'[55]Disclosure 2024'!D87 -> 3.6155875e+10 | AM88: Дуусаагүй барилга-Тоног төхөөрөмж | AN88: 2025 | AO88: 70 | AP88: 2.5585787e+09
B92: 9. Үндсэн хөрөнгө
L93: APU | T93: APUT | AB93: APUD | AJ93: MBC | AR93: SBB | AZ93: SBBT | BH93: DC | BP93: Grand | BQ93: Grand East | BR93: Aipiyou | BS93: Elimination
B94: № | C94: Үзүүлэлт | D94: Газрын сайжруулалт | E94: Барилга байгууламж | F94: Машин, тоног | G94: Тээврийн хэрэгсэл | H94: Тавилга эд хогшил | I94: Компьютер, бусад хэрэгсэл | J94: Бусад үндсэн хөрөнгө | K94: Нийт дүн | L94: Газрын сайжруулалт | M94: Барилга байгууламж | N94: Машин, тоног | O94: Тээврийн хэрэгсэл | P94: Тавилга эд хогшил | Q94: Компьютер, бусад хэрэгсэл | R94: Бусад үндсэн хөрөнгө | S94: Нийт дүн | T94: Газрын сайжруулалт | U94: Барилга байгууламж | V94: Машин, тоног | W94: Тээврийн хэрэгсэл | X94: Тавилга эд хогшил | Y94: Компьютер, бусад хэрэгсэл | Z94: Бусад үндсэн хөрөнгө | AA94: Нийт дүн | AB94: Газрын сайжруулалт | AC94: Барилга байгууламж | AD94: Машин, тоног | AE94: Тээврийн хэрэгсэл | AF94: Тавилга эд хогшил | AG94: Компьютер, бусад хэрэгсэл | AH94: Бусад үндсэн хөрөнгө | AI94: Нийт дүн | AJ94: Газрын сайжруулалт | AK94: Барилга байгууламж | AL94: Машин, тоног | AM94: Тээврийн хэрэгсэл | AN94: Тавилга эд хогшил | AO94: Компьютер, бусад хэрэгсэл | AP94: Бусад үндсэн хөрөнгө | AQ94: Нийт дүн | AR94: Газрын сайжруулалт | AS94: Барилга байгууламж | AT94: Машин, тоног | AU94: Тээврийн хэрэгсэл | AV94: Тавилга эд хогшил | AW94: Компьютер, бусад хэрэгсэл | AX94: Бусад үндсэн хөрөнгө | AY94: Нийт дүн | AZ94: Газрын сайжруулалт | BA94: Барилга байгууламж | BB94: Машин, тоног | BC94: Тээврийн хэрэгсэл | BD94: Тавилга эд хогшил | BE94: Компьютер, бусад хэрэгсэл | BF94: Бусад үндсэн хөрөнгө | BG94: Нийт дүн | BH94: Газрын сайжруулалт | BI94: Барилга байгууламж | BJ94: Машин, тоног | BK94: Тээврийн хэрэгсэл | BL94: Тавилга эд хогшил | BM94: Компьютер, бусад хэрэгсэл | BN94: Бусад үндсэн хөрөнгө | BO94: Нийт дүн | BP94: Бусад үндсэн хөрөнгө | BQ94: Бусад үндсэн хөрөнгө | BR94: Бусад үндсэн хөрөнгө | BS94: Бусад үндсэн хөрөнгө
B95: 1 | C95: ҮНДСЭН ХӨРӨНГӨ /ӨРТӨГ/
B96: 1.1 | C96: Эхний үлдэгдэл | D96: =+'[55]Disclosure 2023'!D109 -> 3.5764752e+10 | E96: =+'[55]Disclosure 2023'!E109 -> 1.4312389e+11 | F96: =+'[55]Disclosure 2023'!F109 -> 1.8477187e+11 | G96: =+'[55]Disclosure 2023'!G109 -> 1.4924269e+10 | H96: =+'[55]Disclosure 2023'!H109 -> 1.4662304e+10 | I96: =+'[55]Disclosure 2023'!I109 -> 1.2225139e+10 | J96: =+'[55]Disclosure 2023'!J109 -> 2.0412809e+11 | K96: =SUM(D96:J96) -> 6.096003e+11 | L96: 3.8573815e+10 | M96: 1.090728e+11 | N96: 9.1849333e+10 | O96: 6.2558562e+09 | P96: 2.0944669e+09 | Q96: 4.234245e+09 | R96: 5.3383772e+10 | S96: =SUM(L96:R96) -> 3.0546429e+11 | AA96: =SUM(T96:Z96) -> 0 | AI96: =SUM(AD96:AH96) -> 0 | AQ96: =+SUM(AJ96:AP96) -> 0 | AY96: =SUM(AR96:AX96) -> 0 | BG96: =SUM(AZ96:BF96) -> 0 | BJ96: 7.4558924e+08 | BK96: 1.3547191e+09 | BL96: 1.5301047e+09 | BM96: 4.6909896e+09 | BN96: 1.4188212e+11 | BO96: =SUM(BH96:BN96) -> 1.5020352e+11
B97: 1.2 | C97: Нэмэгдсэн дүн | D97: =SUM(D98:D101) -> 2.6983044e+09 | E97: =SUM(E98:E101) -> 1.7868445e+10 | F97: =SUM(F98:F101) -> 6.192905e+10 | G97: =SUM(G98:G101) -> 1.2248151e+10 | H97: =SUM(H98:H101) -> 1.5407495e+09 | I97: =SUM(I98:I101) -> 2.908343e+09 | J97: =SUM(J98:J101) -> 2.1203856e+10 | K97: =SUM(K98:K101) -> 1.203969e+11 | L97: =SUM(L98:L102) -> 1.1290909e+09 | M97: =SUM(M98:M102) -> 7.7976827e+09 | N97: =SUM(N98:N102) -> 1.0204078e+10 | O97: =SUM(O98:O102) -> 3.3476696e+09 | P97: =SUM(P98:P102) -> 3.9840804e+08 | Q97: =SUM(Q98:Q102) -> 1.6751095e+09 | R97: =SUM(R98:R102) -> 1.6008301e+10 | S97: =SUM(L97:R97) -> 4.056034e+10 | T97: =SUM(T98:T102) -> 0 | U97: =SUM(U98:U102) -> 0 | V97: =SUM(V98:V102) -> 0 | W97: =SUM(W98:W102) -> 4.3460298e+09 | X97: =SUM(X98:X102) -> 2.2466835e+08 | Y97: =SUM(Y98:Y102) -> 3.8118047e+08 | Z97: =SUM(Z98:Z102) -> 8.4809969e+08 | AA97: =SUM(AA98:AA102) -> 5.7999783e+09 | ... BO97: =SUM(BO98:BO102) -> 0
B98: 1.2.1 | C98: Өөрөө үйлдвэрлэсэн | D98: =+L98+T98+AB98+AJ98+AR98+AZ98+BH98 -> 0 | E98: =+M98+U98+AC98+AK98+AS98+BA98+BI98 -> 9.7562331e+09 | F98: =+N98+V98+AD98+AL98+AT98+BB98+BJ98 -> 1654742976 | G98: =+O98+W98+AE98+AM98+AU98+BC98+BK98 -> 0 | H98: =+P98+X98+AF98+AN98+AV98+BD98+BL98 -> 18364364 | I98: =+Q98+Y98+AG98+AO98+AW98+BE98+BM98 -> 394100504 | J98: =+R98+Z98+AH98+AP98+AX98+BF98+BN98 -> 9.9061335e+09 | K98: =SUM(D98:J98) -> 2.1729574e+10 | S98: =SUM(L98:R98) -> 0 | AA98: =SUM(T98:Z98) -> 0 | AI98: =SUM(AD98:AH98) -> 0 | AQ98: =+SUM(AJ98:AP98) -> 0 | AS98: 9.7562331e+09 | AT98: 1654742976 | AV98: 18364364 | AW98: 394100504 | AX98: =15682854853-5776721341.85 -> 9.9061335e+09 | AY98: =SUM(AR98:AX98) -> 2.1729574e+10 | BG98: =SUM(AZ98:BF98) -> 0 | BO98: =+BH98+BI98+BJ98+BK98+BL98+BM98+BN98 -> 0
B99: 1.2.2 | C99: Худалдаж авсан | D99: =+L99+T99+AB99+AJ99+AR99+AZ99+BH99 -> 2.6983044e+09 | E99: =+M99+U99+AC99+AK99+AS99+BA99+BI99 -> 8.112212e+09 | F99: =+N99+V99+AD99+AL99+AT99+BB99+BJ99 -> 6.0274307e+10 | G99: =+O99+W99+AE99+AM99+AU99+BC99+BK99 -> 1.2248151e+10 | H99: =+P99+X99+AF99+AN99+AV99+BD99+BL99 -> 1.5223852e+09 | I99: =+Q99+Y99+AG99+AO99+AW99+BE99+BM99 -> 2.5142425e+09 | J99: =+R99+Z99+AH99+AP99+AX99+BF99+BN99+BP99+BQ99+BR99+BS99 -> 1.1297723e+10 | K99: =SUM(D99:J99) -> 9.8667325e+10 | L99: 1.1290909e+09 | M99: 7.7976827e+09 | N99: 1.0204078e+10 | O99: 3.3476696e+09 | P99: 3.9840804e+08 | Q99: 1.6751095e+09 | R99: 1.0959724e+10 | S99: =SUM(L99:R99) -> 3.5511762e+10 | W99: 4.3460298e+09 | X99: 2.2466835e+08 | Y99: 3.8118047e+08 | Z99: 8.4809969e+08 | AA99: =SUM(T99:Z99) -> 5.7999783e+09 | AD99: 4.8482866e+10 | AE99: 1.4646097e+09 | AF99: 29647822 | AG99: 50009772 | AH99: 1.2524955e+09 | AI99: =SUM(AD99:AH99) -> 5.1279628e+10 | AJ99: 1.5692134e+09 | AK99: 3.1452928e+08 | AL99: 7.8284496e+08 | AM99: 1.0967286e+09 | AN99: 7.8480279e+08 | AO99: 2.0515483e+08 | AP99: =2905883049.85636-AP87-AP88 -> -2.0536326e+09 | AQ99: =+SUM(AJ99:AP99) -> 2.6996412e+09 | AY99: =SUM(AR99:AX99) -> 0 | BB99: 8.0451913e+08 | BC99: 1.9931131e+09 | BD99: 84858164 | BE99: 2.0278788e+08 | BF99: 2.6755509e+08 | BG99: =SUM(AZ99:BF99) -> 3.3528334e+09 | BO99: =+BH99+BI99+BJ99+BK99+BL99+BM99+BN99 -> 0 | BP99: 7114300 | BQ99: 9858150 | BR99: 6508672
B100: 1.2.3 | C100: Үнэ төлбөргүй авсан | D100: =+L100+T100+AB100+AJ100+AR100+AZ100+BH100 -> 0 | E100: =+M100+U100+AC100+AK100+AS100+BA100+BI100 -> 0 | F100: =+N100+V100+AD100+AL100+AT100+BB100+BJ100 -> 0 | G100: =+O100+W100+AE100+AM100+AU100+BC100+BK100 -> 0 | H100: =+P100+X100+AF100+AN100+AV100+BD100+BL100 -> 0 | I100: =+Q100+Y100+AG100+AO100+AW100+BE100+BM100 -> 0 | J100: =+R100+Z100+AH100+AP100+AX100+BF100+BN100 -> 0 | K100: =SUM(D100:J100) -> 0 | S100: =SUM(L100:R100) -> 0 | AA100: =SUM(T100:Z100) -> 0 | AI100: =SUM(AD100:AH100) -> 0 | AQ100: =+SUM(AJ100:AP100) -> 0 | AY100: =SUM(AR100:AX100) -> 0 | BG100: =SUM(AZ100:BF100) -> 0 | BO100: =+BH100+BI100+BJ100+BK100+BL100+BM100+BN100 -> 0
B101: 1.2.4 | C101: Дахин үнэлгээний нэмэгдэл | D101: =+L101+T101+AB101+AJ101+AR101+AZ101+BH101 -> 0 | E101: =+M101+U101+AC101+AK101+AS101+BA101+BI101 -> 0 | F101: =+N101+V101+AD101+AL101+AT101+BB101+BJ101 -> 0 | G101: =+O101+W101+AE101+AM101+AU101+BC101+BK101 -> 0 | H101: =+P101+X101+AF101+AN101+AV101+BD101+BL101 -> 0 | I101: =+Q101+Y101+AG101+AO101+AW101+BE101+BM101 -> 0 | J101: =+R101+Z101+AH101+AP101+AX101+BF101+BN101 -> 0 | K101: =SUM(D101:J101) -> 0 | S101: =SUM(L101:R101) -> 0 | AA101: =SUM(T101:Z101) -> 0 | AI101: =SUM(AD101:AH101) -> 0 | AQ101: =+SUM(AJ101:AP101) -> 0 | AY101: =SUM(AR101:AX101) -> 0 | BG101: =SUM(AZ101:BF101) -> 0 | BO101: =+BH101+BI101+BJ101+BK101+BL101+BM101+BN101 -> 0
B102: 1.2.5 | C102: Бусад | D102: =+L102+T102+AB102+AJ102+AR102+AZ102+BH102 -> 0 | E102: =+M102+U102+AC102+AK102+AS102+BA102+BI102 -> 0 | F102: =+N102+V102+AD102+AL102+AT102+BB102+BJ102 -> 0 | G102: =+O102+W102+AE102+AM102+AU102+BC102+BK102 -> 0 | H102: =+P102+X102+AF102+AN102+AV102+BD102+BL102 -> 0 | I102: =+Q102+Y102+AG102+AO102+AW102+BE102+BM102 -> 0 | J102: =+R102+Z102+AH102+AP102+AX102+BF102+BN102 -> 7.1505071e+09 | K102: =SUM(D102:J102) -> 7.1505071e+09 | R102: 5.0485774e+09 | S102: =SUM(L102:R102) -> 5.0485774e+09 | AH102: 2.1019297e+09 | AI102: =SUM(AD102:AH102) -> 2.1019297e+09
B103: 1.3 | C103: Хасагдсан дүн | D103: =SUM(D104:D107) -> 0 | E103: =SUM(E104:E107) -> 2.4792352e+08 | F103: =SUM(F104:F107) -> 2.4167483e+09 | G103: =SUM(G104:G107) -> 2.8956701e+09 | H103: =SUM(H104:H107) -> 1.6222139e+09 | I103: =SUM(I104:I107) -> 8.0043142e+09 | J103: =SUM(J104:J107) -> 1.7053004e+11 | K103: =SUM(K104:K107) -> 1.8571691e+11 | ... R103: =SUM(R104:R107) -> 3.4135034e+09 | S103: =SUM(L103:R103) -> 7.1214056e+09 | T103: =SUM(T104:T107) -> 0 | U103: =SUM(U104:U107) -> 0 | V103: =SUM(V104:V107) -> 0 | W103: =SUM(W104:W107) -> 0 | X103: =SUM(X104:X107) -> 31707799 | Y103: =SUM(Y104:Y107) -> 3.6390899e+08 | Z103: =SUM(Z104:Z107) -> 1.5809442e+09 | AA103: =SUM(AA104:AA107) -> 1.976561e+09 | ... AH103: =SUM(AH104:AH107) -> 11489115 | AI103: =SUM(AI104:AI109) -> 2.5895545e+08 | AJ103: =SUM(AJ104:AJ107) -> 0 | AK103: =SUM(AK104:AK107) -> 0 | AL103: =SUM(AL104:AL107) -> 4.6937086e+08 | AM103: =SUM(AM104:AM107) -> 3.4490226e+08 | AN103: =SUM(AN104:AN107) -> 12798654 | AO103: =SUM(AO104:AO107) -> 1.9569705e+08 | AP103: =SUM(AP104:AP107) -> 1.5340274e+09 | AQ103: =SUM(AQ104:AQ108) -> 2.5567963e+09 | AR103: =SUM(AR104:AR107) -> 0 | AS103: =SUM(AS104:AS107) -> 2.4792352e+08 | AT103: =SUM(AT104:AT107) -> 194570075 | AU103: =SUM(AU104:AU107) -> 107750000 | AV103: =SUM(AV104:AV107) -> 95000 | AW103: =SUM(AW104:AW107) -> 594329980 | AX103: =SUM(AX104:AX107) -> 22107961499 | AY103: =SUM(AY104:AY107) -> 2.325263e+10 | ... BO103: =SUM(BO104:BO107) -> 1.5020352e+11
B104: 1.3.1 | C104: Худалдсан (-) | D104: =+L104+T104+AB104+AJ104+AR104+AZ104+BH104 -> 0 | E104: =+M104+U104+AC104+AK104+AS104+BA104+BI104 -> 0 | F104: =+N104+V104+AD104+AL104+AT104+BB104+BJ104 -> 1.0774334e+09 | G104: =+O104+W104+AE104+AM104+AU104+BC104+BK104 -> 1.7218698e+09 | H104: =+P104+X104+AF104+AN104+AV104+BD104+BL104 -> 1.5614173e+09 | I104: =+Q104+Y104+AG104+AO104+AW104+BE104+BM104 -> 4.7928479e+09 | J104: =+R104+Z104+AH104+AP104+AX104+BF104+BN104 -> 1.4254182e+11 | K104: =SUM(D104:J104) -> 1.5169539e+11 | N104: 0 | O104: 3.6715065e+08 | S104: =SUM(L104:R104) -> 3.6715065e+08 | X104: 30094446 | Y104: 42117906 | Z104: 1069315 | AA104: =SUM(T104:Z104) -> 73281667 | AI104: =SUM(AD104:AH104) -> 0 | AL104: 3.3184416e+08 | AO104: 59740385 | AP104: 6.5863005e+08 | AQ104: =SUM(AJ104:AP104) -> 1.0502146e+09 | AY104: =SUM(AR104:AX104) -> 0 | BD104: 1218181.1 | BG104: =SUM(AZ104:BF104) -> 1218181.1 | BJ104: 7.4558924e+08 | BK104: 1.3547191e+09 | BL104: 1.5301047e+09 | BM104: 4.6909896e+09 | BN104: 1.4188212e+11 | BO104: =+BH104+BI104+BJ104+BK104+BL104+BM104+BN104 -> 1.5020352e+11
B105: 1.3.2 | C105: Үнэгүй шилжүүлсэн (-) | D105: =+L105+T105+AB105+AJ105+AR105+AZ105+BH105 -> 0 | E105: =+M105+U105+AC105+AK105+AS105+BA105+BI105 -> 0 | F105: =+N105+V105+AD105+AL105+AT105+BB105+BJ105 -> 0 | G105: =+O105+W105+AE105+AM105+AU105+BC105+BK105 -> 0 | H105: =+P105+X105+AF105+AN105+AV105+BD105+BL105 -> 0 | I105: =+Q105+Y105+AG105+AO105+AW105+BE105+BM105 -> 0 | J105: =+R105+Z105+AH105+AP105+AX105+BF105+BN105 -> 0 | K105: =SUM(D105:J105) -> 0 | S105: =SUM(L105:R105) -> 0 | AA105: =SUM(T105:Z105) -> 0 | AI105: =SUM(AD105:AH105) -> 0 | AY105: =SUM(AR105:AX105) -> 0 | BG105: =SUM(AZ105:BF105) -> 0 | BO105: =+BH105+BI105+BJ105+BK105+BL105+BM105+BN105 -> 0
B106: 1.3.3 | C106: Акталсан (-) | D106: =+L106+T106+AB106+AJ106+AR106+AZ106+BH106 -> 0 | E106: =+M106+U106+AC106+AK106+AS106+BA106+BI106 -> 2.4792352e+08 | F106: =+N106+V106+AD106+AL106+AT106+BB106+BJ106 -> 1.3393149e+09 | G106: =+O106+W106+AE106+AM106+AU106+BC106+BK106 -> 1.1738003e+09 | H106: =+P106+X106+AF106+AN106+AV106+BD106+BL106 -> 60796524 | I106: =+Q106+Y106+AG106+AO106+AW106+BE106+BM106 -> 3.2114663e+09 | J106: =+R106+Z106+AH106+AP106+AX106+BF106+BN106 -> 2.7988226e+10 | K106: =SUM(D106:J106) -> 3.4021528e+10 | N106: 9.6824621e+08 | O106: 5.0440341e+08 | P106: 38970870 | Q106: 1.8291311e+09 | R106: 3.4135034e+09 | S106: =SUM(L106:R106) -> 6.754255e+09 | X106: 1613352.7 | Y106: 3.2179109e+08 | Z106: 1.5798749e+09 | AA106: =SUM(T106:Z106) -> 1.9032794e+09 | AD106: 38971945 | AE106: 1.9617574e+08 | AF106: 7318648 | AG106: 5000000 | AH106: 11489115 | AI106: =SUM(AB106:AH106) -> 2.5895545e+08 | AL106: 1.375267e+08 | AM106: 3.4490226e+08 | AN106: 12798654 | AO106: 1.3595666e+08 | AP106: 8.7539738e+08 | AQ106: =SUM(AJ106:AP106) -> 1.5065817e+09 | AS106: 2.4792352e+08 | AT106: 194570075 | AU106: 107750000 | AV106: 95000 | AW106: 594329980 | AX106: 22107961499 | AY106: =SUM(AR106:AX106) -> 2.325263e+10 | BC106: 20568900 | BE106: 3.2525748e+08 | BG106: =SUM(AZ106:BF106) -> 3.4582638e+08 | BO106: =+BH106+BI106+BJ106+BK106+BL106+BM106+BN106 -> 0
B107: 1.3.4 | D107: =+L107+T107+AB107+AJ107+AR107+AZ107+BH107 -> 0 | E107: =+M107+U107+AC107+AK107+AS107+BA107+BI107 -> 0 | F107: =+N107+V107+AD107+AL107+AT107+BB107+BJ107 -> 0 | G107: =+O107+W107+AE107+AM107+AU107+BC107+BK107 -> 0 | H107: =+P107+X107+AF107+AN107+AV107+BD107+BL107 -> 0 | I107: =+Q107+Y107+AG107+AO107+AW107+BE107+BM107 -> 0 | J107: =+R107+Z107+AH107+AP107+AX107+BF107+BN107 -> 0 | K107: =SUM(D107:J107) -> 0 | S107: =SUM(L107:R107) -> 0 | AA107: =SUM(T107:Z107) -> 0 | AI107: =SUM(AB107:AH107) -> 0 | AY107: =SUM(AR107:AX107) -> 0 | BG107: =SUM(AZ107:BF107) -> 0 | BO107: =+BH107+BI107+BJ107+BK107+BL107+BM107+BN107 -> 0
B108: 1.4 | C108: Үндсэн хөрөнгө дахин ангилсан | D108: =+L108+T108+AB108+AJ108+AR108+AZ108+BH108 -> 0 | E108: =+M108+U108+AC108+AK108+AS108+BA108+BI108 -> 0 | F108: =+N108+V108+AD108+AL108+AT108+BB108+BJ108 -> 1.5279255e+10 | G108: =+O108+W108+AE108+AM108+AU108+BC108+BK108 -> 0 | H108: =+P108+X108+AF108+AN108+AV108+BD108+BL108 -> -3754314.5 | I108: =+Q108+Y108+AG108+AO108+AW108+BE108+BM108 -> 0 | J108: =+R108+Z108+AH108+AP108+AX108+BF108+BN108 -> -1.52755e+10 | K108: =SUM(D108:J108) -> 0 | S108: =SUM(L108:R108) -> 0 | X108: -3754314.5 | Z108: 3754314.5 | AA108: =SUM(T108:Z108) -> 0 | AI108: =SUM(AB108:AH108) -> 0 | AL108: 1.5279255e+10 | AP108: -1.5279255e+10 | AY108: =SUM(AR108:AX108) -> 0 | BG108: =SUM(AZ108:BF108) -> 0 | BO108: =+BH108+BI108+BJ108+BK108+BL108+BM108+BN108 -> 0
B109: 1.5 | C109: Үндсэн хөрөнгө, ХОЗҮХХ хооронд дахин ангилсан | D109: =+L109+T109+AB109+AJ109+AR109+AZ109+BH109 -> 0 | E109: =+M109+U109+AC109+AK109+AS109+BA109+BI109 -> 0 | F109: =+N109+V109+AD109+AL109+AT109+BB109+BJ109 -> 0 | G109: =+O109+W109+AE109+AM109+AU109+BC109+BK109 -> 0 | H109: =+P109+X109+AF109+AN109+AV109+BD109+BL109 -> 0 | I109: =+Q109+Y109+AG109+AO109+AW109+BE109+BM109 -> 0 | J109: =+R109+Z109+AH109+AP109+AX109+BF109+BN109 -> 0 | K109: =SUM(D109:J109) -> 0 | AA109: =SUM(T109:Z109) -> 0 | AI109: =SUM(AB109:AH109) -> 0 | AY109: =SUM(AR109:AX109) -> 0 | BG109: =SUM(AZ109:BF109) -> 0 | BO109: =+BH109+BI109+BJ109+BK109+BL109+BM109+BN109 -> 0
B110: 1.6 | C110: Эцсийн үлдэгдэл | D110: =+D96+D97-D103+D108+D109 -> 3.8463056e+10 | E110: =+E96+E97-E103+E108+E109 -> 1.6074441e+11 | F110: =+F96+F97-F103+F108+F109 -> 2.5956342e+11 | G110: =+G96+G97-G103+G108+G109 -> 2.427675e+10 | H110: =+H96+H97-H103+H108+H109 -> 1.4577086e+10 | I110: =+I96+I97-I103+I108+I109 -> 7.1291677e+09 | J110: =+J96+J97-J103+J108+J109 -> 3.9526399e+10 | K110: =+K96+K97-K103+K108+K109 -> 5.4428029e+11 | ... AH110: =+AH96+AH97-AH103+AH108+AH109 -> 3.3429361e+09 | AI110: =SUM(AD110:AH110) -> 5.3122603e+10 | AJ110: =+AJ96+AJ97-AJ103+AJ108+AJ109 -> 1.5692134e+09 | AK110: =+AK96+AK97-AK103+AK108+AK109 -> 3.1452928e+08 | AL110: =+AL96+AL97-AL103+AL108+AL109 -> 1.5592729e+10 | AM110: =+AM96+AM97-AM103+AM108+AM109 -> 7.518263e+08 | AN110: =+AN96+AN97-AN103+AN108+AN109 -> 7.7200413e+08 | AO110: =+AO96+AO97-AO103+AO108+AO109 -> 9457781.2 | AP110: =+AP96+AP97-AP103+AP108+AP109 -> -1.8866915e+10 | AQ110: =+AQ96+AQ97-AQ103+AQ108+AQ109 -> 1.4284499e+08 | ... BO110: =+BO96+BO97-BO103+BO108+BO109 -> 0
B111: 2 | C111: ХУРИМТЛАГДСАН ЭЛЭГДЭЛ | AA111: =SUM(T111:Z111) -> 0 | AI111: =SUM(AD111:AH111) -> 0
B112: 2.1 | C112: Эхний үлдэгдэл | D112: =+'[55]Disclosure 2023'!D120 -> 3.5761421e+09 | E112: =+'[55]Disclosure 2023'!E120 -> 1.5452164e+10 | F112: =+'[55]Disclosure 2023'!F120 -> 3.6280311e+10 | G112: =+'[55]Disclosure 2023'!G120 -> 3.9282589e+09 | H112: =+'[55]Disclosure 2023'!H120 -> 4.6881824e+09 | I112: =+'[55]Disclosure 2023'!I120 -> 9.5224501e+09 | J112: =+'[55]Disclosure 2023'!J120 -> 5.1629126e+10 | K112: =SUM(D112:J112) -> 1.2507663e+11 | L112: 3.5747611e+09 | M112: 1.0311519e+10 | N112: 3.5821399e+10 | O112: 1.8194966e+09 | P112: 7.1617797e+08 | Q112: 2.1668621e+09 | R112: 1.3637892e+10 | S112: =SUM(L112:R112) -> 6.8048107e+10 | AA112: =SUM(T112:Z112) -> 0 | AI112: =SUM(AD112:AH112) -> 0 | AQ112: =+SUM(AJ112:AP112) -> 0 | AY112: =SUM(AR112:AX112) -> 0 | BG112: =SUM(AZ112:BF112) -> 0 | BJ112: 1.0508221e+08 | BK112: 3.2120489e+08 | BL112: 3.0340118e+08 | BM112: 3.9328909e+09 | BN112: 5.0427191e+10 | BO112: =+BH112+BI112+BJ112+BK112+BL112+BM112+BN112 -> 5.5089771e+10
B113: 2.2 | C113: Нэмэгдсэн дүн | D113: =SUM(D114:D116) -> 2.6394886e+09 | E113: =SUM(E114:E116) -> 7.976889e+09 | F113: =SUM(F114:F116) -> 2.3908947e+10 | G113: =SUM(G114:G116) -> 2.6408419e+09 | H113: =SUM(H114:H116) -> 6.4644047e+08 | I113: =SUM(I114:I116) -> 3.280567e+09 | J113: =SUM(J114:J116) -> 1.4984325e+10 | K113: =SUM(K114:K116) -> 5.6077498e+10 | ... AH113: =SUM(AH114:AH116) -> 3.5537483e+09 | AI113: =SUM(AD113:AH113) -> 1.1804306e+10 | AJ113: =SUM(AJ114:AJ116) -> 75316463 | AK113: =SUM(AK114:AK116) -> 5.2237342e+08 | AL113: =SUM(AL114:AL116) -> 3.6173577e+09 | AM113: =SUM(AM114:AM116) -> 89369758 | AN113: =SUM(AN114:AN116) -> 1.4999704e+08 | AO113: =SUM(AO114:AO116) -> 1.2346458e+08 | AP113: =SUM(AP114:AP116) -> 1.6410173e+09 | AQ113: =SUM(AQ114:AQ116) -> 6.2188962e+09 | ... AX113: =SUM(AX114:AX116) -> 21175542 | AY113: =SUM(AR113:AX113) -> 5.7157104e+09 | AZ113: =SUM(AZ114:AZ116) -> 0 | BA113: =SUM(BA114:BA116) -> 93658738 | BB113: =SUM(BB114:BB116) -> 1.6522877e+08 | BC113: =SUM(BC114:BC116) -> 4.8299762e+08 | BD113: =SUM(BD114:BD116) -> 20450670 | BE113: =SUM(BE114:BE116) -> 2.3991399e+08 | BF113: =SUM(BF114:BF116) -> 4.8382391e+08 | BG113: =SUM(BG114:BG116) -> 1.4860737e+09 | ... BO113: =SUM(BO114:BO116) -> 0
B114: 2.2.1 | C114: Байгуулсан элэгдэл | D114: =+L114+T114+AB114+AJ114+AR114+AZ114+BH114 -> 2.6394886e+09 | E114: =+M114+U114+AC114+AK114+AS114+BA114+BI114 -> 7.976889e+09 | F114: =+N114+V114+AD114+AL114+AT114+BB114+BJ114 -> 2.3908947e+10 | G114: =+O114+W114+AE114+AM114+AU114+BC114+BK114 -> 2.6408419e+09 | H114: =+P114+X114+AF114+AN114+AV114+BD114+BL114 -> 6.4644047e+08 | I114: =+Q114+Y114+AG114+AO114+AW114+BE114+BM114 -> 3.280567e+09 | J114: =+R114+Z114+AH114+AP114+AX114+BF114+BN114+BP114+BQ114+BR114+BS114 -> 1.4984325e+10 | K114: =SUM(D114:J114) -> 5.6077498e+10 | L114: 2.5634433e+09 | M114: 5.0834319e+09 | N114: 1.0117544e+10 | O114: 9.1082797e+08 | P114: 2.4508216e+08 | Q114: 1.3177546e+09 | R114: 7.9093972e+09 | S114: =SUM(L114:R114) -> 2.8147481e+10 | U114: 86965966 | W114: 7.4856468e+08 | X114: 83058881 | Y114: 4.1127872e+08 | Z114: 1.3843425e+09 | AA114: =SUM(T114:Z114) -> 2.7142107e+09 | AD114: 7.1011111e+09 | AE114: 3.4092132e+08 | AF114: 1.2340971e+08 | AG114: 6.851157e+08 | AH114: 3.5537483e+09 | AI114: =SUM(AD114:AH114) -> 1.1804306e+10 | AJ114: 75316463 | AK114: 5.2237342e+08 | AL114: 3.6173577e+09 | AM114: 89369758 | AN114: 1.4999704e+08 | AO114: 1.2346458e+08 | AP114: 1.6410173e+09 | AQ114: =+SUM(AJ114:AP114) -> 6.2188962e+09 | AR114: 728853.6 | AS114: 2.190459e+09 | AT114: 2907705101 | AU114: 68160526 | AV114: 24441998 | AW114: 503039381 | AX114: 21175542 | AY114: =SUM(AR114:AX114) -> 5.7157104e+09 | BA114: 93658738 | BB114: 1.6522877e+08 | BC114: 4.8299762e+08 | BD114: =20272249.12+178420.93 -> 20450670 | BE114: =240092408.91-178420.93 -> 2.3991399e+08 | BF114: 4.8382391e+08 | BG114: =SUM(AZ114:BF114) -> 1.4860737e+09 | BO114: =+BH114+BI114+BJ114+BK114+BL114+BM114+BN114 -> 0 | BS114: -9180078.3
B115: 2.2.2 | C115: Дахин үнэлгээгээр нэмэгдсэн | D115: =+L115+T115+AB115+AJ115+AR115+AZ115+BH115 -> 0 | E115: =+M115+U115+AC115+AK115+AS115+BA115+BI115 -> 0 | F115: =+N115+V115+AD115+AL115+AT115+BB115+BJ115 -> 0 | G115: =+O115+W115+AE115+AM115+AU115+BC115+BK115 -> 0 | H115: =+P115+X115+AF115+AN115+AV115+BD115+BL115 -> 0 | I115: =+Q115+Y115+AG115+AO115+AW115+BE115+BM115 -> 0 | J115: =+R115+Z115+AH115+AP115+AX115+BF115+BN115 -> 0 | K115: =SUM(D115:J115) -> 0 | S115: =SUM(L115:R115) -> 0 | AA115: =SUM(T115:Z115) -> 0 | AI115: =SUM(AD115:AH115) -> 0 | BG115: =SUM(AZ115:BF115) -> 0 | BO115: =+BH115+BI115+BJ115+BK115+BL115+BM115+BN115 -> 0
B116: 2.2.3 | C116: Үнэ цэнийн бууралтын буцаалт | D116: =+L116+T116+AB116+AJ116+AR116+AZ116+BH116 -> 0 | E116: =+M116+U116+AC116+AK116+AS116+BA116+BI116 -> 0 | F116: =+N116+V116+AD116+AL116+AT116+BB116+BJ116 -> 0 | G116: =+O116+W116+AE116+AM116+AU116+BC116+BK116 -> 0 | H116: =+P116+X116+AF116+AN116+AV116+BD116+BL116 -> 0 | I116: =+Q116+Y116+AG116+AO116+AW116+BE116+BM116 -> 0 | J116: =+R116+Z116+AH116+AP116+AX116+BF116+BN116 -> 0 | K116: =SUM(D116:J116) -> 0 | S116: =SUM(L116:R116) -> 0 | AA116: =SUM(T116:Z116) -> 0 | AI116: =SUM(AD116:AH116) -> 0 | BG116: =SUM(AZ116:BF116) -> 0 | BO116: =+BH116+BI116+BJ116+BK116+BL116+BM116+BN116 -> 0
B117: 2.3 | C117: Хасагдсан дүн | D117: =SUM(D118:D120) -> 0 | E117: =SUM(E118:E120) -> 1.4940185e+08 | F117: =SUM(F118:F120) -> 1.3551465e+09 | G117: =SUM(G118:G120) -> 1.3961395e+09 | H117: =SUM(H118:H120) -> 3.5057097e+08 | I117: =SUM(I118:I120) -> 7.1243642e+09 | J117: =SUM(J118:J120) -> 5.6568026e+10 | K117: =SUM(K118:K120) -> 6.6943649e+10 | ... R117: =SUM(R118:R120) -> 2.8606968e+09 | S117: =SUM(L117:R117) -> 5.9801961e+09 | T117: =SUM(T118:T120) -> 0 | U117: =SUM(U118:U120) -> 0 | V117: =SUM(V118:V120) -> 0 | W117: =SUM(W118:W120) -> 0 | X117: =SUM(X118:X120) -> 11625336 | Y117: =SUM(Y118:Y120) -> 3.2179109e+08 | Z117: =SUM(Z118:Z120) -> 1.5737156e+09 | AA117: =SUM(AA118:AA120) -> 1.907132e+09 | ... AH117: =SUM(AH118:AH120) -> 6272897.3 | AI117: =SUM(AD117:AH117) -> 2.105149e+08 | AJ117: =SUM(AJ118:AJ120) -> 0 | AK117: =SUM(AK118:AK120) -> 0 | AL117: =SUM(AL118:AL120) -> 2.6862765e+08 | AM117: =SUM(AM118:AM120) -> 3.4490226e+08 | AN117: =SUM(AN118:AN120) -> 12798654 | AO117: =SUM(AO118:AO120) -> 1.3390935e+08 | AP117: =SUM(AP118:AP120) -> 1.6963346e+09 | AQ117: =SUM(AQ118:AQ120) -> 2.4565726e+09 | ... BO117: =SUM(BO118:BO120) -> 5.5089771e+10
B118: 2.3.1 | C118: Данснаас хассан хөрөнгийн элэгдэл | D118: =+L118+T118+AB118+AJ118+AR118+AZ118+BH118 -> 0 | E118: =+M118+U118+AC118+AK118+AS118+BA118+BI118 -> 1.4940185e+08 | F118: =+N118+V118+AD118+AL118+AT118+BB118+BJ118 -> 1.3551465e+09 | G118: =+O118+W118+AE118+AM118+AU118+BC118+BK118 -> 1.3961395e+09 | H118: =+P118+X118+AF118+AN118+AV118+BD118+BL118 -> 3.5057097e+08 | I118: =+Q118+Y118+AG118+AO118+AW118+BE118+BM118 -> 7.1243642e+09 | J118: =+R118+Z118+AH118+AP118+AX118+BF118+BN118+BR118 -> 5.6568026e+10 | K118: =SUM(D118:J118) -> 6.6943649e+10 | N118: 8.2744653e+08 | O118: 4.5428388e+08 | P118: 19309628 | Q118: 1.8184593e+09 | R118: 2.8606968e+09 | S118: =SUM(L118:R118) -> 5.9801961e+09 | X118: 11625336 | Y118: 3.2179109e+08 | Z118: =1573715586.95955+5.81 -> 1.5737156e+09 | AA118: =SUM(T118:Z118) -> 1.907132e+09 | AD118: 38971945 | AE118: 1.5695374e+08 | AF118: 3316315.4 | AG118: 5000000 | AH118: 6272897.3 | AI118: =SUM(AD118:AH118) -> 2.105149e+08 | AL118: 2.6862765e+08 | AM118: 3.4490226e+08 | AN118: 12798654 | AO118: 1.3390935e+08 | AP118: 1.6963346e+09 | AQ118: =+SUM(AJ118:AP118) -> 2.4565726e+09 | AS118: 1.4940185e+08 | AT118: 115018168 | AU118: 107750000 | AV118: 34013 | AW118: 594027516 | AX118: 0 | AY118: =SUM(AR118:AX118) -> 9.6623155e+08 | BC118: 11044755 | BD118: 85839.24 | BE118: 3.1828605e+08 | BG118: =SUM(AZ118:BF118) -> 3.2941664e+08 | BJ118: 1.0508221e+08 | BK118: 3.2120489e+08 | BL118: 3.0340118e+08 | BM118: 3.9328909e+09 | BN118: 5.0427191e+10 | BO118: =+BH118+BI118+BJ118+BK118+BL118+BM118+BN118 -> 5.5089771e+10 | BR118: 3815010
B119: 2.3.2 | C119: Дахин үнэлгээгээр хасагдсан | D119: =+L119+T119+AB119+AJ119+AR119+AZ119+BH119 -> 0 | E119: =+M119+U119+AC119+AK119+AS119+BA119+BI119 -> 0 | F119: =+N119+V119+AD119+AL119+AT119+BB119+BJ119 -> 0 | G119: =+O119+W119+AE119+AM119+AU119+BC119+BK119 -> 0 | H119: =+P119+X119+AF119+AN119+AV119+BD119+BL119 -> 0 | I119: =+Q119+Y119+AG119+AO119+AW119+BE119+BM119 -> 0 | J119: =+R119+Z119+AH119+AP119+AX119+BF119+BN119 -> 0 | K119: =SUM(D119:J119) -> 0 | S119: =SUM(L119:R119) -> 0 | AA119: =SUM(T119:Z119) -> 0 | AI119: =SUM(AD119:AH119) -> 0 | AY119: =SUM(AR119:AX119) -> 0 | BG119: =SUM(AZ119:BF119) -> 0 | BO119: =+BH119+BI119+BJ119+BK119+BL119+BM119+BN119 -> 0
B120: 2.3.3 | C120: Үнэ цэнийн бууралт | D120: =+L120+T120+AB120+AJ120+AR120+AZ120+BH120 -> 0 | E120: =+M120+U120+AC120+AK120+AS120+BA120+BI120 -> 0 | F120: =+N120+V120+AD120+AL120+AT120+BB120+BJ120 -> 0 | G120: =+O120+W120+AE120+AM120+AU120+BC120+BK120 -> 0 | H120: =+P120+X120+AF120+AN120+AV120+BD120+BL120 -> 0 | I120: =+Q120+Y120+AG120+AO120+AW120+BE120+BM120 -> 0 | J120: =+R120+Z120+AH120+AP120+AX120+BF120+BN120 -> 0 | K120: =SUM(D120:J120) -> 0 | S120: =SUM(L120:R120) -> 0 | AA120: =SUM(T120:Z120) -> 0 | AI120: =SUM(AD120:AH120) -> 0 | AY120: =SUM(AR120:AX120) -> 0 | BG120: =SUM(AZ120:BF120) -> 0 | BO120: =+BH120+BI120+BJ120+BK120+BL120+BM120+BN120 -> 0
B121: 2.4 | C121: Эцсийн үлдэгдэл | D121: =+D112+D113-D117 -> 6.2156308e+09 | E121: =+E112+E113-E117 -> 2.3279651e+10 | F121: =+F112+F113-F117 -> 5.8834111e+10 | G121: =+G112+G113-G117 -> 5.1729612e+09 | H121: =+H112+H113-H117 -> 4.9840519e+09 | I121: =+I112+I113-I117 -> 5.6786528e+09 | J121: =+J112+J113-J117 -> 1.0045425e+10 | K121: =+K112+K113-K117 -> 1.1421048e+11 | ... R121: =+R112+R113-R117 -> 1.8686592e+10 | S121: =SUM(L121:R121) -> 9.0215392e+10 | T121: =+T112+T113-T117 -> 0 | U121: =+U112+U113-U117 -> 86965966 | V121: =+V112+V113-V117 -> 0 | W121: =+W112+W113-W117 -> 7.4856468e+08 | X121: =+X112+X113-X117 -> 71433546 | Y121: =+Y112+Y113-Y117 -> 89487631 | Z121: =+Z112+Z113-Z117 -> -1.8937314e+08 | AA121: =+AA112+AA113-AA117 -> 8.0707868e+08 | ... AH121: =+AH112+AH113-AH117 -> 3.5474754e+09 | AI121: =SUM(AD121:AH121) -> 1.1593791e+10 | AJ121: =+AJ112+AJ113-AJ117 -> 75316463 | AK121: =+AK112+AK113-AK117 -> 5.2237342e+08 | AL121: =+AL112+AL113-AL117 -> 3.34873e+09 | AM121: =+AM112+AM113-AM117 -> -2.5553251e+08 | AN121: =+AN112+AN113-AN117 -> 1.3719839e+08 | AO121: =+AO112+AO113-AO117 -> -10444769 | AP121: =+AP112+AP113-AP117 -> -55317384 | AQ121: =+AQ112+AQ113-AQ117 -> 3.7623236e+09 | ... BG121: =+BG112+BG113-BG117 -> 1.1566571e+09 | BH121: 0 | BI121: =+BI112+BI113-BI117 -> 0 | BJ121: =+BJ112+BJ113-BJ117 -> 0 | BK121: =+BK112+BK113-BK117 -> 0 | BL121: =+BL112+BL113-BL117 -> 0 | BM121: =+BM112+BM113-BM117 -> 0 | BN121: =+BN112+BN113-BN117 -> 0 | BO121: =+BO112+BO113-BO117 -> 0
B122: 3 | C122: ДАНСНЫ ЦЭВЭР ДҮН | S122: =SUM(L122:R122) -> 0 | AA122: =SUM(T122:Z122) -> 0 | AI122: =SUM(AD122:AH122) -> 0
B123: 3.1 | C123: Эхний үлдэгдэл | D123: =+D96-D112 -> 3.2188609e+10 | E123: =+E96-E112 -> 1.2767172e+11 | F123: =+F96-F112 -> 1.4849156e+11 | G123: =+G96-G112 -> 1.099601e+10 | H123: =+H96-H112 -> 9.974122e+09 | I123: =+I96-I112 -> 2.7026888e+09 | J123: =+J96-J112 -> 1.5249896e+11 | K123: =+K96-K112 -> 4.8452367e+11 | ... AH123: =+AH96-AH112 -> 0 | AI123: =SUM(AD123:AH123) -> 0 | AJ123: =+AJ96-AJ112 -> 0 | AK123: =+AK96-AK112 -> 0 | AL123: =+AL96-AL112 -> 0 | AM123: =+AM96-AM112 -> 0 | AN123: =+AN96-AN112 -> 0 | AO123: =+AO96-AO112 -> 0 | AP123: =+AP96-AP112 -> 0 | AQ123: =+AQ96-AQ112 -> 0 | ... BO123: =+BO96-BO112 -> 9.511375e+10
B124: 3.2 | C124: Эцсийн үлдэгдэл | D124: =+D110-D121 -> 3.2247425e+10 | E124: =+E110-E121 -> 1.3746476e+11 | F124: =+F110-F121 -> 2.0072931e+11 | G124: =+G110-G121 -> 1.9103788e+10 | H124: =+H110-H121 -> 9.5930339e+09 | I124: =+I110-I121 -> 1.4505148e+09 | J124: =+J110-J121 -> 2.9480974e+10 | K124: =SUM(D124:J124) -> 4.300698e+11 | L124: =+L110-L121 -> 3.3564702e+10 | M124: =+M110-M121 -> 1.0147553e+11 | N124: =+N110-N121 -> 5.5973668e+10 | O124: =+O110-O121 -> 6.4559311e+09 | P124: =+P110-P121 -> 1.5119535e+09 | Q124: =+Q110-Q121 -> 2.414066e+09 | R124: =+R110-R121 -> 4.7291978e+10 | S124: =+S110-S121 -> 2.4868783e+11 | ... Z124: =+Z110-Z121 -> -5.3971708e+08 | AA124: =SUM(T124:Z124) -> 3.0163386e+09 | AD124: =+AD110-AD121 -> 4.1381755e+10 | AE124: =+AE110-AE121 -> 1.0844664e+09 | AF124: =+AF110-AF121 -> -97764225 | AG124: =+AG110-AG121 -> -6.3510593e+08 | AH124: =+AH110-AH121 -> -2.0453928e+08 | AI124: =+AI110-AI121 -> 4.1528811e+10 | AJ124: =+AJ110-AJ121 -> 1.493897e+09 | AK124: =+AK110-AK121 -> -2.0784414e+08 | ... AY124: =+AY110-AY121 -> -6.2725345e+09 | BA124: =+BA110-BA121 -> -93658738 | BB124: =+BB110-BB121 -> 6.3929037e+08 | BC124: =+BC110-BC121 -> 1.5005914e+09 | BD124: =+BD110-BD121 -> 63275152 | BE124: =+BE110-BE121 -> -44097545 | BF124: =+BF110-BF121 -> -2.1626882e+08 | BG124: =SUM(AZ124:BF124) -> 1.8491318e+09 | BH124: =+BH110-BH121 -> 0 | BI124: =+BI110-BI121 -> 0 | BJ124: =+BJ110-BJ121 -> 0 | BK124: =+BK110-BK121 -> 0 | BL124: =+BL110-BL121 -> 0 | BM124: =+BM110-BM121 -> 0 | BN124: =+BN110-BN121 -> 0 | BO124: =+BO110-BO121 -> 0
AI125: =+AI96-AI112 -> 0 | BG125: =+BG110-BG121 -> 1.8491318e+09
...

Sheet Disclosure 2025
A1: Байгууллагын нэр: АПУ
A2: Регистр: 2702673
B4: 1. Мөнгө түүнтэй адилтгах хөрөнгө
B6: № | C6: Үзүүлэлт | D6: Эхний үлдэгдэл | E6: Эцсийн үлдэгдэл
B7: 1 | C7: Касс дахь мөнгө | D7: 3.6621734e+09 | E7: 2.3274136e+09
B8: 2 | C8: Банкин дахь мөнгө | D8: 8.9312151e+10 | E8: 1.0664466e+11
B9: 3 | C9: Мөнгөтэй адилтгах хөрөнгө | E9: 0
B10: 4 | C10: Нийт дүн | D10: =SUM(D7:D9) -> 9.2974324e+10 | E10: =SUM(E7:E9) -> 1.0897208e+11
B11: Тэмдэглэл
B14: 4.1. Дансны авлага
B16: № | C16: Үзүүлэлт | D16: Дансны авлага | E16: Найдваргүй авлагын хасагдуулга | F16: Дансны авлага (цэвэр дүнгээр)
B17: 1 | C17: Эхний үлдэгдэл | D17: 7.5201041e+10 | E17: 7.068534e+08 | F17: 74494188000
B18: 2 | C18: Нэмэгдсэн | D18: =+'Disclosure working 2025'!D15 -> 3.9860276e+11 | E18: =+'Disclosure working 2025'!E15 -> 0 | F18: =+D18-E18 -> 3.9860276e+11
B19: 3 | C19: Хасагдсан | D19: =SUM(D20:D21) -> 3.8889991e+11 | E19: =SUM(E20:E21) -> 0 | F19: =SUM(F20:F21) -> 3.8889991e+11
B20: 3.1 | C20: -Төлөгдсөн | D20: =+'Disclosure working 2025'!D17 -> 3.8889991e+11 | E20: =+'Disclosure working 2025'!E17 -> 0 | F20: =+D20-E20 -> 3.8889991e+11
B21: 3.2 | C21: -Найдваргүй болсон | D21: =+'Disclosure working 2025'!D18 -> 0 | E21: =+'Disclosure working 2025'!E18 -> 0 | F21: =+D21-E21 -> 0
B22: 4 | C22: Эцсийн үлдэгдэл | D22: =+D17+D18-D19 -> 8.4903893e+10 | E22: =+E17+E18-E19 -> 7.068534e+08 | F22: =+F17+F18-F19 -> 84197039735
F23: =+F22-BS!E11 -> 0
B25: 4.2. Татвар, НДШ-ийн авлага
B27: № | C27: Үзүүлэлт | D27: Эхний үлдэгдэл | E27: Эцсийн үлдэгдэл
B28: 1 | C28: ААНОАТ-ын авлага | D28: 3.7101957e+09 | E28: 5.8889178e+09
B29: 2 | C29: НӨАТ-ын авлага | D29: 8.8222398e+09 | E29: 1.528788e+10
B30: 3 | C30: НДШ-ийн авлага | D30: 9229066.3 | E30: 13975646
B31: 4 | C31: Бусад татварын авлага | D31: 3.8571664e+09 | E31: 2.9073578e+09
C32: Нийт дүн | D32: =SUM(D28:D31) -> 16398831000 | E32: =SUM(E28:E31) -> 2.4098131e+10
B35: 4.3. Бусад богино хугацаат авлага
B37: № | C37: Үзүүлэлт | D37: Эхний үлдэгдэл | E37: Эцсийн үлдэгдэл
B38: 1 | C38: Холбоотой талаас авах авлагын тайлант хугацаанд хамаарах дүн | D38: 20164115 | E38: =+'Disclosure working 2025'!E39 -> 54161306
B39: 2 | C39: Ажиллагчдаас авах авлага | D39: 7.1536881e+08 | E39: =+'Disclosure working 2025'!E40 -> 36480575
B40: 3 | C40: Ноогдол ашгийн авлага | D40: 0 | E40: =+'Disclosure working 2025'!E41 -> 0
B41: 4 | C41: Хүүний авлага | D41: 0 | E41: =+'Disclosure working 2025'!E42 -> 0
B42: 5 | C42: Богино хугацаат авлагын бичиг | D42: 0 | E42: =+'Disclosure working 2025'!E43 -> 0
B43: 6 | C43: Бусад талуудаас авах авлага | D43: 1.2796184e+10 | E43: =+'Disclosure working 2025'!E44 -> 1.4915249e+10
B44: 7 | C44: Бусад | D44: 1.673141e+10 | E44: =+'Disclosure working 2025'!E45 -> 5.0892346e+09
C45: Нийт дүн | D45: =SUM(D38:D44) -> 30263127000 | E45: =SUM(E38:E44) -> 2.0095126e+10
E46: =+E45-BS!E13 -> 0
B48: 5. Бусад санхүүгийн хөрөнгө
B50: № | C50: Үзүүлэлт | D50: Эхний үлдэгдэл | E50: Эцсийн үлдэгдэл
B51: 1 | C51: Бусад санхүүгийн хөрөнгө | D51: 0 | E51: 0
C52: Нийт дүн | D52: =SUM(D51) -> 0 | E52: =SUM(E51) -> 0
B57: 6. Бараа материал
B59: № | C59: Үзүүлэлт | D59: Түүхий эд материал | E59: Дуусаагүй үйлдвэрлэл | F59: Бэлэн бүтээгдэхүүн | G59: Бараа | H59: Хангамжийн материал | I59: Бусад | J59: Нийт дүн
B60: 1 | C60: Эхний үлдэгдэл (өртгөөр) | D60: 1.0216652e+11 | E60: 4.5248185e+09 | F60: 8.3413776e+10 | G60: 2.0787412e+09 | H60: 4.7571912e+09 | I60: 9.9640145e+09 | J60: =SUM(D60:I60) -> 2.0690506e+11
B61: 2 | C61: Нэмэгдсэн дүн | D61: =+'Disclosure working 2025'!D66 -> 3.5617213e+11 | E61: =+'Disclosure working 2025'!E66 -> 1.5606737e+11 | F61: =+'Disclosure working 2025'!F66 -> 2.9583607e+11 | G61: =+'Disclosure working 2025'!G66 -> 8.5384781e+09 | H61: =+'Disclosure working 2025'!H66 -> 7.0897347e+09 | I61: =+'Disclosure working 2025'!I66 -> 7.6346561e+09 | J61: =SUM(D61:I61) -> 8.3133843e+11
B62: 3 | C62: Хасагдсан дүн | D62: =+'Disclosure working 2025'!D67 -> 3.6643701e+11 | E62: =+'Disclosure working 2025'!E67 -> 1.574017e+11 | F62: =+'Disclosure working 2025'!F67 -> 3.1315282e+11 | G62: =+'Disclosure working 2025'!G67 -> 8.7837334e+09 | H62: =+'Disclosure working 2025'!H67 -> 9.2722731e+09 | I62: =+'Disclosure working 2025'!I67 -> 9.0773907e+09 | J62: =SUM(D62:I62) -> 8.6412493e+11
B63: 4 | C63: Эцсийн үлдэгдэл (өртгөөр) | D63: =+D60+D61-D62 -> 9.1901636e+10 | E63: =+E60+E61-E62 -> 3.19048e+09 | F63: =+F60+F61-F62 -> 6.6097023e+10 | G63: =+G60+G61-G62 -> 1.8334859e+09 | H63: =+H60+H61-H62 -> 2.5746528e+09 | I63: =+I60+I61-I62 -> 8.5212799e+09 | J63: =J60+J61-J62 -> 1.7411856e+11
B64: 5 | C64: Үнийн бууралтын гарз (-) | D64: 0 | E64: 0 | F64: 0 | G64: 0 | H64: 0 | I64: 0 | J64: 0
B65: 6 | C65: Үнийн бууралтын буцаалт | D65: 0 | E65: 0 | F65: 0 | G65: 0 | H65: 0 | I65: 0 | J65: 0
B66: 7 | C66: Дансны цэвэр дүн | D66: =+D63-D64+D65 -> 9.1901636e+10 | E66: =+E63-E64+E65 -> 3.19048e+09 | F66: =+F63-F64+F65 -> 6.6097023e+10 | G66: =+G63-G64+G65 -> 1.8334859e+09 | H66: =+H63-H64+H65 -> 2.5746528e+09 | I66: =+I63-I64+I65 -> 8.5212799e+09 | J66: =+J63-J64+J65 -> 1.7411856e+11
B67: 7.1 | C67: Эхний үлдэгдэл | D67: 1.0216652e+11 | E67: 4.5248185e+09 | F67: 8.3413776e+10 | G67: 2.0787412e+09 | H67: 4.7571912e+09 | I67: 9.9640145e+09 | J67: 2.0690502e+11
B68: 7.2 | C68: Эцсийн үлдэгдэл
B69: Тэмдэглэл | D69: 1.0264133e+11 | E69: 4.5248185e+09 | F69: 8.3413776e+10 | G69: 2.0787412e+09 | H69: 4.7571912e+09 | I69: 9.9639718e+09
D70: =+D60-D69 -> -4.748112e+08 | E70: =+E60-E69 -> -1.8119812e-05 | F70: =+F60-F69 -> 0.00035095215 | G70: =+G60-G69 -> 0 | H70: =+H60-H69 -> -0.0035772324 | I70: =+I60-I69 -> 42726.59
D71: =+D62-D70 -> 3.6691182e+11 | I71: =+I62-I70 -> 9.0773479e+09 | J71: =+J66-BS!E15 -> 0
B72: 8. Урьдчилж төлсөн зардал/тооцоо | J72: 1.7506818e+11
J73: =+J66-J72 -> -9.496224e+08
B74: № | C74: Үзүүлэлт | D74: Эцсийн үлдэгдэл | E74: Эцсийн үлдэгдэл | J74: =+J73/2 -> -4.748112e+08
B75: 1 | C75: Урьдчилж төлсөн зардал | D75: 2.2824985e+10 | E75: =+'Disclosure working 2025'!E83 -> 1.0139536e+10
B76: 2 | C76: Урьдчилж төлсөн түрээс, даатгал | D76: 2.8021127e+08 | E76: =+'Disclosure working 2025'!E84 -> 6427150
B77: 3 | C77: Бэлтгэн нийлүүлэгчдэд төлсөн урьдчилгаа төлбөр | D77: 1.5010905e+10 | E77: =+'Disclosure working 2025'!E85 -> 7.405537e+09
B78: 4 | C78: Бусад төрөл | D78: 0 | E78: 0
C79: Нийт дүн | D79: =SUM(D75:D78) -> 3.8116101e+10 | E79: =SUM(E75:E78) -> 1.75515e+10
E80: =+E79-BS!E16 -> 0
B84: 9. Үндсэн хөрөнгө
B86: № | C86: Үзүүлэлт | D86: Газрын сайжруулалт | E86: Барилга байгууламж | F86: Машин, тоног | G86: Тээврийн хэрэгсэл | H86: Тавилга эд хогшил | I86: Компьютер, бусад хэрэгсэл | J86: Бусад үндсэн хөрөнгө | K86: Нийт дүн
B87: 1 | C87: ҮНДСЭН ХӨРӨНГӨ /ӨРТӨГ/
B88: 1.1 | C88: Эхний үлдэгдэл | D88: 3.5020082e+10 | E88: 1.4417496e+11 | F88: 2.0494244e+11 | G88: 1.8058774e+10 | H88: 1.6346393e+10 | I88: 1.3695489e+10 | J88: 2.2942933e+11 | K88: =SUM(D88:J88) -> 6.6166747e+11
B89: 1.2 | C89: Нэмэгдсэн дүн | D89: =SUM(D90:D94) -> 2.6983044e+09 | E89: =SUM(E90:E94) -> 1.7868445e+10 | F89: =SUM(F90:F94) -> 6.192905e+10 | G89: =SUM(G90:G94) -> 1.2248151e+10 | H89: =SUM(H90:H94) -> 1.5407495e+09 | I89: =SUM(I90:I94) -> 2.908343e+09 | J89: =SUM(J90:J94) -> 2.8354363e+10 | K89: =SUM(K90:K94) -> 1.2754741e+11
B90: 1.2.1 | C90: Өөрөө үйлдвэрлэсэн | D90: =+'Disclosure working 2025'!D98 -> 0 | E90: =+'Disclosure working 2025'!E98 -> 9.7562331e+09 | F90: =+'Disclosure working 2025'!F98 -> 1654742976 | G90: =+'Disclosure working 2025'!G98 -> 0 | H90: =+'Disclosure working 2025'!H98 -> 18364364 | I90: =+'Disclosure working 2025'!I98 -> 394100504 | J90: =+'Disclosure working 2025'!J98 -> 9.9061335e+09 | K90: =SUM(D90:J90) -> 2.1729574e+10
B91: 1.2.2 | C91: Худалдаж авсан | D91: =+'Disclosure working 2025'!D99 -> 2.6983044e+09 | E91: =+'Disclosure working 2025'!E99 -> 8.112212e+09 | F91: =+'Disclosure working 2025'!F99 -> 6.0274307e+10 | G91: =+'Disclosure working 2025'!G99 -> 1.2248151e+10 | H91: =+'Disclosure working 2025'!H99 -> 1.5223852e+09 | I91: =+'Disclosure working 2025'!I99 -> 2.5142425e+09 | J91: =+'Disclosure working 2025'!J99 -> 1.1297723e+10 | K91: =SUM(D91:J91) -> 9.8667325e+10
B92: 1.2.3 | C92: Үнэ төлбөргүй авсан | D92: =+'Disclosure working 2025'!D100 -> 0 | E92: =+'Disclosure working 2025'!E100 -> 0 | F92: =+'Disclosure working 2025'!F100 -> 0 | G92: =+'Disclosure working 2025'!G100 -> 0 | H92: =+'Disclosure working 2025'!H100 -> 0 | I92: =+'Disclosure working 2025'!I100 -> 0 | J92: =+'Disclosure working 2025'!J100 -> 0 | K92: =SUM(D92:J92) -> 0
B93: 1.2.4 | C93: Дахин үнэлгээний нэмэгдэл | D93: =+'Disclosure working 2025'!D101 -> 0 | E93: =+'Disclosure working 2025'!E101 -> 0 | F93: =+'Disclosure working 2025'!F101 -> 0 | G93: =+'Disclosure working 2025'!G101 -> 0 | H93: =+'Disclosure working 2025'!H101 -> 0 | I93: =+'Disclosure working 2025'!I101 -> 0 | J93: =+'Disclosure working 2025'!J101 -> 0 | K93: =SUM(D93:J93) -> 0
B94: 1.2.5 | C94: Бусад | D94: =+'Disclosure working 2025'!D102 -> 0 | E94: =+'Disclosure working 2025'!E102 -> 0 | F94: =+'Disclosure working 2025'!F102 -> 0 | G94: =+'Disclosure working 2025'!G102 -> 0 | H94: =+'Disclosure working 2025'!H102 -> 0 | I94: =+'Disclosure working 2025'!I102 -> 0 | J94: =+'Disclosure working 2025'!J102 -> 7.1505071e+09 | K94: =SUM(D94:J94) -> 7.1505071e+09
B95: 1.3 | C95: Хасагдсан дүн | D95: =SUM(D96:D101) -> 0 | E95: =SUM(E96:E98) -> 2.4792352e+08 | F95: =SUM(F96:F98) -> 2.4167483e+09 | G95: =SUM(G96:G98) -> 2.8956701e+09 | H95: =SUM(H96:H98) -> 1.6222139e+09 | I95: =SUM(I96:I98) -> 8.0043142e+09 | J95: =SUM(J96:J98) -> 1.7053004e+11 | K95: =SUM(K96:K101) -> 1.8571691e+11
B96: 1.3.1 | C96: Худалдсан (-) | D96: =+'Disclosure working 2025'!D104 -> 0 | E96: =+'Disclosure working 2025'!E104 -> 0 | F96: =+'Disclosure working 2025'!F104 -> 1.0774334e+09 | G96: =+'Disclosure working 2025'!G104 -> 1.7218698e+09 | H96: =+'Disclosure working 2025'!H104 -> 1.5614173e+09 | I96: =+'Disclosure working 2025'!I104 -> 4.7928479e+09 | J96: =+'Disclosure working 2025'!J104 -> 1.4254182e+11 | K96: =SUM(D96:J96) -> 1.5169539e+11
B97: 1.3.2 | C97: Үнэгүй шилжүүлсэн (-) | D97: =+'Disclosure working 2025'!D105 -> 0 | E97: =+'Disclosure working 2025'!E105 -> 0 | F97: =+'Disclosure working 2025'!F105 -> 0 | G97: =+'Disclosure working 2025'!G105 -> 0 | H97: =+'Disclosure working 2025'!H105 -> 0 | I97: =+'Disclosure working 2025'!I105 -> 0 | J97: =+'Disclosure working 2025'!J105 -> 0 | K97: =SUM(D97:J97) -> 0
B98: 1.3.3 | C98: Акталсан (-) | D98: =+'Disclosure working 2025'!D106 -> 0 | E98: =+'Disclosure working 2025'!E106 -> 2.4792352e+08 | F98: =+'Disclosure working 2025'!F106 -> 1.3393149e+09 | G98: =+'Disclosure working 2025'!G106 -> 1.1738003e+09 | H98: =+'Disclosure working 2025'!H106 -> 60796524 | I98: =+'Disclosure working 2025'!I106 -> 3.2114663e+09 | J98: =+'Disclosure working 2025'!J106 -> 2.7988226e+10 | K98: =SUM(D98:J98) -> 3.4021528e+10
B99: 1.3.4 | D99: =+'Disclosure working 2025'!D107 -> 0 | E99: =+'Disclosure working 2025'!E107 -> 0 | F99: =+'Disclosure working 2025'!F107 -> 0 | G99: =+'Disclosure working 2025'!G107 -> 0 | H99: =+'Disclosure working 2025'!H107 -> 0 | I99: =+'Disclosure working 2025'!I107 -> 0 | J99: =+'Disclosure working 2025'!J107 -> 0 | K99: =SUM(D99:J99) -> 0
B100: 1.4 | C100: Үндсэн хөрөнгө дахин ангилсан | D100: =+'Disclosure working 2025'!D108 -> 0 | E100: =+'Disclosure working 2025'!E108 -> 0 | F100: =+'Disclosure working 2025'!F108 -> 1.5279255e+10 | G100: =+'Disclosure working 2025'!G108 -> 0 | H100: =+'Disclosure working 2025'!H108 -> -3754314.5 | I100: =+'Disclosure working 2025'!I108 -> 0 | J100: =+'Disclosure working 2025'!J108 -> -1.52755e+10 | K100: =SUM(D100:J100) -> 0
B101: 1.5 | C101: Үндсэн хөрөнгө, ХОЗҮХХ хооронд дахин ангилсан | D101: =+'Disclosure working 2025'!D109 -> 0 | E101: =+'Disclosure working 2025'!E109 -> 0 | F101: =+'Disclosure working 2025'!F109 -> 0 | G101: =+'Disclosure working 2025'!G109 -> 0 | H101: =+'Disclosure working 2025'!H109 -> 0 | I101: =+'Disclosure working 2025'!I109 -> 0 | J101: =+'Disclosure working 2025'!J109 -> 0 | K101: =SUM(D101:J101) -> 0
B102: 1.6 | C102: Эцсийн үлдэгдэл | D102: =+D88+D89-D95 -> 3.7718386e+10 | E102: =+E88+E89-E95 -> 1.6179548e+11 | F102: =+F88+F89-F95 -> 2.6445475e+11 | G102: =+G88+G89-G95 -> 2.7411255e+10 | H102: =+H88+H89-H95 -> 1.6264929e+10 | I102: =+I88+I89-I95 -> 8.5995182e+09 | J102: =+J88+J89-J95 -> 8.7253652e+10 | K102: =+K88+K89-K95 -> 6.0349796e+11
B103: 2 | C103: ХУРИМТЛАГДСАН ЭЛЭГДЭЛ
B104: 2.1 | C104: Эхний үлдэгдэл | D104: 6.1108274e+09 | E104: 2.0758166e+10 | F104: 5.8032386e+10 | G104: 5.87344e+09 | H104: 5.2462893e+09 | I104: 1.1681785e+10 | J104: 7.6996067e+10 | K104: =SUM(D104:J104) -> 1.8469896e+11
B105: 2.2 | C105: Нэмэгдсэн дүн | D105: =SUM(D106:D108) -> 2.6394886e+09 | E105: =SUM(E106:E108) -> 7.976889e+09 | F105: =SUM(F106:F108) -> 2.3908947e+10 | G105: =SUM(G106:G108) -> 2.6408419e+09 | H105: =SUM(H106:H108) -> 6.4644047e+08 | I105: =SUM(I106:I108) -> 3.280567e+09 | J105: =SUM(J106:J108) -> 1.4984325e+10 | K105: =SUM(K106:K108) -> 5.6077498e+10
B106: 2.2.1 | C106: Байгуулсан элэгдэл | D106: =+'Disclosure working 2025'!D114 -> 2.6394886e+09 | E106: =+'Disclosure working 2025'!E114 -> 7.976889e+09 | F106: =+'Disclosure working 2025'!F114 -> 2.3908947e+10 | G106: =+'Disclosure working 2025'!G114 -> 2.6408419e+09 | H106: =+'Disclosure working 2025'!H114 -> 6.4644047e+08 | I106: =+'Disclosure working 2025'!I114 -> 3.280567e+09 | J106: =+'Disclosure working 2025'!J114 -> 1.4984325e+10 | K106: =SUM(D106:J106) -> 5.6077498e+10
B107: 2.2.2 | C107: Дахин үнэлгээгээр нэмэгдсэн | D107: =+'Disclosure working 2025'!D115 -> 0 | E107: =+'Disclosure working 2025'!E115 -> 0 | F107: =+'Disclosure working 2025'!F115 -> 0 | G107: =+'Disclosure working 2025'!G115 -> 0 | H107: =+'Disclosure working 2025'!H115 -> 0 | I107: =+'Disclosure working 2025'!I115 -> 0 | J107: =+'Disclosure working 2025'!J115 -> 0 | K107: =SUM(D107:J107) -> 0
B108: 2.2.3 | C108: Үнэ цэнийн бууралтын буцаалт | D108: =+'Disclosure working 2025'!D116 -> 0 | E108: =+'Disclosure working 2025'!E116 -> 0 | F108: =+'Disclosure working 2025'!F116 -> 0 | G108: =+'Disclosure working 2025'!G116 -> 0 | H108: =+'Disclosure working 2025'!H116 -> 0 | I108: =+'Disclosure working 2025'!I116 -> 0 | J108: =+'Disclosure working 2025'!J116 -> 0 | K108: =SUM(D108:J108) -> 0
B109: 2.3 | C109: Хасагдсан дүн | D109: =SUM(D110:D112) -> 0 | E109: =SUM(E110:E112) -> 1.4940185e+08 | F109: =SUM(F110:F112) -> 1.3551465e+09 | G109: =SUM(G110:G112) -> 1.3961395e+09 | H109: =SUM(H110:H112) -> 3.5057097e+08 | I109: =SUM(I110:I112) -> 7.1243642e+09 | J109: =SUM(J110:J112) -> 5.6568026e+10 | K109: =SUM(K110:K112) -> 6.6943649e+10
B110: 2.3.1 | C110: Данснаас хассан хөрөнгийн элэгдэл | D110: =+'Disclosure working 2025'!D118 -> 0 | E110: =+'Disclosure working 2025'!E118 -> 1.4940185e+08 | F110: =+'Disclosure working 2025'!F118 -> 1.3551465e+09 | G110: =+'Disclosure working 2025'!G118 -> 1.3961395e+09 | H110: =+'Disclosure working 2025'!H118 -> 3.5057097e+08 | I110: =+'Disclosure working 2025'!I118 -> 7.1243642e+09 | J110: =+'Disclosure working 2025'!J118 -> 5.6568026e+10 | K110: =SUM(D110:J110) -> 6.6943649e+10
B111: 2.3.2 | C111: Дахин үнэлгээгээр хасагдсан | D111: =+'Disclosure working 2025'!D119 -> 0 | E111: =+'Disclosure working 2025'!E119 -> 0 | F111: =+'Disclosure working 2025'!F119 -> 0 | G111: =+'Disclosure working 2025'!G119 -> 0 | H111: =+'Disclosure working 2025'!H119 -> 0 | I111: =+'Disclosure working 2025'!I119 -> 0 | J111: =+'Disclosure working 2025'!J119 -> 0 | K111: =SUM(D111:J111) -> 0
B112: 2.3.3 | C112: Үнэ цэнийн бууралт | D112: =+'Disclosure working 2025'!D120 -> 0 | E112: =+'Disclosure working 2025'!E120 -> 0 | F112: =+'Disclosure working 2025'!F120 -> 0 | G112: =+'Disclosure working 2025'!G120 -> 0 | H112: =+'Disclosure working 2025'!H120 -> 0 | I112: =+'Disclosure working 2025'!I120 -> 0 | J112: =+'Disclosure working 2025'!J120 -> 0 | K112: =SUM(D112:J112) -> 0
B113: 2.4 | C113: Эцсийн үлдэгдэл | D113: =+D104+D105-D109 -> 8.7503161e+09 | E113: =+E104+E105-E109 -> 2.8585653e+10 | F113: =+F104+F105-F109 -> 8.0586186e+10 | G113: =+G104+G105-G109 -> 7.1181424e+09 | H113: =+H104+H105-H109 -> 5.5421588e+09 | I113: =+I104+I105-I109 -> 7.8379875e+09 | J113: =+J104+J105-J109 -> 3.5412365e+10 | K113: =+K104+K105-K109 -> 1.7383281e+11
B114: 3 | C114: ДАНСНЫ ЦЭВЭР ДҮН
B115: 3.1 | C115: Эхний үлдэгдэл | D115: =+D88-D104 -> 2.8909255e+10 | E115: =+E88-E104 -> 1.2341679e+11 | F115: =+F88-F104 -> 1.4691006e+11 | G115: =+G88-G104 -> 1.2185334e+10 | H115: =+H88-H104 -> 1.1100104e+10 | I115: =+I88-I104 -> 2.0137047e+09 | J115: =+J88-J104 -> 1.5243327e+11 | K115: =+K88-K104 -> 4.7696851e+11
B116: 3.2 | C116: Эцсийн үлдэгдэл | D116: =+D102-D113 -> 2.896807e+10 | E116: =+E102-E113 -> 1.3320983e+11 | F116: =+F102-F113 -> 1.8386856e+11 | G116: =+G102-G113 -> 2.0293112e+10 | H116: =+H102-H113 -> 1.072277e+10 | I116: =+I102-I113 -> 7.6153074e+08 | J116: =+J102-J113 -> 5.1841286e+10 | K116: =+K102-K113 -> 4.2966516e+11
B119: 10. Биет бус хөрөнгө
B121: № | C121: Үзүүлэлт | D121: Зохиогчийн эрх | E121: Компьютерийн программ хангамж | F121: Патент | G121: Барааны тэмдэг | H121: Тусгай зөвшөөрөл | I121: Газар эзэмших эрх | J121: Бусад биет бус хөрөнгө
B122: 1 | C122: БИЕТ БУС ХӨРӨНГӨ /ӨРТӨГ/
B123: 1.1 | C123: Эхний үлдэгдэл | D123: 0 | E123: 8.8127158e+09 | F123: 2282936000 | G123: 0 | H123: 0 | I123: 973000800 | J123: 8.8012729e+10
B124: 1.2 | C124: Нэмэгдсэн дүн | D124: 0 | E124: =SUM(E125:E129) -> 1.1087411e+09 | F124: =SUM(F125:F129) -> 0 | G124: =SUM(G125:G129) -> 0 | H124: =SUM(H125:H129) -> 0 | I124: =SUM(I125:I129) -> 0 | J124: =SUM(J125:J129) -> 0
...
