Workbook
Name __USD1: 1179
Name __USD2: 1220
Name _CMX4: '[10]Contribution Margin'!$G$20
Name _USD1: 1195
Name _USD2: 1220
Name A: #REF!
Name à140: [13]Mate_beer!$F$194,[13]Mate_beer!$F$213
Name À151: [14]vodka!$E$158
Name àà40: '[15]Perf_III ul'!$D$65
Name AB: #REF!
Name AccDep1Q: [10]Capital!$B$23
Name AccDep2Q: [10]Capital!$C$23
Name AccDep3Q: [10]Capital!$D$23
Name AccDep4Q: [10]Capital!$E$23
Name AccumulatedDepreciation: '[16]1h 2003'!#REF!
Name AccumulatedDepreciation1H2003: '[16]1h 2003'!#REF!
Name Actmonth: '[17]Data Set'!$D$11
Name Actyear: '[17]Data Set'!$D$12
Name AddAP1Q: '[10]Inventory and Purchases'!$B$21
Name AddAP2Q: '[10]Inventory and Purchases'!$C$21
Name AddAP3Q: '[10]Inventory and Purchases'!$D$21
Name AddAP4Q: '[10]Inventory and Purchases'!$E$21
Name AddAPX4: '[10]Inventory and Purchases'!$G$21
Name AddAR1Q: '[10]Sales and Collections'!$B$22
Name AddAR2Q: '[10]Sales and Collections'!$C$22
Name AddAR3Q: '[10]Sales and Collections'!$D$22
Name AddAR4Q: '[10]Sales and Collections'!$E$22
Name AddARX4: '[10]Sales and Collections'!$G$22
Name æ423: #REF!
Name Amino: 187640
Name Ammortization: [18]Workings_updated!$I$370:$S$370
Name AP1H2003: '[16]1h 2003'!$C$33
Name APCf: [16]Workings!$C$152:$K$152
Name APDoHIn: '[19]Input APU&APU TRADING 2005-2012'!#REF!
Name APHist: '[16]2001&2002'!$D$32
Name APUTradingassetsBf: #REF!
Name APUTradingassetsCapex: #REF!
Name APUTradingassetsCf: #REF!
Name APUTradingCapex: #REF!
Name APUTradingCapexLCU: #REF!
Name APUTradingCapexUSDin: #REF!
Name AR1H2003: '[16]1h 2003'!$C$8
Name arate13: [20]FX!$B$2
Name arate14: [20]FX!$B$3
Name arate18CNY: [21]FXrate18!$G$2
Name arate18EUR: [21]FXrate18!$C$2
Name arate18RUB: [21]FXrate18!$F$2
Name arate18USD: [21]FXrate18!$B$2
Name arate19: [22]FXrate19!$B$2
Name ARCf: [16]Workings!$C$147:$K$147
Name ARDoHIn: '[19]Input APU&APU TRADING 2005-2012'!#REF!
Name ARHist: '[16]2001&2002'!$D$7
Name ARPUTable: [23]Sensitivities!$F$15:$M$17
Name as: [24]limit1!#REF!
Name asd: #REF!
Name ATEBIT1Q: '[10]Free Cash Flows'!$B$7
Name ATEBIT2Q: '[10]Free Cash Flows'!$C$7
Name ATEBIT3Q: '[10]Free Cash Flows'!$D$7
Name ATEBIT4Q: '[10]Free Cash Flows'!$E$7
Name ATEBITX4: '[10]Free Cash Flows'!$G$7

Sheet Nuur
K1: Сангийн сайдын 2017 оны 12 дугаар сарын 14-ны өдрийн 361 тоот тушаалын 2 дугаар хавсралт
A7: Байгууллагын регистр | B7: 2 | C7: 7 | D7: 0 | E7: 2 | F7: 6 | G7: 7 | H7: 3
A9: Хаяг: | C9: УБ хот,ХУД Чингисийн өргөн чөлөө-14, АПУ ХК-ийн байр
A11: Шуудангийн хаяг: | C11: Улаанбаатар-36
A13: Утас: | C13: 11 342419 | I13: Факс: | J13: 11 343063
A15: Өмчийн хэлбэр: | C15: Төрийн.......хувь | J15: Хувийн..100....хувь
A28: АПУ ХК-ийн
A30: 2025 оны 4-р улирлын
A32: Нэгтгэсэн санхүүгийн тайлан
A33: (аудитлагдаагүй)
A48: Хянаж хүлээн авсан байгууллагын нэр | J48: Сар, өдөр | K48: Гарын үсэг

Sheet Medegdel
A4: АПУ ХК-ийн 2025 оны 4-р улирлын
A5: нэгтгэсэн санхүүгийн тайлангийн
A6: бодит байдлын тухай мэдэгдэл
A7: =+Nuur!A33 -> (аудитлагдаагүй)
A9: 2025 оны 12 сарын 31 өдөр
A12: Гүйцэтгэх захирал Цэвээнжав овогтой Эрдэнэбилэг, Санхүү эрхэлсэн захирал Гончиг овогтой Энхбилэг бид манай аж ахуйн нэгжийн 2025 оны 12 сарын 31-ны өдрөөр тасалбар болгон гаргасан нэгтгэсэн санхүүгийн тайланд тайлант хугацааны үйл ажиллагааны үр дүн, санхүүгийн байдлыг “Нягтлан бодох бүртгэлийн тухай” хуулийн 17.1 дэх заалтын дагуу үнэн зөв, бүрэн тусгасан болохыг баталж байна. Үүнд:
A14: 1. Бүх ажил гүйлгээ бодитоор гарсан бөгөөд холбогдох анхан шатны баримтыг үндэслэн нягтлан бодох бүртгэл, санхүүгийн тайланд үнэн зөв тусгасан
A15: 3. Аж ахуйн нэгжийн үйл ажиллагааны эдийн засаг, санхүүгийн бүхий л үйл явцыг иж бүрэн хамарсан
A16: 4. Тайлант үеийн үр дүнд өмнөх оны ажил гүйлгээнээс шилжин тусгагдаагүй, мөн тайлант оны ажил гүйлгээнээс орхигдсон зүйл байхгүй
A17: 5. Бүх хөрөнгө, авлага, өр төлбөр, орлого, зардлыг холбогдох Санхүүгийн тайлагналын олон улсын стандартын дагуу үнэн зөв тусгасан
A18: 6. Энэ тайланд тусгагдсан бүхий л зүйл манай байгууллагын албан ёсны өмчлөлд байдаг бөгөөд орхигдсон зүйл үгүй болно.
A24: ГҮЙЦЭТГЭХ ЗАХИРАЛ Ц.ЭРДЭНЭБИЛЭГ
A26: САНХҮҮ ЭРХЭЛСЭН ЗАХИРАЛ Г.ЭНХБИЛЭГ

Sheet BS
A1: АПУ ХК
A2: Нэгтгэсэн санхүү байдлын тайлан
A3: =+Nuur!A33 -> (аудитлагдаагүй)
D4: Тайлант үе: | E4: 2025.01.01-2025.12.31
A6: /төгрөгөөр/
A7: Мөрийн дугаар | B7: Балансын зүйл | D7: Эхний үлдэгдэл | E7: Эцсийн үлдэгдэл
A8: 1 | B8: ХӨРӨНГӨ
A9: 1.1 | B9: Эргэлтийн хөрөнгө
A10: 1.1.1 | B10: Мөнгө түүнтэй адилтгах хөрөнгө | D10: 92974324000 | E10: 1.0897208e+11
A11: 1.1.2 | B11: Дансны авлага | D11: 74494188000 | E11: 8.419704e+10
A12: 1.1.3 | B12: Татвар, НДШ-ийн авлага | D12: 16398831000 | E12: 2.4098131e+10
A13: 1.1.4 | B13: Бусад авлага | D13: 30263127000 | E13: 2.0095126e+10
A14: 1.1.5 | B14: Бусад санхүүгийн хөрөнгө | D14: 0 | E14: 0
A15: 1.1.6 | B15: Бараа материал | D15: 206905017000 | E15: 1.7411856e+11
A16: 1.1.7 | B16: Урьдчилж төлсөн зардал тооцоо | D16: 38116101000 | E16: 1.75515e+10
A17: 1.1.8 | B17: Бусад эргэлтийн хөрөнгө | D17: 0 | E17: 0
A18: 1.1.9 | B18: Борлуулах зорилгоор эзэмшиж буй эргэлтийн бус хөрөнгө (борлуулах бүлэг хөрөнгө) | D18: 411000000 | E18: 216000000
A19: 1.1.20 | B19: Эргэлтийн хөрөнгийн дүн | D19: =+SUM(D10:D18) -> 459562588000 | E19: =+SUM(E10:E18) -> 4.2924843e+11
A20: 1.2 | B20: Эргэлтийн бус хөрөнгө
A21: 1.2.1 | B21: Үндсэн хөрөнгө | D21: 535762942000 | E21: 5.236442e+11
A22: 1.2.2 | B22: Биет бус хөрөнгө | D22: 52915709000 | E22: 3.7411364e+10
A23: 1.2.3 | B23: Биологийн хөрөнгө | D23: 628447000 | E23: 3.6800164e+08
A24: 1.2.4 | B24: Урт хугацаат хөрөнгө оруулалт | D24: 0 | E24: 2.6695913e+10
A25: 1.2.5 | B25: Хайгуул ба үнэлгээний хөрөнгө | D25: 0 | E25: 0
A26: 1.2.6 | B26: Хойшлогдсон татварын хөрөнгө | D26: 3342666000 | E26: 3.3455491e+09
A27: 1.2.7 | B27: Хөрөнгө орлуулалтын зориулалттай үл хөдлөх хөрөнгө | D27: 0 | E27: 0
A28: 1.2.8 | B28: Бусад эргэлтийн бус хөрөнгө | D28: 10875584000 | E28: 4.5017976e+10
A29: 1.2.9 | B29: Гүүдвилл | D29: 15468093000 | E29: 15468093000
A30: 1.2.20 | B30: Эргэлтийн бус хөрөнгийн дүн | D30: =+SUM(D21:D29) -> 618993441000 | E30: =+SUM(E21:E29) -> 6.5195109e+11
A31: 1.3 | B31: НИЙТ ХӨРӨНГИЙН ДҮН | D31: =+D30+D19 -> 1078556029000 | E31: =+E30+E19 -> 1.0811995e+12
A32: 2 | B32: ӨР ТӨЛБӨР БА ЭЗДИЙН ӨМЧ
A33: 2.1 | B33: ӨР ТӨЛБӨР
A34: 2.1.1 | B34: Богино хугацаат өр төлбөр
A35: 2.1.1.1 | B35: Дансны өглөг | D35: 51714438000 | E35: 1.7207781e+10
A36: 2.1.1.2 | B36: Цалингийн өглөг | D36: 2.2078333e+09 | E36: 0
A37: 2.1.1.3 | B37: Татварын өр | D37: 16418658000 | E37: 6.2220849e+09
A38: 2.1.1.4 | B38: НДШ-ийн өглөг | D38: 15946133 | E38: 0
A39: 2.1.1.5 | B39: Богино хугацаат зээл | D39: 22504787000 | E39: 6.5146667e+09
A40: 2.1.1.6 | B40: Хүүний өглөг | D40: 2.1427184e+09 | E40: 4.1593184e+09
A41: 2.1.1.7 | B41: Ногдол ашгийн өглөг | D41: 2000329000 | E41: 2672261569
...

Sheet IS
A1: АПУ ХК
A3: Нэгтгэсэн орлогын дэлгэрэнгүй тайлан
A4: =+BS!A3 -> (аудитлагдаагүй)
D5: Тайлант үе: | E5: 2025.01.01-2025.12.31
A6: /төгрөгөөр/
A7: Мөрийн дугаар | B7: Үзүүлэлт | D7: Өмнөх оны дүн | E7: Тайлан оны дүн
A8: 1 | B8: Борлуулалтын орлого ( цэвэр ) | D8: 1327522591000 | E8: 1.3188898e+12
A9: 2 | B9: Борлуулалтын өртөг | D9: 680502489000 | E9: 7.4740529e+11
A10: 3 | B10: Нийт ашиг ( алдагдал ) | D10: =+D8-D9 -> 647020102000 | E10: =+E8-E9 -> 5.7148452e+11
A11: 4 | B11: Түрээсийн орлого | D11: 2.3081855e+09 | E11: 7.5005031e+08
A12: 5 | B12: Хүүгийн орлого | D12: 5016464000 | E12: 4.983562e+09
A13: 6 | B13: Ногдол ашгийн орлого | D13: 0 | E13: 0
A14: 7 | B14: Эрхийн шимтгэлийн орлого | D14: 0 | E14: 0
A15: 8 | B15: Бусад орлого | D15: 5.5359275e+09 | E15: 9.1586761e+09
A16: 9 | B16: Борлуулалт, маркетингийн зардал | D16: 2.2027066e+11 | E16: 1.6986282e+11
A17: 10 | B17: Ерөнхий ба удирдлагын зардал | D17: 1.4852761e+11 | E17: 1.240443e+11
A18: 11 | B18: Санхүүгийн зардал | D18: 2.8863488e+10 | E18: 1.0631891e+10
A19: 12 | B19: Бусад зардал | D19: 1.6029321e+10 | E19: 1.5183807e+09
A20: 13 | B20: Гадаад валютын ханшийн зөрүүний олз ( гарз ) | D20: -1.6909453e+09 | E20: 1.4156783e+09
A21: 14 | B21: Үндсэн хөрөнгө данснаас хассаны олз ( гарз ) | D21: -1.5321843e+09 | E21: -4.5506464e+08
A22: 15 | B22: Биет бус хөрөнгө данснаас хассаны олз ( гарз ) | D22: 0 | E22: 0
A23: 16 | B23: Хөрөнгө орлуулалт борлуулсанаас үүссэн олз ( гарз ) | D23: 0 | E23: 0
A24: 17 | B24: Толгой компанид хамаарах хараат компанийн ашиг, алдагдал
A25: 18 | B25: Толгой компанид хамаарах хамтарсан үйлдвэрийн ашиг, алдагдал | E25: -1.9179069e+10
A26: 19 | B26: Бусад ашиг ( алдагдал ) | D26: -1.4477681e+09 | E26: -2.3688364e+08
A27: 20 | B27: Татвар төлөхийн өмнөх ашиг ( алдагдал ) | D27: =+D10+SUM(D11:D15)-SUM(D16:D19)+D21+D20+D23+D22+D24+D25+D26 -> 2.415187e+11 | E27: =+E10+SUM(E11:E15)-SUM(E16:E19)+E21+E20+E23+E22+E24+E25+E26 -> 2.6186408e+11
A28: 21 | B28: Орлогын татварын зардал | D28: 48627848000 | E28: 5.0208163e+10
A29: 22 | B29: Татварын дараах ашиг ( алдагдал ) | D29: =+D27-D28 -> 1.9289085e+11 | E29: =+E27-E28 -> 2.1165592e+11
A30: 23 | B30: Зогсоосон үйл ажиллагааны татварын дараах ашиг ( алдагдал ) | D30: 0 | E30: 0
A31: 24 | B31: Тайлант үеийн цэвэр ашиг ( алдагдал ) | D31: =+D29 -> 1.9289085e+11 | E31: =+E29 -> 2.1165592e+11
A32: 25 | B32: Бусад дэлгэрэнгүй орлого | D32: =SUM(D33:D36) -> -574399000 | E32: =SUM(E33:E36) -> 7.4747171e+08
A33: 25.1 | B33: Хөрөнгийн дахин үнэлгээний нэмэгдэлийн зөрүү | D33: 0
A34: 25.2 | B34: Гадаад валютын хөрвүүлэлтийн зөрүү | D34: -400896000 | E34: 1203320829
A35: 25.3 | B35: Бусад олз ( гарз ) | D35: 0
A36: 25.4 | B36: Ажилчдын тэтгэмжийн дахин хэмжилт | D36: -173503000 | E36: -4.5584912e+08
A37: 26 | B37: Орлогын нийт дүн | D37: =+SUM(D31,D32) -> 1.9231645e+11 | E37: =+SUM(E31,E32) -> 2.1240339e+11
A38: 26.1 | B38: Толгой компанийн хувьцаа эзэмшигчдэд ногдох | D38: =+D31-D39 -> 2.2247427e+11 | E38: =+E31-E39 -> 2.1165592e+11
A39: 26.2 | B39: Хяналтын эрхгүй хувь оролцоонд ногдох | D39: -29583416000 | E39: 0
A40: 27 | B40: Нэгж хувьцаанд ноогдох суурь ашиг ( алдагдал ) | D40: 0 | E40: 0
A43: ГҮЙЦЭТГЭХ ЗАХИРАЛ | C43: ................................. | D43: =+BS!D70 -> Ц. ЭРДЭНЭБИЛЭГ
...

Sheet CF
A1: АПУ ХК
A2: Нэгтгэсэн мөнгөн гүйлгээний тайлан
A3: =+BS!A3 -> (аудитлагдаагүй)
E4: Тайлант үе: | F4: 2025.01.01-2025.12.31
F5: /төгрөгөөр/
A6: Мөрийн дугаар | B6: Үзүүлэлт | E6: Өмнөх оны дүн | F6: Тайлант жилийн дүн
A7: 1 | B7: Үндсэн үйл ажиллагааны мөнгөн гүйлгээ
A8: 1.1 | B8: Мөнгөн орлогын дүн (+) | E8: =SUM(E9:E14) -> 1.6949944e+12 | F8: =SUM(F9:F14) -> 1.4634659e+12
A9: 1.1.1 | B9: Бараа борлуулсан, үйлчилгээ үзүүлсэний орлого | E9: 1.6795333e+12 | F9: 1.4483462e+12
A10: 1.1.2 | B10: Эрхийн шимтгэл, хураамж, төлбөрийн орлого | E10: 0
A11: 1.1.3 | B11: Даатгалын нөхвөрөөс хүлээн авсан мөнгө | E11: 1.317115e+08 | F11: 232124902
A12: 1.1.4 | B12: Буцаан авсан албан татвар | E12: 0 | F12: 1.126725e+08
A13: 1.1.5 | B13: Татаас, санхүүжилтийн орлого | E13: 0
A14: 1.1.6 | B14: Бусад мөнгөн орлого | E14: 1.5329391e+10 | F14: 1.4774923e+10
A15: 1.2 | B15: Мөнгөн зарлагын дүн (-) | E15: =SUM(E16:E24) -> -1.4371425e+12 | F15: =SUM(F16:F24) -> -1.2215855e+12
A16: 1.2.1 | B16: Ажиллагчдад төлсөн | E16: -1.3018935e+11 | F16: -1.1773434e+11
A17: 1.2.2 | B17: Нийгмийн даатгалын байгууллагад төлсөн | E17: -3.9196349e+10 | F17: -3.3347786e+10
A18: 1.2.3 | B18: Бараа материал худалдан авахад төлсөн | E18: -5.675924e+11 | F18: -3.9232627e+11
A19: 1.2.4 | B19: Ашиглалтын зардалд төлсөн | E19: -2.6808904e+10 | F19: -2.039983e+10
A20: 1.2.5 | B20: Түлш, шатахуун, тээврийн хөлс, сэлбэг хэрэгсэлд төлсөн | E20: -3.7112485e+10 | F20: -3.9536561e+10
A21: 1.2.6 | B21: Хүүний төлбөрт төлсөн | E21: -1.864762e+10 | F21: -7.8893688e+09
A22: 1.2.7 | B22: Татварын байгууллагад төлсөн | E22: -4.4092493e+11 | F22: -4.5158363e+11
A23: 1.2.8 | B23: Даатгалын төлбөрт төлсөн | E23: -2.412693e+09 | F23: -3.2276355e+09
A24: 1.2.9 | B24: Бусад мөнгөн зарлага | E24: -1.7425776e+11 | F24: -1.5554005e+11
A25: 1.3 | B25: Үндсэн үйл ажиллагааны цэвэр мөнгөн гүйлгээний дүн | E25: =+E8+E15 -> 2.578519e+11 | F25: =+F8+F15 -> 2.4188046e+11
A26: 2 | B26: Хөрөнгө оруулалтын үйл ажиллагааны мөнгөн гүйлгээ
A27: 2.1 | B27: Мөнгөн орлогын дүн (+) | E27: =SUM(E28:E34) -> 1.6197161e+10 | F27: =SUM(F28:F34) -> 3.1184531e+10
A28: 2.1.1 | B28: Үндсэн хөрөнгө борлуулсаны орлого | E28: 9787479000 | F28: 19729644
A29: 2.1.2 | B29: Биет бус хөрөнгө борлуулсаны орлого
A30: 2.1.3 | B30: Хөрөнгө оруулалт борлуулсаны орлого | F30: 0
A31: 2.1.4 | B31: Бусад урт хугацаат хөрөнгө боруулсаны орлого | F31: 26190213000
A32: 2.1.5 | B32: Бусдад олгосон зээл, мөнгөн урьдчилгааны буцаан төлөлт | F32: 0
A33: 2.1.6 | B33: Хүлээн авсан хүүний орлого | E33: 6.4096817e+09 | F33: 4.9745887e+09
A34: 2.1.7 | B34: Хүлээн авсан ногдол ашиг
A35: 2.2 | B35: Мөнгөн зарлагын дүн (-) | E35: =SUM(E36:E40) -> -134179506000 | F35: =SUM(F36:F40) -> -2.196982e+11
A36: 2.2.1 | B36: Үндсэн хөрөнгө олж эзэмшихэд төлсөн | E36: -112185127000 | F36: -1.6124039e+11
A37: 2.2.2 | B37: Биет бус хөрөнгө олж эзэмшихэд төлсөн | E37: -6894066000 | F37: 0
A38: 2.2.3 | B38: Хөрөнгө оруулалт олж эзэмшихэд төлсөн | E38: 0 | F38: -32563077636
A39: 2.2.4 | B39: Бусад урт хугацаат хөрөнгө олж эзэмшихэд төлсөн | E39: -15100313000 | F39: -25894733000
A40: 2.2.5 | B40: Бусдад олгосон зээл болон урьдчилгаа | E40: 0 | F40: 0
...

Sheet Equity
A2: АПУ ХК
A6: Нэгтгэсэн өмчийн өөрчлөлтийн тайлан
A7: =+Nuur!A33 -> (аудитлагдаагүй)
L8: Тайлант үе: 2025.01.01-2025.12.31
M9: /төгрөгөөр/
A10: № | B10: Үзүүлэлт | D10: Өмч | E10: Халаасны хувьцаа | F10: Нэмж төлөгдсөн капитал | G10: Хөрөнгийн дахин үнэлгээний нэмэгдэл | H10: Гадаад валютын хөрвүүлэлтийн нөөц | I10: Эздийн өмчийн бусад хэсэг | J10: Хуримтлагдсан ашиг | K10: Нийт дүн | L10: Хяналтын бус хувь оролцоо | M10: Нийт дүн
A11: 1 | B11: 2023 оны 12-р сарын 31-ээрх үлдэгдэл | D11: 106418200 | E11: 0 | F11: 2.2664695e+11 | G11: 1.5783903e+11 | H11: -56565000 | I11: 0 | J11: 2.7426975e+11 | K11: 6.5880559e+11 | L11: 21770071000 | M11: 6.8057566e+11
A12: 2 | B12: Нягтлан бодох бүртгэлийн бодлогын өөрчлөлтийн нөлөө, алдааны залруулга | J12: 0 | M12: 0
A13: 3 | B13: Залруулсан үлдэгдэл | D13: 106418200 | E13: 0 | F13: 2.2664695e+11 | G13: 1.5783903e+11 | H13: -56565000 | I13: 0 | J13: 2.7426975e+11 | K13: 6.5880559e+11 | L13: 21770071000 | M13: 6.8057566e+11
A14: 4 | B14: Тайлант үеийн цэвэр ашиг ( алдагдал ) | J14: 2.2247427e+11 | K14: 2.2247427e+11 | L14: -29583416000 | M14: 1.9289085e+11
A15: 5 | B15: Бусад дэлгэрэнгүй орлого | H15: -400896000 | I15: 0 | J15: -173503000 | K15: -574399000 | M15: -574399000
A16: 6 | B16: Өмчид гаргасан өөрчлөлт | K16: 0 | L16: 27461457000 | M16: 27461457000
A17: 7 | B17: Зарласан ногдол ашиг | J17: -1.0535397e+11 | K17: -1.0535397e+11 | M17: -1.0535397e+11
A18: 8 | B18: Дахин үнэлгээний нэмэгдлийн хэрэгжсэн дүн | G18: -1.2660949e+09 | J18: 1.2660949e+09 | K18: 0 | M18: 0
A19: 9 | B19: 2024 оны 12-р сарын 31-ээрх үлдэгдэл | D19: 106418200 | E19: 0 | F19: 2.2664695e+11 | G19: 156572931000 | H19: -457461000 | I19: 0 | J19: 392482641000 | K19: 7.7535148e+11 | L19: 19648112000 | M19: 7.9499959e+11
A20: 10 | B20: Нягтлан бодох бүртгэлийн бодлогын өөрчлөлтийн нөлөө, алдааны залруулга | J20: 1.7432567e+09 | K20: =SUM(D20:J20) -> 1.7432567e+09 | L20: -19648112000 | M20: =+K20+L20 -> -1.7904855e+10 | O20: -3.6831321e+08 | Q20: 0 | R20: 0 | S20: 0 | T20: 0 | U20: -368313.21 | V20: 0
A21: 11 | B21: Залруулсан үлдэгдэл | D21: 106418200 | E21: 0 | F21: 2.2664695e+11 | G21: 156572931000 | H21: -457461000 | I21: 0 | J21: =+J19+J20 -> 3.942259e+11 | K21: =SUM(D21:J21) -> 7.7709474e+11 | L21: =L19+L20 -> 0 | M21: =+K21+L21 -> 7.7709474e+11 | O21: 0 | P21: MCS-Ази пасифик ХХК | S21: -21285 | T21: 0
A22: 12 | B22: Тайлант үеийн цэвэр ашиг ( алдагдал ) | J22: =+IS!E38 -> 2.1165592e+11 | K22: =SUM(D22:J22) -> 2.1165592e+11 | L22: =+IS!E39 -> 0 | M22: =+K22+L22 -> 2.1165592e+11 | Q22: 0 | R22: 0 | S22: 0 | T22: 0 | U22: 1.5956047e+08 | V22: -6032824
A23: 13 | B23: Бусад дэлгэрэнгүй орлого | H23: =+IS!E34 -> 1203320829 | I23: 0 | J23: =IS!E36 -> -4.5584912e+08 | K23: =SUM(D23:J23) -> 7.4747171e+08 | M23: =+K23+L23 -> 7.4747171e+08 | O23: 0 | P23: APU Dairy ХХК | Q23: 0 | R23: 0 | S23: 35818.834 | T23: 0 | U23: 0 | V23: 0
A24: 14 | B24: Өмчид гаргасан өөрчлөлт | K24: =SUM(D24:J24) -> 0 | L24: 0 | M24: =+K24+L24 -> 0 | O24: -580116.24 | P24: APU Dairy ХХК | Q24: 0 | R24: 0 | S24: 0 | T24: 0 | U24: 0 | V24: 0
A25: 15 | B25: Зарласан ногдол ашиг | J25: -138343601890 | K25: =SUM(D25:J25) -> -138343601890 | M25: =+K25+L25 -> -138343601890 | O25: -580116.24 | P25: total | Q25: 0 | R25: 0 | S25: 0 | T25: 0 | U25: -1.1001789e+08 | V25: 0
A26: 16 | B26: Дахин үнэлгээний нэмэгдлийн хэрэгжсэн дүн | G26: =-1463179563-1352.38 -> -1.4631809e+09 | J26: 1.4631809e+09 | K26: =SUM(D26:J26) -> 0 | M26: =+K26+L26 -> 0 | Q26: 0 | R26: -403246.86 | S26: 0 | T26: 0 | U26: 403246.86 | V26: 0
A27: 17 | B27: 2025 оны 12-р сарын 31-ээрх үлдэгдэл | D27: 106418200 | E27: =+E21-E24 -> 0 | F27: =+SUM(F21:F26) -> 2.2664695e+11 | G27: =+SUM(G21:G26) -> 1.5510975e+11 | H27: =+SUM(H21:H26) -> 745859829 | I27: =SUM(I21:I26) -> 0 | J27: =SUM(J21:J26) -> 4.6854555e+11 | K27: =SUM(D27:J27)-E27*2 -> 8.5115453e+11 | L27: =SUM(L21:L26) -> 0 | M27: =+K27+L27 -> 8.5115453e+11 | N27: 4.6420269e+10 | Q27: 4.0277885e+08
E31: ГҮЙЦЭТГЭХ ЗАХИРАЛ | G31: ...................................................... | I31: Ц. ЭРДЭНЭБИЛЭГ
E33: САНХҮҮ ЭРХЭЛСЭН ЗАХИРАЛ | G33: ...................................................... | I33: Г.ЭНХБИЛЭГ

Sheet Disclosure 2024
A1: Байгууллагын нэр: АПУ
A2: Регистр: 2702673
B4: 1. Мөнгө түүнтэй адилтгах хөрөнгө
B6: № | C6: Үзүүлэлт | D6: Эхний үлдэгдэл | E6: Эцсийн үлдэгдэл
B7: 1 | C7: Касс дахь мөнгө | D7: 1.8960235e+09 | E7: 3.6621734e+09
B8: 2 | C8: Банкин дахь мөнгө | D8: 1.2025613e+11 | E8: 8.9312151e+10
B9: 3 | C9: Мөнгөтэй адилтгах хөрөнгө | E9: 0
B10: 4 | C10: Нийт дүн | D10: =SUM(D7:D9) -> 122152149000 | E10: =SUM(E7:E9) -> 9.2974324e+10
B11: Тэмдэглэл
B14: 4.1. Дансны авлага
B16: № | C16: Үзүүлэлт | D16: Дансны авлага | E16: Найдваргүй авлагын хасагдуулга | F16: Дансны авлага (цэвэр дүнгээр)
B17: 1 | C17: Эхний үлдэгдэл | D17: 43865544700 | E17: 719617700 | F17: 43145927000
B18: 2 | C18: Нэмэгдсэн | D18: 4.1056016e+11 | E18: 0 | F18: 4.1056016e+11
B19: 3 | C19: Хасагдсан | D19: =SUM(D20:D21) -> 3.7922467e+11 | E19: =SUM(E20:E21) -> 12764302 | F19: =SUM(F20:F21) -> 3.792119e+11
B20: 3.1 | C20: -Төлөгдсөн | D20: 3.7922467e+11 | E20: 12764302 | F20: 3.792119e+11
B21: 3.2 | C21: -Найдваргүй болсон | D21: 0 | E21: 0 | F21: 0
B22: 4 | C22: Эцсийн үлдэгдэл | D22: =+D17+D18-D19 -> 7.5201041e+10 | E22: =+E17+E18-E19 -> 7.068534e+08 | F22: =+F17+F18-F19 -> 74494188000
B25: 4.2. Татвар, НДШ-ийн авлага
B27: № | C27: Үзүүлэлт | D27: Эхний үлдэгдэл | E27: Эцсийн үлдэгдэл
B28: 1 | C28: ААНОАТ-ын авлага | D28: 7.8677032e+09 | E28: 3.7101957e+09
B29: 2 | C29: НӨАТ-ын авлага | D29: 1.0464727e+10 | E29: 8.8222398e+09
B30: 3 | C30: НДШ-ийн авлага | D30: 9979205 | E30: 9229066.3
B31: 4 | C31: Бусад татварын авлага | D31: 4.5155865e+09 | E31: 3.8571664e+09
C32: Нийт дүн | D32: =SUM(D28:D31) -> 22857996000 | E32: =SUM(E28:E31) -> 16398831000
B35: 4.3. Бусад богино хугацаат авлага
B37: № | C37: Үзүүлэлт | D37: Эхний үлдэгдэл | E37: Эцсийн үлдэгдэл
B38: 1 | C38: Холбоотой талаас авах авлагын тайлант хугацаанд хамаарах дүн | D38: 3.2791327e+08 | E38: 20164115
B39: 2 | C39: Ажиллагчдаас авах авлага | D39: 1.3690329e+08 | E39: 7.1536881e+08
B40: 3 | C40: Ноогдол ашгийн авлага | D40: 0 | E40: 0
B41: 4 | C41: Хүүний авлага | D41: 21158220 | E41: 0
B42: 5 | C42: Богино хугацаат авлагын бичиг | D42: 0 | E42: 0
B43: 6 | C43: Бусад талуудаас авах авлага | D43: 3.7323764e+09 | E43: 1.2796184e+10
B44: 7 | C44: Бусад | D44: 6.9176358e+09 | E44: 1.673141e+10
C45: Нийт дүн | D45: =SUM(D38:D44) -> 11135987000 | E45: =SUM(E38:E44) -> 30263127000
B48: 5. Бусад санхүүгийн хөрөнгө
B50: № | C50: Үзүүлэлт | D50: Эхний үлдэгдэл | E50: Эцсийн үлдэгдэл
B51: 1 | C51: Бусад санхүүгийн хөрөнгө | D51: 0 | E51: 0
C52: Нийт дүн | D52: =SUM(D51) -> 0 | E52: =SUM(E51) -> 0
B57: 6. Бараа материал
B59: № | C59: Үзүүлэлт | D59: Түүхий эд материал | E59: Дуусаагүй үйлдвэрлэл | F59: Бэлэн бүтээгдэхүүн | G59: Бараа | H59: Хангамжийн материал | I59: Бусад | J59: Нийт дүн
...

Sheet Disclosure working 2025
B1: 1. Мөнгө түүнтэй адилтгах хөрөнгө
F2: APU | H2: APUT | J2: APUD | L2: MBC | N2: SBB | P2: SBBT | R2: DC | T2: Grand | V2: Grand East | X2: Aipiyou | Z2: Console | AB2: CK
B3: № | C3: Үзүүлэлт | D3: Эхний үлдэгдэл | E3: Эцсийн үлдэгдэл | F3: Эхний үлдэгдэл | G3: Эцсийн үлдэгдэл | H3: Эхний үлдэгдэл | I3: Эцсийн үлдэгдэл | J3: Эхний үлдэгдэл | K3: Эцсийн үлдэгдэл | L3: Эхний үлдэгдэл | M3: Эцсийн үлдэгдэл | N3: Эхний үлдэгдэл | O3: Эцсийн үлдэгдэл | P3: Эхний үлдэгдэл | Q3: Эцсийн үлдэгдэл | R3: Эхний үлдэгдэл | S3: Эцсийн үлдэгдэл | T3: Эхний үлдэгдэл | U3: Эцсийн үлдэгдэл | V3: Эхний үлдэгдэл | W3: Эцсийн үлдэгдэл | X3: Эхний үлдэгдэл | Y3: Эцсийн үлдэгдэл | Z3: Эхний үлдэгдэл | AA3: Эцсийн үлдэгдэл | AB3: Эхний үлдэгдэл | AC3: Эцсийн үлдэгдэл
B4: 1 | C4: Касс дахь мөнгө | D4: =+F4+H4+J4+L4+N4+P4+R4+T4+V4+X4+Z4 -> 3.661847e+09 | E4: =+G4+I4+K4+M4+O4+Q4+S4+U4+W4+Y4+AA4+AC4 -> 3.5890242e+09 | F4: 4.873089e+08 | H4: 1.2167137e+08 | J4: 87382951 | K4: 1.6056776e+08 | L4: 3197992.7 | N4: 60789682 | P4: 5.4847195e+08 | R4: 3.7508872e+08 | T4: 1046798100 | U4: 1790576000 | V4: 632691000 | W4: 1565788000 | X4: 2.9877686e+08 | Y4: 72096517 | Z4: -330550 | AA4: -330550 | AB4: 326473 | AC4: 326473
B5: 2 | C5: Банкин дахь мөнгө | D5: =+F5+H5+J5+L5+N5+P5+R5+T5+V5+X5+Z5 -> 1.0431208e+11 | E5: =+G5+I5+K5+M5+O5+Q5+S5+U5+W5+Y5+AA5 -> 4.9148599e+10 | F5: 4.4916211e+10 | H5: 3.9718214e+09 | J5: 7.7265183e+09 | K5: 4.9148599e+10 | L5: 2.6462534e+09 | N5: 7.3916874e+09 | P5: 8.599533e+09 | R5: 2.906005e+10
B6: 3 | C6: Мөнгөтэй адилтгах хөрөнгө | D6: =+F6+H6+J6+L6+N6+P6+R6+T6+V6+X6+Z6 -> 0 | E6: =+G6+I6+K6+M6+O6+Q6+S6+U6+W6+Y6+AA6 -> 0
B7: 4 | C7: Нийт дүн | D7: =SUM(D4:D6) -> 1.0797392e+11 | E7: =SUM(E4:E6) -> 5.2737623e+10 | F7: =SUM(F4:F6) -> 4.540352e+10 | G7: =SUM(G4:G6) -> 0 | H7: =SUM(H4:H6) -> 4.0934928e+09 | I7: =SUM(I4:I6) -> 0 | J7: =SUM(J4:J6) -> 7.8139012e+09 | K7: =SUM(K4:K6) -> 4.9309167e+10 | ... S7: =SUM(S4:S6) -> 0
B8: Тэмдэглэл
B11: 4.1. Дансны авлага
G12: APU | J12: APUT | M12: APUD | P12: MBC | S12: SBB | V12: SBBT | Y12: DC | AB12: Grand | AE12: Grand East | AH12: Aipiyou | AK12: Console | AN12: Elimination
B13: № | C13: Үзүүлэлт | D13: Дансны авлага | E13: Найдваргүй авлагын хасагдуулга | F13: Дансны авлага (цэвэр дүнгээр) | G13: Дансны авлага | H13: Найдваргүй авлагын хасагдуулга | I13: Дансны авлага (цэвэр дүнгээр) | J13: Дансны авлага | K13: Найдваргүй авлагын хасагдуулга | L13: Дансны авлага (цэвэр дүнгээр) | M13: Дансны авлага | N13: Найдваргүй авлагын хасагдуулга | O13: Дансны авлага (цэвэр дүнгээр) | P13: Дансны авлага | Q13: Найдваргүй авлагын хасагдуулга | R13: Дансны авлага (цэвэр дүнгээр) | S13: Дансны авлага | T13: Найдваргүй авлагын хасагдуулга | U13: Дансны авлага (цэвэр дүнгээр) | V13: Дансны авлага | W13: Найдваргүй авлагын хасагдуулга | X13: Дансны авлага (цэвэр дүнгээр) | Y13: Дансны авлага | Z13: Найдваргүй авлагын хасагдуулга | AA13: Дансны авлага (цэвэр дүнгээр) | AB13: Дансны авлага | AC13: Найдваргүй авлагын хасагдуулга | AD13: Дансны авлага (цэвэр дүнгээр) | AE13: Дансны авлага | AF13: Найдваргүй авлагын хасагдуулга | AG13: Дансны авлага (цэвэр дүнгээр) | AH13: Дансны авлага | AI13: Найдваргүй авлагын хасагдуулга | AJ13: Дансны авлага (цэвэр дүнгээр) | AK13: Дансны авлага | AL13: Найдваргүй авлагын хасагдуулга | AM13: Дансны авлага (цэвэр дүнгээр) | AN13: Дансны авлага | AO13: Найдваргүй авлагын хасагдуулга | AP13: Дансны авлага (цэвэр дүнгээр)
B14: 1 | C14: Эхний үлдэгдэл | D14: =+G14+J14+M14+P14+S14+V14+Y14+AB14+AE14+AH14+AK14 -> 1.354902e+11 | E14: =+H14+K14+N14+Q14+T14+W14+Z14+AC14+AF14+AI14+AL14 -> 7.068533e+08 | F14: =+I14+L14+O14+R14+U14+X14+AA14+AD14+AG14+AJ14+AM14 -> 1.3478335e+11 | G14: 4.2439573e+10 | H14: 7.068533e+08 | I14: 4.173272e+10 | J14: 1.788226e+10 | L14: =+J14-K14 -> 1.788226e+10 | M14: 2.5773644e+09 | O14: =+M14 -> 2.5773644e+09 | P14: 5.4687712e+09 | Q14: 0 | R14: 5.4687712e+09 | S14: 8.3904475e+09 | U14: 8.3904475e+09 | V14: 5.7680284e+10 | X14: 5.7680284e+10 | AB14: 7.3837036e+08 | AC14: 0 | AD14: 7.3837036e+08 | AE14: 266338000 | AG14: =+AE14+AF14 -> 266338000 | AH14: 41084105 | AI14: 0 | AJ14: 41084105 | AK14: 5707929 | AL14: 0 | AM14: 5707929
B15: 2 | C15: Нэмэгдсэн | D15: =+G15+J15+M15+P15+S15+V15+Y15+AB15+AE15+AH15+AK15+AN15 -> 3.9860276e+11 | E15: =+H15+K15+N15+Q15+T15+W15+Z15+AC15+AF15+AI15+AL15 -> 0 | F15: =+I15+L15+O15+R15+U15+X15+AA15+AD15+AG15+AJ15+AM15+AP15 -> 3.9860276e+11 | I15: =+G15 -> 0 | J15: 5.8254004e+09 | L15: =+J15-K15 -> 5.8254004e+09 | M15: 153054899119 | O15: =+M15 -> 153054899119 | S15: 2.1512996e+11 | U15: 2.1512996e+11 | AB15: 8.0620464e+08 | AD15: =+AB15+AC15 -> 8.0620464e+08 | AE15: 1184697000 | AG15: =+AE15+AF15 -> 1184697000 | AJ15: =+AH15+AI15 -> 0 | AM15: =+AK15+AL15 -> 0 | AN15: 2.2601593e+10 | AP15: 2.2601593e+10
B16: 3 | C16: Хасагдсан | D16: =SUM(D17:D18) -> 3.8889991e+11 | E16: =SUM(E17:E18) -> 0 | F16: =SUM(F17:F18) -> 2.3624449e+11 | G16: =SUM(G17:G18) -> 1.075313e+10 | H16: =SUM(H17:H18) -> 0 | I16: =SUM(I17:I18) -> 1.075313e+10 | J16: =SUM(J17:J18) -> 0 | K16: =SUM(K17:K18) -> 0 | ... N16: =SUM(N17:N18) -> 0 | O16: =+M16-N16 -> 1.5265542e+11 | P16: =SUM(P17:P18) -> 3.651283e+09 | Q16: =SUM(Q17:Q18) -> 0 | R16: =SUM(R17:R18) -> 3.651283e+09 | S16: =SUM(S17:S18) -> 2.182718e+11 | T16: =SUM(T17:T18) -> 0 | U16: =SUM(U17:U18) -> 2.182718e+11 | V16: =SUM(V17:V18) -> 3.4618386e+09 | W16: =SUM(W17:W18) -> 0 | ... AM16: =SUM(AM17:AM18) -> 91567088
B17: 3.1 | C17: -Төлөгдсөн | D17: =+G17+J17+M17+P17+S17+V17+Y17+AB17+AE17+AH17+AK17+AP17 -> 3.8889991e+11 | E17: =+H17+K17+N17+Q17+T17+W17+Z17+AC17+AF17+AI17+AL17 -> 0 | F17: =+I17+L17+O17+R17+U17+X17+AA17+AD17+AG17+AJ17+AM17+AP17 -> 2.3624449e+11 | G17: 1.075313e+10 | H17: 0 | I17: =+G17-H17 -> 1.075313e+10 | M17: 1.5265542e+11 | P17: 3.651283e+09 | R17: =+P17 -> 3.651283e+09 | S17: 2.182718e+11 | U17: 2.182718e+11 | V17: 3.4618386e+09 | X17: 3.4618386e+09 | AH17: 14868111 | AJ17: =+AH17 -> 14868111 | AK17: 91567088 | AM17: =+AK17 -> 91567088
B18: 3.2 | C18: -Найдваргүй болсон | D18: =+G18+J18+M18+P18+S18+V18+Y18+AB18+AE18+AH18+AK18 -> 0 | E18: =+H18+K18+N18+Q18+T18+W18+Z18+AC18+AF18+AI18+AL18 -> 0 | F18: =+I18+L18+O18+R18+U18+X18+AA18+AD18+AG18+AJ18+AM18 -> 0 | I18: =+G18-H18 -> 0
B19: 4 | C19: Эцсийн үлдэгдэл | D19: =+D14+D15-D16 -> 1.4519305e+11 | E19: =+E14+E15-E16 -> 7.068533e+08 | F19: =+F14+F15-F16 -> 2.9714162e+11 | G19: =+G14+G15-G16 -> 3.1686444e+10 | H19: =+H14+H15-H16 -> 7.068533e+08 | I19: =+I14+I15-I16 -> 3.097959e+10 | J19: =+J14+J15-J16 -> 2.370766e+10 | K19: =+K14+K15-K16 -> 0 | ... AM19: =+AM14+AM15-AM16 -> -85859159
I20: 2.669403e+08 | L20: 2.0644641e+10 | O20: 2.7949814e+09 | R20: 98096824 | U20: 3342748.8 | X20: 5.1193054e+10
I21: =+I19-I20 -> 3.071265e+10 | L21: =+L19-L20 -> 3.0630195e+09 | O21: =+O19-O20 -> 1.8186587e+08 | R21: =+R19-R20 -> 1.7193914e+09 | U21: =+U19-U20 -> 5.2452648e+09 | X21: =+X19-X20 -> 3.0253913e+09
B24: 4.2. Татвар, НДШ-ийн авлага
F25: APU | H25: APUT | J25: APUD | L25: MBC | N25: SBB | P25: SBBT | R25: DC | T25: Grand | V25: Grand East | X25: Aipiyou | Z25: Console
B26: № | C26: Үзүүлэлт | D26: Эхний үлдэгдэл | E26: Эцсийн үлдэгдэл | F26: Эхний үлдэгдэл | G26: Эцсийн үлдэгдэл | H26: Эхний үлдэгдэл | I26: Эцсийн үлдэгдэл | J26: Эхний үлдэгдэл | K26: Эцсийн үлдэгдэл | L26: Эхний үлдэгдэл | M26: Эцсийн үлдэгдэл | N26: Эхний үлдэгдэл | O26: Эцсийн үлдэгдэл | P26: Эхний үлдэгдэл | Q26: Эцсийн үлдэгдэл | R26: Эхний үлдэгдэл | S26: Эцсийн үлдэгдэл | T26: Эхний үлдэгдэл | U26: Эцсийн үлдэгдэл | V26: Эхний үлдэгдэл | W26: Эцсийн үлдэгдэл | X26: Эхний үлдэгдэл | Y26: Эцсийн үлдэгдэл | Z26: Эхний үлдэгдэл | AA26: Эцсийн үлдэгдэл
B27: 1 | C27: ААНОАТ-ын авлага | D27: =+F27+H27+J27+L27+N27+P27+R27+T27+V27+X27+Z27 -> 7.8648607e+09 | E27: =+G27+I27+K27+M27+O27+Q27+S27+U27+W27+Y27+AA27 -> 3.7101957e+09 | F27: 7.6404967e+09 | G27: 1.2409844e+09 | H27: 27005219 | J27: 31485493 | K27: 78302961 | M27: 1.675195e+09 | O27: 7.1571336e+08 | P27: 1.6587331e+08
B28: 2 | C28: НӨАТ-ын авлага | D28: =+F28+H28+J28+L28+N28+P28+R28+T28+V28+X28+Z28 -> 1.1614796e+10 | E28: =+G28+I28+K28+M28+O28+Q28+S28+U28+W28+Y28+AA28 -> 8.8222398e+09 | F28: 2.0471787e+09 | G28: 3.4790233e+09 | J28: 1.5488907e+09 | K28: 2.1383619e+09 | L28: 4.7313198e+08 | M28: 1.1829216e+09 | N28: 1.0618914e+09 | O28: 2.067376e+08 | P28: 1.0838876e+08 | R28: 6.3753143e+09 | S28: 1.8151954e+09
B29: 3 | C29: НДШ-ийн авлага | D29: =+F29+H29+J29+L29+N29+P29+R29+T29+V29+X29+Z29 -> 11313789 | E29: =+G29+I29+K29+M29+O29+Q29+S29+U29+W29+Y29+AA29 -> 9229066.3 | F29: 7313821.8 | G29: 399064.57 | I29: 131367.09 | J29: 583661.32 | K29: 262359.59 | L29: 1334584 | M29: 1881961.9 | N29: 1305837.9 | O29: 901653 | P29: 775883.88 | Q29: 5652660.2
B30: 4 | C30: Бусад татварын авлага | D30: =+F30+H30+J30+L30+N30+P30+R30+T30+V30+X30+Z30 -> 3.7443647e+09 | E30: =+G30+I30+K30+M30+O30+Q30+S30+U30+W30+Y30+AA30-E33 -> 2.8958023e+09 | F30: 3.2166612e+09 | G30: 2.5550356e+09 | L30: 1507911.9 | M30: 60839761 | N30: 3.6673861e+08 | O30: 1.5128723e+08 | T30: 159457000 | U30: 91782900 | V30: 0 | W30: 0 | X30: 0 | Y30: 36856807
C31: Нийт дүн | D31: =SUM(D27:D30) -> 2.3235335e+10 | E31: =SUM(E27:E30) -> 1.5437467e+10 | F31: =SUM(F27:F30) -> 1.291165e+10 | G31: =SUM(G27:G30) -> 7.2754424e+09 | H31: =SUM(H27:H30) -> 27005219 | I31: =SUM(I27:I30) -> 131367.09 | J31: =SUM(J27:J30) -> 1.5809598e+09 | K31: =SUM(K27:K30) -> 2.2169272e+09 | ... S31: =SUM(S27:S30) -> 1.8151954e+09
B36: 4.3. Бусад богино хугацаат авлага
F37: APU | H37: APUT | J37: APUD | L37: MBC | N37: SBB | P37: SBBT | R37: DC | T37: Grand | V37: Grand East | X37: Aipiyou | Z37: Console | AB37: elimination
B38: № | C38: Үзүүлэлт | D38: Эхний үлдэгдэл | E38: Эцсийн үлдэгдэл | F38: Эхний үлдэгдэл | G38: Эцсийн үлдэгдэл | H38: Эхний үлдэгдэл | I38: Эцсийн үлдэгдэл | J38: Эхний үлдэгдэл | K38: Эцсийн үлдэгдэл | L38: Эхний үлдэгдэл | M38: Эцсийн үлдэгдэл | N38: Эхний үлдэгдэл | O38: Эцсийн үлдэгдэл | P38: Эхний үлдэгдэл | Q38: Эцсийн үлдэгдэл | R38: Эхний үлдэгдэл | S38: Эцсийн үлдэгдэл | T38: Эхний үлдэгдэл | U38: Эцсийн үлдэгдэл | V38: Эхний үлдэгдэл | W38: Эцсийн үлдэгдэл | X38: Эхний үлдэгдэл | Y38: Эцсийн үлдэгдэл | Z38: Эхний үлдэгдэл | AA38: Эцсийн үлдэгдэл | AB38: Эхний үлдэгдэл | AC38: Эцсийн үлдэгдэл
B39: 1 | C39: Холбоотой талаас авах авлагын тайлант хугацаанд хамаарах дүн | D39: =+F39+H39+J39+L39+N39+P39+R39+T39+V39+X39+Z39 -> 4.0105754e+08 | E39: =+G39+I39+K39+M39+O39+Q39+S39+U39+W39+Y39+AA39+AC39 -> 54161306 | F39: 3.7955403e+08 | G39: 54161306 | R39: 21503515 | S39: 0
B40: 2 | C40: Ажиллагчдаас авах авлага | D40: =+F40+H40+J40+L40+N40+P40+R40+T40+V40+X40+Z40 -> 7.1536881e+08 | E40: =+G40+I40+K40+M40+O40+Q40+S40+U40+W40+Y40+AA40 -> 36480575 | F40: 2982693.1 | G40: 0 | J40: 60734815 | K40: 36480575 | L40: 48337881 | M40: 0 | R40: 6.0331343e+08 | S40: 0
B41: 3 | C41: Ноогдол ашгийн авлага | D41: =+F41+H41+J41+L41+N41+P41+R41+T41+V41+X41+Z41 -> 0 | E41: =+G41+I41+K41+M41+O41+Q41+S41+U41+W41+Y41+AA41 -> 0 | R41: 0
B42: 4 | C42: Хүүний авлага | D42: =+F42+H42+J42+L42+N42+P42+R42+T42+V42+X42+Z42 -> 0 | E42: =+G42+I42+K42+M42+O42+Q42+S42+U42+W42+Y42+AA42 -> 0 | F42: 0 | R42: 0
B43: 5 | C43: Богино хугацаат авлагын бичиг | D43: =+F43+H43+J43+L43+N43+P43+R43+T43+V43+X43+Z43 -> 0 | E43: =+G43+I43+K43+M43+O43+Q43+S43+U43+W43+Y43+AA43 -> 0 | R43: 0
B44: 6 | C44: Бусад талуудаас авах авлага | D44: =+F44+H44+J44+L44+N44+P44+R44+T44+V44+X44+Z44 -> 1.2796184e+10 | E44: =+G44+I44+K44+M44+O44+Q44+S44+U44+W44+Y44+AA44 -> 1.4915249e+10 | F44: 8596214128 | G44: 1.2781061e+10 | H44: 4.2810436e+08 | I44: 9.1735934e+08 | L44: 1.0348828e+08 | M44: 6.9457879e+08 | P44: 16725158 | Q44: 5.2224962e+08 | R44: 3.6516525e+09 | S44: 0
B45: 7 | C45: Бусад | D45: =+F45+H45+J45+L45+N45+P45+R45+T45+V45+X45+Z45 -> 5.3523561e+08 | E45: =+G45+I45+K45+M45+O45+Q45+S45+U45+W45+Y45+AA45-AC45 -> 5.0892346e+09 | F45: 0 | J45: 1.5328096e+08 | K45: 2.0707935e+09 | L45: 0 | N45: 2.066382e+08 | O45: 1.6392067e+09 | R45: 0 | T45: 6.4442687e+08 | U45: 836508000 | V45: 9.6265202e+08 | W45: 291809000 | X45: 0 | Y45: 15527477 | Z45: -1.4317625e+09 | AA45: =-14976752+0.2 -> -14976752 | AC45: -2.5036665e+08
C46: Нийт дүн | D46: =SUM(D39:D45) -> 1.4447846e+10 | E46: =SUM(E39:E45) -> 2.0095126e+10 | F46: =SUM(F39:F45) -> 8.9787508e+09 | G46: =SUM(G39:G45) -> 1.2835223e+10 | H46: =SUM(H39:H45) -> 4.2810436e+08 | I46: =SUM(I39:I45) -> 9.1735934e+08 | J46: =SUM(J39:J45) -> 2.1401578e+08 | K46: =SUM(K39:K45) -> 2.1072741e+09 | ... S46: =SUM(S39:S45) -> 0
B47: Тэмдэглэл
B53: 5. Бусад санхүүгийн хөрөнгө
...

Sheet Disclosure 2025
A1: Байгууллагын нэр: АПУ
A2: Регистр: 2702673
B4: 1. Мөнгө түүнтэй адилтгах хөрөнгө
B6: № | C6: Үзүүлэлт | D6: Эхний үлдэгдэл | E6: Эцсийн үлдэгдэл
B7: 1 | C7: Касс дахь мөнгө | D7: 3.6621734e+09 | E7: 2.3274136e+09
B8: 2 | C8: Банкин дахь мөнгө | D8: 8.9312151e+10 | E8: 1.0664466e+11
B9: 3 | C9: Мөнгөтэй адилтгах хөрөнгө | E9: 0
B10: 4 | C10: Нийт дүн | D10: =SUM(D7:D9) -> 9.2974324e+10 | E10: =SUM(E7:E9) -> 1.0897208e+11
B11: Тэмдэглэл
B14: 4.1. Дансны авлага
B16: № | C16: Үзүүлэлт | D16: Дансны авлага | E16: Найдваргүй авлагын хасагдуулга | F16: Дансны авлага (цэвэр дүнгээр)
B17: 1 | C17: Эхний үлдэгдэл | D17: 7.5201041e+10 | E17: 7.068534e+08 | F17: 74494188000
B18: 2 | C18: Нэмэгдсэн | D18: =+'Disclosure working 2025'!D15 -> 3.9860276e+11 | E18: =+'Disclosure working 2025'!E15 -> 0 | F18: =+D18-E18 -> 3.9860276e+11
B19: 3 | C19: Хасагдсан | D19: =SUM(D20:D21) -> 3.8889991e+11 | E19: =SUM(E20:E21) -> 0 | F19: =SUM(F20:F21) -> 3.8889991e+11
B20: 3.1 | C20: -Төлөгдсөн | D20: =+'Disclosure working 2025'!D17 -> 3.8889991e+11 | E20: =+'Disclosure working 2025'!E17 -> 0 | F20: =+D20-E20 -> 3.8889991e+11
B21: 3.2 | C21: -Найдваргүй болсон | D21: =+'Disclosure working 2025'!D18 -> 0 | E21: =+'Disclosure working 2025'!E18 -> 0 | F21: =+D21-E21 -> 0
B22: 4 | C22: Эцсийн үлдэгдэл | D22: =+D17+D18-D19 -> 8.4903893e+10 | E22: =+E17+E18-E19 -> 7.068534e+08 | F22: =+F17+F18-F19 -> 84197039735
F23: =+F22-BS!E11 -> 0
B25: 4.2. Татвар, НДШ-ийн авлага
B27: № | C27: Үзүүлэлт | D27: Эхний үлдэгдэл | E27: Эцсийн үлдэгдэл
B28: 1 | C28: ААНОАТ-ын авлага | D28: 3.7101957e+09 | E28: 5.8889178e+09
B29: 2 | C29: НӨАТ-ын авлага | D29: 8.8222398e+09 | E29: 1.528788e+10
B30: 3 | C30: НДШ-ийн авлага | D30: 9229066.3 | E30: 13975646
B31: 4 | C31: Бусад татварын авлага | D31: 3.8571664e+09 | E31: 2.9073578e+09
C32: Нийт дүн | D32: =SUM(D28:D31) -> 16398831000 | E32: =SUM(E28:E31) -> 2.4098131e+10
B35: 4.3. Бусад богино хугацаат авлага
B37: № | C37: Үзүүлэлт | D37: Эхний үлдэгдэл | E37: Эцсийн үлдэгдэл
B38: 1 | C38: Холбоотой талаас авах авлагын тайлант хугацаанд хамаарах дүн | D38: 20164115 | E38: =+'Disclosure working 2025'!E39 -> 54161306
B39: 2 | C39: Ажиллагчдаас авах авлага | D39: 7.1536881e+08 | E39: =+'Disclosure working 2025'!E40 -> 36480575
B40: 3 | C40: Ноогдол ашгийн авлага | D40: 0 | E40: =+'Disclosure working 2025'!E41 -> 0
B41: 4 | C41: Хүүний авлага | D41: 0 | E41: =+'Disclosure working 2025'!E42 -> 0
B42: 5 | C42: Богино хугацаат авлагын бичиг | D42: 0 | E42: =+'Disclosure working 2025'!E43 -> 0
B43: 6 | C43: Бусад талуудаас авах авлага | D43: 1.2796184e+10 | E43: =+'Disclosure working 2025'!E44 -> 1.4915249e+10
B44: 7 | C44: Бусад | D44: 1.673141e+10 | E44: =+'Disclosure working 2025'!E45 -> 5.0892346e+09
C45: Нийт дүн | D45: =SUM(D38:D44) -> 30263127000 | E45: =SUM(E38:E44) -> 2.0095126e+10
E46: =+E45-BS!E13 -> 0
B48: 5. Бусад санхүүгийн хөрөнгө
B50: № | C50: Үзүүлэлт | D50: Эхний үлдэгдэл | E50: Эцсийн үлдэгдэл
B51: 1 | C51: Бусад санхүүгийн хөрөнгө | D51: 0 | E51: 0
C52: Нийт дүн | D52: =SUM(D51) -> 0 | E52: =SUM(E51) -> 0
...
